From mboxrd@z Thu Jan 1 00:00:00 1970 Return-Path: Received: from mails.dpdk.org (mails.dpdk.org [217.70.189.124]) by inbox.dpdk.org (Postfix) with ESMTP id F2C8B466BE for ; Sun, 4 May 2025 14:52:09 +0200 (CEST) Received: from mails.dpdk.org (localhost [127.0.0.1]) by mails.dpdk.org (Postfix) with ESMTP id C99E04025D; Sun, 4 May 2025 14:52:09 +0200 (CEST) Received: from mail-oa1-f97.google.com (mail-oa1-f97.google.com [209.85.160.97]) by mails.dpdk.org (Postfix) with ESMTP id EB0DD40156 for ; Sun, 4 May 2025 14:52:08 +0200 (CEST) Received: by mail-oa1-f97.google.com with SMTP id 586e51a60fabf-2c873231e7bso2507353fac.3 for ; Sun, 04 May 2025 05:52:08 -0700 (PDT) DKIM-Signature: v=1; a=rsa-sha256; c=relaxed/relaxed; d=iol.unh.edu; s=unh-iol; t=1746363128; x=1746967928; darn=dpdk.org; h=references:in-reply-to:cc:to:from:subject:message-id:date:from:to :cc:subject:date:message-id:reply-to; bh=32Sx8GFmix2k24aG2wmach7SRvqmgXtU+JxOHb8/xUc=; b=D5Fh4dxGk3ZMadS95WPuAK0Zp29vWGcTY96DeXW2eN69GhS2FzZ18vEKkhTtgf2XqL TKby5QPeOhSvBWFw4NjwCv56oZfhBvYfwKr8wJ+mTDNA9jq4gxC3VQ6AM+lXwoAgsee0 OO3aQjN/Y5TlDo9iOQvAqMFMAmgwlDBcuKq4Q= X-Google-DKIM-Signature: v=1; a=rsa-sha256; c=relaxed/relaxed; d=1e100.net; s=20230601; t=1746363128; x=1746967928; h=references:in-reply-to:cc:to:from:subject:message-id:date :x-gm-message-state:from:to:cc:subject:date:message-id:reply-to; bh=32Sx8GFmix2k24aG2wmach7SRvqmgXtU+JxOHb8/xUc=; b=nmm/MHPenMjPaCSQf9ZUtfbwVUD5NArRBNBv2SszvOo9bUpTwSi5klhsnksZB7qMG1 deZK3HVC/zpHYTKHoLX1F7mtqdE0eexnmR6pRtcnoytcie6uoqaHX6cfxUumLAL9SIqC h/Ktujsb/9FLh7WlL33eIn91ppuFENSqzKgMkWz+kD/OjnMKuKZ36rEhUwDcBbVtB7O3 3BdfPv9jGXYcvxgofVnBHV0sdS8SgPzdc42qR30TCYuglRckWUh0h90xtkm5f4sSSzrS JKlVwJD6mJZsaB/nlc54l5K5FSFCFbr3ce9Ha1RzZ4r09mnplhVOCFUXHjWy9SMj8mLn 1tJg== X-Gm-Message-State: AOJu0YxUI4pyoLRCk6uJgbaNUNqYCgx/Gp64SDEPhabYj+Ccv70ofL70 vwN/Q/k4N5Erq7c1l0ExH5Wuzxhb1t/rky5NEUsVrEnrWT0Y6L2+DCOjRzX7IHTFeixnWOc344I 35MeHw/MqyplJ/5pug1cc1NAyvAqv+4SJrErV4T0x X-Gm-Gg: ASbGncuWHVlJx19jkLZbB9TCbY+ppYGKocGLaJi98//q9D0L6iZVC9v3API506ofuCI 006ZbaqgHSvuPLzhygG+3IUa1YevMej2O9PrEr1DXPD884QK25NV0SB5fbeUxFEzfsCbYp31Rqi /PcaD+u+YbMIz3NP08bv2WKfGlsnKYO5hI3y3FWL/r87l5QbLux6QDDBbM/StHRZ4ymceH51IiK DywV+9/Za+UgskJprqkGww36ca2+YABF4q8C3gaZ3em/fj2rT+YRkRTjdoy8tUwIu2IIIDNOJVU ShjkwpM0YfE56uLL5uA3Acd0+c/QfxVjTUoGw48Tff6V+3V9bYTPHo1nPBI= X-Google-Smtp-Source: AGHT+IF/Mfx0LYmdoAdIdGd9aonSY6qCJ3d0wnBIyCWXVTQx1N/LLkz1JiQ2e83igJeTypiD7h+/YVvQxZQ/ X-Received: by 2002:a05:6870:1596:b0:2d8:5015:1a90 with SMTP id 586e51a60fabf-2dae82e089amr1980096fac.2.1746363127931; Sun, 04 May 2025 05:52:07 -0700 (PDT) Received: from postal.iol.unh.edu (postal.iol.unh.edu. [132.177.123.84]) by smtp-relay.gmail.com with ESMTPS id 586e51a60fabf-2daa12087aesm1660998fac.35.2025.05.04.05.52.07 (version=TLS1_2 cipher=ECDHE-ECDSA-AES128-GCM-SHA256 bits=128/128); Sun, 04 May 2025 05:52:07 -0700 (PDT) X-Relaying-Domain: iol.unh.edu Date: Sun, 04 May 2025 05:52:07 -0700 (PDT) Message-ID: <681762f7.050a0220.143421.0b86SMTPIN_ADDED_MISSING@mx.google.com> Received: from [172.17.0.3] (unknown [172.18.0.76]) by postal.iol.unh.edu (Postfix) with ESMTP id 5C30D6052471; Sun, 4 May 2025 08:52:07 -0400 (EDT) Subject: |SUCCESS| pw153228 [PATCH] net/ice: update log message From: dpdklab@iol.unh.edu To: Test Report Cc: dpdk-test-reports@iol.unh.edu In-Reply-To: <20250502152601.699443-1-dhanya.r.pillai@intel.com> References: <20250502152601.699443-1-dhanya.r.pillai@intel.com> Content-Type: text/plain X-BeenThere: test-report@dpdk.org X-Mailman-Version: 2.1.29 Precedence: list List-Id: automatic DPDK test reports List-Unsubscribe: , List-Archive: List-Post: List-Help: List-Subscribe: , Errors-To: test-report-bounces@dpdk.org Test-Label: iol-compile-amd64-testing Test-Status: SUCCESS http://dpdk.org/patch/153228 _Testing PASS_ Submitter: Pillai, Dhanya R Date: Friday, May 02 2025 15:25:59 DPDK git baseline: Repo:dpdk Branch: master CommitID:2665bfb9838fec7ea6c3b2be5831f93ee087b288 153228 --> testing pass Upstream job id: Generic-DPDK-Compile-Meson#384819 Test environment and result as below: +-----------------------------------+-------------------+--------------------+-------------------------+----------------------+-------------------+------------------+ | Environment | dpdk_msvc_compile | dpdk_meson_compile | dpdk_llvm_clang_compile | dpdk_mingw64_compile | dpdk_compile_spdk | dpdk_compile_ovs | +===================================+===================+====================+=========================+======================+===================+==================+ | Windows Server 2022 | PASS | SKIPPED | PASS | PASS | SKIPPED | SKIPPED | +-----------------------------------+-------------------+--------------------+-------------------------+----------------------+-------------------+------------------+ | Ubuntu 20.04 | SKIPPED | PASS | SKIPPED | SKIPPED | SKIPPED | SKIPPED | +-----------------------------------+-------------------+--------------------+-------------------------+----------------------+-------------------+------------------+ | FreeBSD 13.5 | SKIPPED | PASS | SKIPPED | SKIPPED | SKIPPED | SKIPPED | +-----------------------------------+-------------------+--------------------+-------------------------+----------------------+-------------------+------------------+ | FreeBSD 14.2 | SKIPPED | PASS | SKIPPED | SKIPPED | SKIPPED | SKIPPED | +-----------------------------------+-------------------+--------------------+-------------------------+----------------------+-------------------+------------------+ | CentOS Stream 9 | SKIPPED | PASS | SKIPPED | SKIPPED | PASS | SKIPPED | +-----------------------------------+-------------------+--------------------+-------------------------+----------------------+-------------------+------------------+ | CentOS Stream 10 | SKIPPED | PASS | SKIPPED | SKIPPED | SKIPPED | SKIPPED | +-----------------------------------+-------------------+--------------------+-------------------------+----------------------+-------------------+------------------+ | Debian 12 | SKIPPED | PASS | SKIPPED | SKIPPED | PASS | SKIPPED | +-----------------------------------+-------------------+--------------------+-------------------------+----------------------+-------------------+------------------+ | Fedora 40 (Clang) | SKIPPED | PASS | SKIPPED | SKIPPED | PASS | SKIPPED | +-----------------------------------+-------------------+--------------------+-------------------------+----------------------+-------------------+------------------+ | Fedora 41 (Clang) | SKIPPED | PASS | SKIPPED | SKIPPED | PASS | PASS | +-----------------------------------+-------------------+--------------------+-------------------------+----------------------+-------------------+------------------+ | Fedora 41 | SKIPPED | PASS | SKIPPED | SKIPPED | PASS | PASS | +-----------------------------------+-------------------+--------------------+-------------------------+----------------------+-------------------+------------------+ | openSUSE Leap 15 | SKIPPED | PASS | SKIPPED | SKIPPED | SKIPPED | SKIPPED | +-----------------------------------+-------------------+--------------------+-------------------------+----------------------+-------------------+------------------+ | RHEL8 | SKIPPED | PASS | SKIPPED | SKIPPED | SKIPPED | SKIPPED | +-----------------------------------+-------------------+--------------------+-------------------------+----------------------+-------------------+------------------+ | RHEL9 | SKIPPED | PASS | SKIPPED | SKIPPED | SKIPPED | SKIPPED | +-----------------------------------+-------------------+--------------------+-------------------------+----------------------+-------------------+------------------+ | Ubuntu 22.04 | SKIPPED | PASS | SKIPPED | SKIPPED | PASS | SKIPPED | +-----------------------------------+-------------------+--------------------+-------------------------+----------------------+-------------------+------------------+ | Fedora 40 | SKIPPED | PASS | SKIPPED | SKIPPED | PASS | SKIPPED | +-----------------------------------+-------------------+--------------------+-------------------------+----------------------+-------------------+------------------+ | Ubuntu 24.04 | SKIPPED | PASS | SKIPPED | SKIPPED | PASS | PASS | +-----------------------------------+-------------------+--------------------+-------------------------+----------------------+-------------------+------------------+ | Alpine | SKIPPED | PASS | SKIPPED | SKIPPED | SKIPPED | SKIPPED | +-----------------------------------+-------------------+--------------------+-------------------------+----------------------+-------------------+------------------+ | Ubuntu 24.04 32 Bit Cross Compile | SKIPPED | PASS | SKIPPED | SKIPPED | SKIPPED | SKIPPED | +-----------------------------------+-------------------+--------------------+-------------------------+----------------------+-------------------+------------------+ Windows Server 2022 Kernel: 10.0.20348.2031 Compiler: clang 15.0.7, gcc 14.1.0 (MinGW), and MSVC VS 19.39.33521 Ubuntu 20.04 Kernel: 4.19.325-0419325-generic Compiler: gcc (Ubuntu 9.4.0-1ubuntu1~20.04.2) 9.4.0 FreeBSD 13.5 Kernel: 13.5-RELEASE Compiler: clang 19.1.7 FreeBSD 14.2 Kernel: 14.2-RELEASE Compiler: clang 18.1.6 CentOS Stream 9 Kernel: Depends on container host Compiler: gcc 11.5.0 20240719 (Red Hat 11.5.0-2) CentOS Stream 10 Kernel: Depends on container host Compiler: gcc 14.2.1 20241104 (Red Hat 14.2.1-6) Debian 12 Kernel: Depends on container host Compiler: gcc (Debian 12.2.0-14) 12.2.0 Fedora 40 (Clang) Kernel: Depends on container host Compiler: clang 18.1.8 (Fedora 18.1.8-1.fc40) Fedora 41 (Clang) Kernel: Depends on container host Compiler: clang 19.1.5 (Fedora 19.1.5-1.fc41) Fedora 41 Kernel: Depends on container host Compiler: gcc 14.2.1 20240912 (Red Hat 14.2.1-3) openSUSE Leap 15 Kernel: Depends on container host Compiler: gcc (SUSE Linux) 7.5.0 RHEL8 Kernel: Depends on container host Compiler: gcc 8.5.0 20210514 (Red Hat 8.5.0-22) RHEL9 Kernel: Depends on container host Compiler: gcc 11.5.0 20240719 (Red Hat 11.5.0-2) Ubuntu 22.04 Kernel: Depends on container host Compiler: gcc (Ubuntu 11.4.0-1ubuntu1~22.04) 11.4.0 Fedora 40 Kernel: Depends on container host Compiler: gcc 14.2.1 20240912 (Red Hat 14.2.1-3) Ubuntu 24.04 Kernel: Depends on container host Compiler: gcc (Ubuntu 13.3.0-6ubuntu2~24.04) 13.3.0 Alpine Kernel: Depends on container host Compiler: gcc (Alpine 14.2.0) 14.2.0 Ubuntu 24.04 32 Bit Cross Compile Kernel: Depends on container host Compiler: gcc (Ubuntu 13.3.0-6ubuntu2~24.04) 13.3.0 To view detailed results, visit: https://lab.dpdk.org/results/dashboard/patchsets/33098/ UNH-IOL DPDK Community Lab To manage your email subscriptions, visit: https://lab.dpdk.org/results/dashboard/preferences/subscriptions/