From mboxrd@z Thu Jan 1 00:00:00 1970 Return-Path: Received: from mails.dpdk.org (mails.dpdk.org [217.70.189.124]) by inbox.dpdk.org (Postfix) with ESMTP id 78FFB466BE for ; Sun, 4 May 2025 14:58:11 +0200 (CEST) Received: from mails.dpdk.org (localhost [127.0.0.1]) by mails.dpdk.org (Postfix) with ESMTP id 4FC134025D; Sun, 4 May 2025 14:58:11 +0200 (CEST) Received: from mail-yb1-f228.google.com (mail-yb1-f228.google.com [209.85.219.228]) by mails.dpdk.org (Postfix) with ESMTP id 75C7140156 for ; Sun, 4 May 2025 14:58:10 +0200 (CEST) Received: by mail-yb1-f228.google.com with SMTP id 3f1490d57ef6-e743bffc234so2817579276.3 for ; Sun, 04 May 2025 05:58:10 -0700 (PDT) DKIM-Signature: v=1; a=rsa-sha256; c=relaxed/relaxed; d=iol.unh.edu; s=unh-iol; t=1746363490; x=1746968290; darn=dpdk.org; h=cc:to:from:subject:message-id:date:from:to:cc:subject:date :message-id:reply-to; bh=PzT0C1E2pAbwNhA3Xn/r0wkjljxeRtgmf3c9lMC5R7g=; b=TtI41qMUHW1MZe45gIbGQfpe4SPIr62WKUnzRX42IcX2iY+x1L1LS6dmPOyoOCu6+a um0v3X9KVAYo2vnhVioJfMKHdhNroog+ywnHQnYGMteqfJf/h896e0/J0ZDZAMyQf//e c8vxB9HkQwK4mE98XdTEX0lGjR+C2Ll54loxw= X-Google-DKIM-Signature: v=1; a=rsa-sha256; c=relaxed/relaxed; d=1e100.net; s=20230601; t=1746363490; x=1746968290; h=cc:to:from:subject:message-id:date:x-gm-message-state:from:to:cc :subject:date:message-id:reply-to; bh=PzT0C1E2pAbwNhA3Xn/r0wkjljxeRtgmf3c9lMC5R7g=; b=kFrfdJHNp0fgaJOvx80RmjkuBd3akhsiZQEonP/5jfs+uerPot4tDKJ1lg7VAXDkRS RxW+8JSklseny6Z7Py9EKfBdo+bssdGmT2c9p5ccfuW4+x+coAFj4WiFp2mZ2iHVu2fS ydAnUxKf2S9P/NVSoWFkrJK2Kwdt6f+mLYG+MhHQlam7ObkwCzuS4J6yQSmpI0+f+28H i+NyPofXTRxdNFqm8ZcVMpBuNDkP+ZKsuVK+TT5WdMwLm7qrR1ITq/148Hj/Ak+Zc4B8 Vk3eRBULA/NVLiEFQPJTVX8yMMV/ewPHpzSmLXfdxmYYuHhjLV7HC82vujdE+vOmJaTJ vjKA== X-Gm-Message-State: AOJu0Yxh5R418mNeb17S0ddQ69LKkupmqlVgItx6hKOW5da8VwUrJWi+ BdmeCXRd4kb7NbOqZTSnHvtnwcqyA/HsEgw5oWjyVwZP67hNc76nobqSQf5QLwRcOG9aiab8Jo2 vAdsg7q/vwAqU2VBBtM3gx4Q4mbU06OOW X-Gm-Gg: ASbGncubsNKOqQa1DbxDhtq2v9cQQqWGvC6DFZ/NaVDkBK5c2SCg/APNPCs2JWvJiBM MXdIf3At/vyp1seaGdD+6TLPYLWNpPmd3ZPlAeSlLOMylHxcuYEBS7diqO0lBvTNUxn+GrLilO8 +41x9kvIWpVkkva9/ZqlmcgDmIjFy9CNHJEv/QEdsFPsNZYOsD7j+x3X2DwWTB9Zil4MBOYPZry uRTE4hVW/LP4LeP2p9i5ujEpezq7vCdqUQNcBFMgZjPunTtSySseDrFde55xGdyLAf8NKPSJZfA j1O0zCvWnrHGtjrd+Jmd9pqCzT+9Xeybrpm+9liYBBMKLVAio3qAoyyfLpc= X-Google-Smtp-Source: AGHT+IFMxpCQwxkCFvOlOMyGuba+ZQbKIuRk23/zW/ZDfaZerxLC/vv2Emk/SD9ivlTbbxFBV+SchOZFwyrj X-Received: by 2002:a05:6902:1882:b0:e72:bd60:9cca with SMTP id 3f1490d57ef6-e757d2e7ff7mr4592184276.23.1746363489793; Sun, 04 May 2025 05:58:09 -0700 (PDT) Received: from postal.iol.unh.edu (postal.iol.unh.edu. [132.177.123.84]) by smtp-relay.gmail.com with ESMTPS id 3f1490d57ef6-e7587d4c354sm530180276.30.2025.05.04.05.58.09 (version=TLS1_2 cipher=ECDHE-ECDSA-AES128-GCM-SHA256 bits=128/128); Sun, 04 May 2025 05:58:09 -0700 (PDT) X-Relaying-Domain: iol.unh.edu Date: Sun, 04 May 2025 05:58:09 -0700 (PDT) Message-ID: <68176461.250a0220.26ecd1.4878SMTPIN_ADDED_MISSING@mx.google.com> Received: from [172.17.0.2] (unknown [172.18.0.76]) by postal.iol.unh.edu (Postfix) with ESMTP id 2EEBF6052471; Sun, 4 May 2025 08:58:09 -0400 (EDT) Subject: |SUCCESS| [GIT MASTER] 83a7a648344674c0269fcaeb71d8d16468421a0e From: dpdklab@iol.unh.edu To: Test Report Cc: dpdk-test-reports@iol.unh.edu, Xueming Li , Christian Ehrhardt , Kevin Traynor , Luca Boccassi Content-Type: text/plain X-BeenThere: test-report@dpdk.org X-Mailman-Version: 2.1.29 Precedence: list List-Id: automatic DPDK test reports List-Unsubscribe: , List-Archive: List-Post: List-Help: List-Subscribe: , Errors-To: test-report-bounces@dpdk.org _Testing PASS_ Branch: tags/v23.11 83a7a648344674c0269fcaeb71d8d16468421a0e --> testing pass Upstream job id: ACVP-FIPS-testing#9701 Test environment and result as below: +--------------------+----------------------+----------------------+ | Environment | compressdev_zlib_pmd | dpdk_fips_validation | +====================+======================+======================+ | Ubuntu 22.04 (ARM) | PASS | SKIPPED | +--------------------+----------------------+----------------------+ | Ubuntu 22.04 | PASS | SKIPPED | +--------------------+----------------------+----------------------+ | Ubuntu 20.04 | SKIPPED | PASS | +--------------------+----------------------+----------------------+ Ubuntu 22.04 (ARM) Kernel: 5.15.0-97-generic Compiler: gcc gcc (Ubuntu 11.4.0-1ubuntu1~22.04) 11.4.0 Ubuntu 22.04 Kernel: 5.15.0-100-generic Compiler: gcc gcc (Ubuntu 11.4.0-1ubuntu1~22.04) 11.4.0 Ubuntu 20.04 Kernel: Depends on container host Compiler: gcc (Ubuntu 9.4.0-1ubuntu1~20.04.2) 9.4.0 To view detailed results, visit: https://lab.dpdk.org/results/dashboard/tarballs/33420/ UNH-IOL DPDK Community Lab To manage your email subscriptions, visit: https://lab.dpdk.org/results/dashboard/preferences/subscriptions/