From mboxrd@z Thu Jan 1 00:00:00 1970 Return-Path: Received: from mails.dpdk.org (mails.dpdk.org [217.70.189.124]) by inbox.dpdk.org (Postfix) with ESMTP id E3288466BE for ; Sun, 4 May 2025 15:28:53 +0200 (CEST) Received: from mails.dpdk.org (localhost [127.0.0.1]) by mails.dpdk.org (Postfix) with ESMTP id AEAD14025D; Sun, 4 May 2025 15:28:53 +0200 (CEST) Received: from mail-oo1-f98.google.com (mail-oo1-f98.google.com [209.85.161.98]) by mails.dpdk.org (Postfix) with ESMTP id C3E7940156 for ; Sun, 4 May 2025 15:28:52 +0200 (CEST) Received: by mail-oo1-f98.google.com with SMTP id 006d021491bc7-607dceb1afdso2401411eaf.3 for ; Sun, 04 May 2025 06:28:52 -0700 (PDT) DKIM-Signature: v=1; a=rsa-sha256; c=relaxed/relaxed; d=iol.unh.edu; s=unh-iol; t=1746365332; x=1746970132; darn=dpdk.org; h=references:in-reply-to:cc:to:from:subject:message-id:date:from:to :cc:subject:date:message-id:reply-to; bh=itGZSDaU9vieVhmwcVFzOELjqlmS86e51DtpfOLcyD4=; b=QB7n1+kim23jXeMMHIAPiSPgoczFI9zXw5YuOW9SBR7S049oIoWksXmQS9LSogquas zl1/sUdTFFBQdtPj+QV9zxr5h4N+WmRTceuE2kkq5naR3ELzFJq2y0ChwSIryXnaipqQ EavfRZ8IFCl0ruyo4zimGfWPYIG+YeDBF3qTA= X-Google-DKIM-Signature: v=1; a=rsa-sha256; c=relaxed/relaxed; d=1e100.net; s=20230601; t=1746365332; x=1746970132; h=references:in-reply-to:cc:to:from:subject:message-id:date :x-gm-message-state:from:to:cc:subject:date:message-id:reply-to; bh=itGZSDaU9vieVhmwcVFzOELjqlmS86e51DtpfOLcyD4=; b=plz/1GqOo2yCtj1PSfaQOqxb/LuyLbxp0WeCEdiDLozPPii7CTdrKIHF3YAiqFeHnH PCTOJomOVYZRhEaaKbRVlVvJ6MZDPrLUPHAvisG1PQqD6uHPbV/Hcb+wCfOWeBI8XdkO l7zFNj0dWfF2Rq940rinG+/0h6z5Bp0oJUg+g0eqzlUNjzus46bt1Bsd79/KDWV9f9n1 qOxfcVAmjrElil55UW8/tLEk2R8Q7tuyxskHxCniwM10HgbwWYxCqTaUK/sGrKWwGnkQ leOKW3LYnzI8XUA4C+RLUYM58RzMymhDmyADq3Ysnpz6NH/sWXvVD2Pck+DbV/aUk/Jn 9hQg== X-Gm-Message-State: AOJu0Yz0qR6V99rMaIbgxLWW5YlgSUpRd0Sf4dXJ2jYmHh47wf1HUE6v iZkh2SO7ex/VvMquYaUPt+Hst2LiprtfCXp1QvPx5Xbg7t2vrrcmHvFqfPAnSQ9GggLPUl8iHQg 10UNXL6DNkkM9rzaRlI+pv9NVan3qFgwcIHL08xV7xqMTCJvijOw3S7JS X-Gm-Gg: ASbGncvFA4LOoWZsGc3lcERfC6daUatU3geRj382Yn8mNzeRDhw4eA4zTSpSaWEmToK 9/dPfMuq0oYkS/e3gxKiwkGJwU17TzTOBxAQSVI2pm6gMuZUi7+6gvmd+dHZl4AiNzg4RQcfsck 8SJMnCSs9qsFX5etd2fd7QP7XylIeH4pgMP5yeZGw2pqCnR5EiO5xNV+m62C+388fqXv8eQXjq6 wc6t+p5GcmWaoO3Graa/PGpU3PKWCLAdzA8T0NgJXElLJ5qRV7T69N1g80qXHobYmwKncbTd2kH d1dConUAN6J8UkzxfmbXp237Ob5EVhj0sFYU X-Google-Smtp-Source: AGHT+IFo2cvJsNwNZA7K5Xr7JjFLKHyxod514E4vALb8iPvRs9WwnLYLMEoiDPRk2Ugh7YKdR5KANLWHdatg X-Received: by 2002:a4a:e845:0:b0:607:ae77:59eb with SMTP id 006d021491bc7-60800221a29mr2354934eaf.2.1746365331845; Sun, 04 May 2025 06:28:51 -0700 (PDT) Received: from postal.iol.unh.edu (postal.iol.unh.edu. [2606:4100:3880:1234::84]) by smtp-relay.gmail.com with ESMTPS id 006d021491bc7-607e7cc6316sm1220968eaf.4.2025.05.04.06.28.51 (version=TLS1_2 cipher=ECDHE-ECDSA-AES128-GCM-SHA256 bits=128/128); Sun, 04 May 2025 06:28:51 -0700 (PDT) X-Relaying-Domain: iol.unh.edu Date: Sun, 04 May 2025 06:28:51 -0700 (PDT) Message-ID: <68176b93.4a0a0220.178349.cfdfSMTPIN_ADDED_MISSING@mx.google.com> Received: from [172.17.0.2] (unknown [172.18.0.74]) by postal.iol.unh.edu (Postfix) with ESMTP id C76816052471; Sun, 4 May 2025 09:28:50 -0400 (EDT) Subject: |SUCCESS| pw153228 [PATCH] net/ice: update log message From: dpdklab@iol.unh.edu To: Test Report Cc: dpdk-test-reports@iol.unh.edu In-Reply-To: <20250502152601.699443-1-dhanya.r.pillai@intel.com> References: <20250502152601.699443-1-dhanya.r.pillai@intel.com> Content-Type: text/plain X-BeenThere: test-report@dpdk.org X-Mailman-Version: 2.1.29 Precedence: list List-Id: automatic DPDK test reports List-Unsubscribe: , List-Archive: List-Post: List-Help: List-Subscribe: , Errors-To: test-report-bounces@dpdk.org Test-Label: iol-compile-amd64-testing Test-Status: SUCCESS http://dpdk.org/patch/153228 _Testing PASS_ Submitter: Pillai, Dhanya R Date: Friday, May 02 2025 15:25:59 DPDK git baseline: Repo:dpdk Branch: master CommitID:2665bfb9838fec7ea6c3b2be5831f93ee087b288 153228 --> testing pass Upstream job id: Generic-DPDK-Compile-Meson#384841 Test environment and result as below: +-----------------------------------+--------------------+-------------------+-------------------------+----------------------+-------------------+------------------+ | Environment | dpdk_meson_compile | dpdk_msvc_compile | dpdk_llvm_clang_compile | dpdk_mingw64_compile | dpdk_compile_spdk | dpdk_compile_ovs | +===================================+====================+===================+=========================+======================+===================+==================+ | Ubuntu 20.04 | PASS | SKIPPED | SKIPPED | SKIPPED | SKIPPED | SKIPPED | +-----------------------------------+--------------------+-------------------+-------------------------+----------------------+-------------------+------------------+ | FreeBSD 13.5 | PASS | SKIPPED | SKIPPED | SKIPPED | SKIPPED | SKIPPED | +-----------------------------------+--------------------+-------------------+-------------------------+----------------------+-------------------+------------------+ | FreeBSD 14.2 | PASS | SKIPPED | SKIPPED | SKIPPED | SKIPPED | SKIPPED | +-----------------------------------+--------------------+-------------------+-------------------------+----------------------+-------------------+------------------+ | CentOS Stream 9 | PASS | SKIPPED | SKIPPED | SKIPPED | PASS | SKIPPED | +-----------------------------------+--------------------+-------------------+-------------------------+----------------------+-------------------+------------------+ | CentOS Stream 10 | PASS | SKIPPED | SKIPPED | SKIPPED | SKIPPED | SKIPPED | +-----------------------------------+--------------------+-------------------+-------------------------+----------------------+-------------------+------------------+ | Debian 12 | PASS | SKIPPED | SKIPPED | SKIPPED | PASS | SKIPPED | +-----------------------------------+--------------------+-------------------+-------------------------+----------------------+-------------------+------------------+ | Fedora 40 (Clang) | PASS | SKIPPED | SKIPPED | SKIPPED | PASS | SKIPPED | +-----------------------------------+--------------------+-------------------+-------------------------+----------------------+-------------------+------------------+ | Fedora 40 | PASS | SKIPPED | SKIPPED | SKIPPED | PASS | SKIPPED | +-----------------------------------+--------------------+-------------------+-------------------------+----------------------+-------------------+------------------+ | Fedora 41 (Clang) | PASS | SKIPPED | SKIPPED | SKIPPED | PASS | PASS | +-----------------------------------+--------------------+-------------------+-------------------------+----------------------+-------------------+------------------+ | openSUSE Leap 15 | PASS | SKIPPED | SKIPPED | SKIPPED | SKIPPED | SKIPPED | +-----------------------------------+--------------------+-------------------+-------------------------+----------------------+-------------------+------------------+ | Fedora 41 | PASS | SKIPPED | SKIPPED | SKIPPED | PASS | PASS | +-----------------------------------+--------------------+-------------------+-------------------------+----------------------+-------------------+------------------+ | RHEL8 | PASS | SKIPPED | SKIPPED | SKIPPED | SKIPPED | SKIPPED | +-----------------------------------+--------------------+-------------------+-------------------------+----------------------+-------------------+------------------+ | RHEL9 | PASS | SKIPPED | SKIPPED | SKIPPED | SKIPPED | SKIPPED | +-----------------------------------+--------------------+-------------------+-------------------------+----------------------+-------------------+------------------+ | Ubuntu 22.04 | PASS | SKIPPED | SKIPPED | SKIPPED | PASS | SKIPPED | +-----------------------------------+--------------------+-------------------+-------------------------+----------------------+-------------------+------------------+ | Ubuntu 24.04 | PASS | SKIPPED | SKIPPED | SKIPPED | PASS | PASS | +-----------------------------------+--------------------+-------------------+-------------------------+----------------------+-------------------+------------------+ | Alpine | PASS | SKIPPED | SKIPPED | SKIPPED | SKIPPED | SKIPPED | +-----------------------------------+--------------------+-------------------+-------------------------+----------------------+-------------------+------------------+ | Ubuntu 24.04 32 Bit Cross Compile | PASS | SKIPPED | SKIPPED | SKIPPED | SKIPPED | SKIPPED | +-----------------------------------+--------------------+-------------------+-------------------------+----------------------+-------------------+------------------+ | Windows Server 2022 | SKIPPED | PASS | PASS | PASS | SKIPPED | SKIPPED | +-----------------------------------+--------------------+-------------------+-------------------------+----------------------+-------------------+------------------+ Ubuntu 20.04 Kernel: 4.19.325-0419325-generic Compiler: gcc (Ubuntu 9.4.0-1ubuntu1~20.04.2) 9.4.0 FreeBSD 13.5 Kernel: 13.5-RELEASE Compiler: clang 19.1.7 FreeBSD 14.2 Kernel: 14.2-RELEASE Compiler: clang 18.1.6 CentOS Stream 9 Kernel: Depends on container host Compiler: gcc 11.5.0 20240719 (Red Hat 11.5.0-2) CentOS Stream 10 Kernel: Depends on container host Compiler: gcc 14.2.1 20241104 (Red Hat 14.2.1-6) Debian 12 Kernel: Depends on container host Compiler: gcc (Debian 12.2.0-14) 12.2.0 Fedora 40 (Clang) Kernel: Depends on container host Compiler: clang 18.1.8 (Fedora 18.1.8-1.fc40) Fedora 40 Kernel: Depends on container host Compiler: gcc 14.2.1 20240912 (Red Hat 14.2.1-3) Fedora 41 (Clang) Kernel: Depends on container host Compiler: clang 19.1.5 (Fedora 19.1.5-1.fc41) openSUSE Leap 15 Kernel: Depends on container host Compiler: gcc (SUSE Linux) 7.5.0 Fedora 41 Kernel: Depends on container host Compiler: gcc 14.2.1 20240912 (Red Hat 14.2.1-3) RHEL8 Kernel: Depends on container host Compiler: gcc 8.5.0 20210514 (Red Hat 8.5.0-22) RHEL9 Kernel: Depends on container host Compiler: gcc 11.5.0 20240719 (Red Hat 11.5.0-2) Ubuntu 22.04 Kernel: Depends on container host Compiler: gcc (Ubuntu 11.4.0-1ubuntu1~22.04) 11.4.0 Ubuntu 24.04 Kernel: Depends on container host Compiler: gcc (Ubuntu 13.3.0-6ubuntu2~24.04) 13.3.0 Alpine Kernel: Depends on container host Compiler: gcc (Alpine 14.2.0) 14.2.0 Ubuntu 24.04 32 Bit Cross Compile Kernel: Depends on container host Compiler: gcc (Ubuntu 13.3.0-6ubuntu2~24.04) 13.3.0 Windows Server 2022 Kernel: 10.0.20348.2031 Compiler: clang 15.0.7, gcc 14.1.0 (MinGW), and MSVC VS 19.39.33521 To view detailed results, visit: https://lab.dpdk.org/results/dashboard/patchsets/33098/ UNH-IOL DPDK Community Lab To manage your email subscriptions, visit: https://lab.dpdk.org/results/dashboard/preferences/subscriptions/