From mboxrd@z Thu Jan 1 00:00:00 1970 Return-Path: Received: from mails.dpdk.org (mails.dpdk.org [217.70.189.124]) by inbox.dpdk.org (Postfix) with ESMTP id 91CC9466BE for ; Sun, 4 May 2025 15:36:49 +0200 (CEST) Received: from mails.dpdk.org (localhost [127.0.0.1]) by mails.dpdk.org (Postfix) with ESMTP id 725814025D; Sun, 4 May 2025 15:36:49 +0200 (CEST) Received: from mail-oa1-f98.google.com (mail-oa1-f98.google.com [209.85.160.98]) by mails.dpdk.org (Postfix) with ESMTP id 52E7A40156 for ; Sun, 4 May 2025 15:36:48 +0200 (CEST) Received: by mail-oa1-f98.google.com with SMTP id 586e51a60fabf-2da14a6f89aso1056487fac.2 for ; Sun, 04 May 2025 06:36:48 -0700 (PDT) DKIM-Signature: v=1; a=rsa-sha256; c=relaxed/relaxed; d=iol.unh.edu; s=unh-iol; t=1746365807; x=1746970607; darn=dpdk.org; h=references:in-reply-to:cc:to:from:subject:message-id:date:from:to :cc:subject:date:message-id:reply-to; bh=9Noi9S3gRHZc4cZwIkLOqGeL8Xul8h66SGfCqylKXtg=; b=QHfouvbnu32UQM4Jbl4v+PyZe+IajqJbzK1S1imu4uHFcXpZuJfaKoq8qfX3s7bRG3 rTzgUiXAJwsbODOzE5jvgzJ4DJ0k3XIt/3lqNMAJPhxJiyueWKs4Yb2dHKJ+S7wThwWY co0wZ1zp56FFqN8M6/ltKC30XBH/jsxGN6Vjk= X-Google-DKIM-Signature: v=1; a=rsa-sha256; c=relaxed/relaxed; d=1e100.net; s=20230601; t=1746365807; x=1746970607; h=references:in-reply-to:cc:to:from:subject:message-id:date :x-gm-message-state:from:to:cc:subject:date:message-id:reply-to; bh=9Noi9S3gRHZc4cZwIkLOqGeL8Xul8h66SGfCqylKXtg=; b=lvicZlXDi3vml7luh4vjzPInOZlHSArDsiKT3GCYfbsKHaNpKJACMi0xNClfvkXPd1 cAfmEFViM5t+gkoIeIzuJ9Azk+gCgp2KlvLxmvggrmv5uaQ17vgwFji3CWBQNhruX/pW HXyLeemHdADZBmDbMbeQGQg3e3ICzPcmo0weQzQ4AWQRNHDnNxX90j928rNTfL8p0/Aj qf4Oa7zi2ggVwm5mqws//LH+TRJuXNfwbQlEFxxcrFYrNwj5YaNi1D9MV4GUCyk69iFt 0YEiTx/XZ0c7keMThp4zWDDI3pr/Qez7C+QZidIHQrw8Owm34kdZKX48/HyqY6jqtcFS yubg== X-Gm-Message-State: AOJu0YxINiW4XACjEfdVLg1DAWOnGr1r5h0yqrwIAs5yOE+OB8+3R+D0 7JnXwCr4Oja+sqVo4UiY4DrYbVUQN82TpERt+5iv0OX0ZUQsjn8Ext1BS9xlQmmmh9JvrxTaf4i 5FYRFOIO1H48WY+2F7lJC6921ARJt81hnKHQxw6JQv119vWyq++I5kp+6 X-Gm-Gg: ASbGncvzsB216ajBLOQ7k1H3VFuzUCj5s+Gk3KNrJQOfR+NoFBIDaDqribGprygPIck +w+Bokwe1WnSEDCpDtbQLZqEuDytYdaPxF3uZZ6WQjrq3SvTPINCm04hDxk3i2QbnsLMHnn7wx4 jqZMc3FPbNJidnxP6MTChDwNVi99SjLP2SLszxSoIXCvXIe9nWXK1Nz/5EF5Oy5l1/7fMazrvLd tnVRN772WW6ccROnMfk0OtzGCRDyefPiQZBp2MCtt+cEoR0m8w77TqQZoHAYWivnrctt/ftNnsT hB+uHLarGPa3PHBC5tTAv53tT/0q39yFScGR X-Google-Smtp-Source: AGHT+IGS9HCKPZ427XqoojJHixLB4H89oqZrBand1Tqie33ByfTDQSXJ5But32Uc4/YyNZhSk8pr+PUHqytG X-Received: by 2002:a05:6870:8315:b0:2b7:d3f1:dc72 with SMTP id 586e51a60fabf-2dad6bff116mr3128004fac.29.1746365807386; Sun, 04 May 2025 06:36:47 -0700 (PDT) Received: from postal.iol.unh.edu (postal.iol.unh.edu. [2606:4100:3880:1234::84]) by smtp-relay.gmail.com with ESMTPS id 586e51a60fabf-2daa12054bbsm1664214fac.34.2025.05.04.06.36.47 (version=TLS1_2 cipher=ECDHE-ECDSA-AES128-GCM-SHA256 bits=128/128); Sun, 04 May 2025 06:36:47 -0700 (PDT) X-Relaying-Domain: iol.unh.edu Date: Sun, 04 May 2025 06:36:47 -0700 (PDT) Message-ID: <68176d6f.050a0220.277a97.04ffSMTPIN_ADDED_MISSING@mx.google.com> Received: from [172.17.0.2] (unknown [172.18.0.74]) by postal.iol.unh.edu (Postfix) with ESMTP id 6E0C3605247D; Sun, 4 May 2025 09:36:46 -0400 (EDT) Subject: |SUCCESS| pw153228 [PATCH] net/ice: update log message From: dpdklab@iol.unh.edu To: Test Report Cc: dpdk-test-reports@iol.unh.edu In-Reply-To: <20250502152601.699443-1-dhanya.r.pillai@intel.com> References: <20250502152601.699443-1-dhanya.r.pillai@intel.com> Content-Type: text/plain X-BeenThere: test-report@dpdk.org X-Mailman-Version: 2.1.29 Precedence: list List-Id: automatic DPDK test reports List-Unsubscribe: , List-Archive: List-Post: List-Help: List-Subscribe: , Errors-To: test-report-bounces@dpdk.org Test-Label: iol-compile-arm64-testing Test-Status: SUCCESS http://dpdk.org/patch/153228 _Testing PASS_ Submitter: Pillai, Dhanya R Date: Friday, May 02 2025 15:25:59 DPDK git baseline: Repo:dpdk Branch: master CommitID:2665bfb9838fec7ea6c3b2be5831f93ee087b288 153228 --> testing pass Upstream job id: Generic-DPDK-Compile-Meson#384811 Test environment and result as below: +----------------------------------------+--------------------+ | Environment | dpdk_meson_compile | +========================================+====================+ | RHEL9 (ARM) | PASS | +----------------------------------------+--------------------+ | Ubuntu 20.04 ARM GCC Cross Compile | PASS | +----------------------------------------+--------------------+ | Ubuntu 20.04 ARM SVE | PASS | +----------------------------------------+--------------------+ | Debian 12 with MUSDK | PASS | +----------------------------------------+--------------------+ | Fedora 40 (ARM) | PASS | +----------------------------------------+--------------------+ | Fedora 40 (ARM Clang) | PASS | +----------------------------------------+--------------------+ | Fedora 41 (ARM) | PASS | +----------------------------------------+--------------------+ | Fedora 41 (ARM Clang) | PASS | +----------------------------------------+--------------------+ | Ubuntu 20.04 (ARM) | PASS | +----------------------------------------+--------------------+ | Ubuntu 22.04 (ARM) | PASS | +----------------------------------------+--------------------+ | Ubuntu 24.04 (ARM) | PASS | +----------------------------------------+--------------------+ | CentOS Stream 9 (ARM) | PASS | +----------------------------------------+--------------------+ | CentOS Stream 10 (ARM) | PASS | +----------------------------------------+--------------------+ | Debian 12 (arm) | PASS | +----------------------------------------+--------------------+ | Ubuntu 20.04 ARM Clang Cross Compile | PASS | +----------------------------------------+--------------------+ | Ubuntu 20.04 aarch32 GCC Cross Compile | PASS | +----------------------------------------+--------------------+ RHEL9 (ARM) Kernel: Depends on container host Compiler: gcc 11.5.0 20240719 (Red Hat 11.5.0-2) Ubuntu 20.04 ARM GCC Cross Compile Kernel: Depends on container host Compiler: aarch64-linux-gnu-gcc (Ubuntu 9.4.0-1ubuntu1~20.04.2) 9.4.0 Ubuntu 20.04 ARM SVE Kernel: Depends on container host Compiler: gcc (Ubuntu 10.5.0-1ubuntu1~20.04) 10.5.0 Debian 12 with MUSDK Kernel: Depends on container host Compiler: gcc (Debian 12.2.0-14) 12.2.0 Fedora 40 (ARM) Kernel: Depends on container host Compiler: gcc 14.2.1 20240912 (Red Hat 14.2.1-3) Fedora 40 (ARM Clang) Kernel: Depends on container host Compiler: clang 18.1.8 (Fedora 18.1.8-1.fc40) Fedora 41 (ARM) Kernel: Depends on container host Compiler: gcc 14.2.1 20240912 (Red Hat 14.2.1-3) Fedora 41 (ARM Clang) Kernel: Depends on container host Compiler: clang 19.1.5 (Fedora 19.1.5-1.fc41) Ubuntu 20.04 (ARM) Kernel: Depends on container host Compiler: gcc (Ubuntu 9.4.0-1ubuntu1~20.04.2) 9.4.0 Ubuntu 22.04 (ARM) Kernel: Depends on container host Compiler: gcc (Ubuntu 11.4.0-1ubuntu1~22.04) 11.4.0 Ubuntu 24.04 (ARM) Kernel: Depends on container host Compiler: gcc (Ubuntu 13.3.0-6ubuntu2~24.04) 13.3.0 CentOS Stream 9 (ARM) Kernel: Depends on container host Compiler: gcc 11.5.0 20240719 (Red Hat 11.5.0-2) CentOS Stream 10 (ARM) Kernel: Depends on container host Compiler: gcc 14.2.1 20241104 (Red Hat 14.2.1-6) Debian 12 (arm) Kernel: Depends on container host Compiler: gcc (Debian 12.2.0-14) 12.2.0 Ubuntu 20.04 ARM Clang Cross Compile Kernel: Depends on container host Compiler: clang 10.0.0-4ubuntu1 Ubuntu 20.04 aarch32 GCC Cross Compile Kernel: Depends on container host Compiler: gcc 9.4.0 To view detailed results, visit: https://lab.dpdk.org/results/dashboard/patchsets/33098/ UNH-IOL DPDK Community Lab To manage your email subscriptions, visit: https://lab.dpdk.org/results/dashboard/preferences/subscriptions/