From mboxrd@z Thu Jan 1 00:00:00 1970 Return-Path: Received: from mails.dpdk.org (mails.dpdk.org [217.70.189.124]) by inbox.dpdk.org (Postfix) with ESMTP id B2AA2466BE for ; Sun, 4 May 2025 15:38:33 +0200 (CEST) Received: from mails.dpdk.org (localhost [127.0.0.1]) by mails.dpdk.org (Postfix) with ESMTP id 9E9B44025D; Sun, 4 May 2025 15:38:33 +0200 (CEST) Received: from mail-il1-f227.google.com (mail-il1-f227.google.com [209.85.166.227]) by mails.dpdk.org (Postfix) with ESMTP id E552240156 for ; Sun, 4 May 2025 15:38:31 +0200 (CEST) Received: by mail-il1-f227.google.com with SMTP id e9e14a558f8ab-3cfce97a3d9so15427165ab.2 for ; Sun, 04 May 2025 06:38:31 -0700 (PDT) DKIM-Signature: v=1; a=rsa-sha256; c=relaxed/relaxed; d=iol.unh.edu; s=unh-iol; t=1746365911; x=1746970711; darn=dpdk.org; h=references:in-reply-to:cc:to:from:subject:message-id:date:from:to :cc:subject:date:message-id:reply-to; bh=/c0OHcYUVK4aPHcCQRPiu4J/KJ3b3FzbAlPzCW+iRbI=; b=gaxQvrfSjYMwCwbNBHxdK6qVmomEWyMEb0a8UgYZS762cCqieeo6Hk6BoYL/VuDDaH hqaL+l5pIA+31tc5BDlp0WrRsBRawmo0s6SZB3L4RHDNxAs4eD9qsORMszZfi/SAqo+q hj2XcfaguF5aZ1pLWyjq03Bw6xkdFL+g1Igos= X-Google-DKIM-Signature: v=1; a=rsa-sha256; c=relaxed/relaxed; d=1e100.net; s=20230601; t=1746365911; x=1746970711; h=references:in-reply-to:cc:to:from:subject:message-id:date :x-gm-message-state:from:to:cc:subject:date:message-id:reply-to; bh=/c0OHcYUVK4aPHcCQRPiu4J/KJ3b3FzbAlPzCW+iRbI=; b=GjT8NZRypDTLq/NUfe+bscwWsoXXx6qV50TfrKF8sNDu7IZjkZ/IArLMdIVIO8WZBO WbPhtC2dJIO76ql0uXeXglysPmpqohhG4GosBH7zaxorIh02ds1E53uvsNomFDhN+GDc uMuwEBglxlQPvrdmwWZoZf7RE44KX8omrPr4AX7ZgC3mcfMpOGpvjtLJuUm4RWD0ZjgJ Zpp+qdIdjWB0Lj/SFiCQjh6GS6Xw7A0jFCskU+K/YOFDA6LZSa3WQIzY9vzm2hml+EHn 0GHog5pwJLQm+TxNITQFyv/E42Ni+TiHD5bc10Ic6lrSn/gr+4eT/hCQHMtVgn3ZuSkD kEUw== X-Gm-Message-State: AOJu0YyKyMXksZ9GljXAFjBR8TxRZM2TA93iYVWCh2cV8IvzREeWudSj jEcRho33FdvAabn+uSteuiqtKvmtgNY86BAFcECmWE7U8rwqbrUTMIiNJONGzI8rNxRv4rGPi6h GXQ1yQsNy09b58Jfnlg2Kymhq5E2OnLn6ruyeOEdvlU9ZR7f61qkeGyg0 X-Gm-Gg: ASbGncsCWhqL6d7J8bTowsU3E+lo6U6OxZqnT2vS2zCB5LeBouTZudf5pTX7FzDbBLJ eyPBLEn59C/ioXySbRHW270McPGsnxUtH+zWx0wJY87wRNhNQp3jO0oMrb/NH+pdbevEHGHk8sy Fmsk6Z8tQ/cRhpRnJ5N+2Anm1mAbVXDuDyzpNmkfZSln0BkK0YfY/HzsikSbw1roVZo078xSPJc lJEgaKfdbo2vsi/kXt8u060oSW/C0qcPqgU8phklfp5+g+DtW4VllcFRuh3Huy96/dR0Hh1gPyA 9fvsv7oUz+C2pjadU4Z6UHo9647peTU68/yF X-Google-Smtp-Source: AGHT+IEgsAwrkipB6KZkK6WWZqyVGp0y8trfsjptfC/RD8vKGWm3Ygi5t5MMkySENrr73iG/xw35SUkxMegf X-Received: by 2002:a05:6e02:2608:b0:3d5:e002:b8ac with SMTP id e9e14a558f8ab-3da5b271bc1mr34851035ab.9.1746365911202; Sun, 04 May 2025 06:38:31 -0700 (PDT) Received: from postal.iol.unh.edu (postal.iol.unh.edu. [2606:4100:3880:1234::84]) by smtp-relay.gmail.com with ESMTPS id 8926c6da1cb9f-4f88a8cd8ccsm1499687173.5.2025.05.04.06.38.31 (version=TLS1_2 cipher=ECDHE-ECDSA-AES128-GCM-SHA256 bits=128/128); Sun, 04 May 2025 06:38:31 -0700 (PDT) X-Relaying-Domain: iol.unh.edu Date: Sun, 04 May 2025 06:38:31 -0700 (PDT) Message-ID: <68176dd7.050a0220.3a278f.e556SMTPIN_ADDED_MISSING@mx.google.com> Received: from [172.17.0.2] (unknown [172.18.0.74]) by postal.iol.unh.edu (Postfix) with ESMTP id D40536052471; Sun, 4 May 2025 09:38:30 -0400 (EDT) Subject: |SUCCESS| pw153229 [PATCH] net/mlx5: fix support for meter flow acti From: dpdklab@iol.unh.edu To: Test Report Cc: dpdk-test-reports@iol.unh.edu In-Reply-To: <20250504052350.91160-1-getelson@nvidia.com> References: <20250504052350.91160-1-getelson@nvidia.com> Content-Type: text/plain X-BeenThere: test-report@dpdk.org X-Mailman-Version: 2.1.29 Precedence: list List-Id: automatic DPDK test reports List-Unsubscribe: , List-Archive: List-Post: List-Help: List-Subscribe: , Errors-To: test-report-bounces@dpdk.org Test-Label: iol-sample-apps-testing Test-Status: SUCCESS http://dpdk.org/patch/153229 _Testing PASS_ Submitter: Gregory Etelson Date: Sunday, May 04 2025 05:23:50 DPDK git baseline: Repo:dpdk Branch: master CommitID:edd3f4b1265e6da707c46ca9b6c39d332647baea 153229 --> testing pass Upstream job id: ACVP-FIPS-testing#9702 Test environment and result as below: +--------------------+----------------------+----------------------+ | Environment | compressdev_zlib_pmd | dpdk_fips_validation | +====================+======================+======================+ | Ubuntu 22.04 (ARM) | PASS | SKIPPED | +--------------------+----------------------+----------------------+ | Ubuntu 22.04 | PASS | SKIPPED | +--------------------+----------------------+----------------------+ | Ubuntu 20.04 | SKIPPED | PASS | +--------------------+----------------------+----------------------+ Ubuntu 22.04 (ARM) Kernel: 5.15.0-97-generic Compiler: gcc gcc (Ubuntu 11.4.0-1ubuntu1~22.04) 11.4.0 Ubuntu 22.04 Kernel: 5.15.0-100-generic Compiler: gcc gcc (Ubuntu 11.4.0-1ubuntu1~22.04) 11.4.0 Ubuntu 20.04 Kernel: Depends on container host Compiler: gcc (Ubuntu 9.4.0-1ubuntu1~20.04.2) 9.4.0 To view detailed results, visit: https://lab.dpdk.org/results/dashboard/patchsets/33099/ UNH-IOL DPDK Community Lab To manage your email subscriptions, visit: https://lab.dpdk.org/results/dashboard/preferences/subscriptions/