From mboxrd@z Thu Jan 1 00:00:00 1970 Return-Path: Received: from mails.dpdk.org (mails.dpdk.org [217.70.189.124]) by inbox.dpdk.org (Postfix) with ESMTP id ED96C466BF for ; Sun, 4 May 2025 16:07:47 +0200 (CEST) Received: from mails.dpdk.org (localhost [127.0.0.1]) by mails.dpdk.org (Postfix) with ESMTP id C9EFB4025D; Sun, 4 May 2025 16:07:47 +0200 (CEST) Received: from mail-pj1-f99.google.com (mail-pj1-f99.google.com [209.85.216.99]) by mails.dpdk.org (Postfix) with ESMTP id 5DCDE40156 for ; Sun, 4 May 2025 16:07:46 +0200 (CEST) Received: by mail-pj1-f99.google.com with SMTP id 98e67ed59e1d1-3018e2d042bso2397662a91.2 for ; Sun, 04 May 2025 07:07:46 -0700 (PDT) DKIM-Signature: v=1; a=rsa-sha256; c=relaxed/relaxed; d=iol.unh.edu; s=unh-iol; t=1746367665; x=1746972465; darn=dpdk.org; h=references:in-reply-to:cc:to:from:subject:message-id:date:from:to :cc:subject:date:message-id:reply-to; bh=DIPOhNjpNj+9QyoqFKUU0oSq9m61GCPe8JJupayNW7I=; b=iajoAZw3QgkUgD3cxM+LSmHC2xTAwEElB2vxonaKE5hsUwLRvyF76gIV+XdHlMQXWW FVmzOMHdJKZ271GxAEVlyf+Y3BjRah3L7/lNfoyMoSr1ZQ3K/KU57om9ZXfyvqgxCWQV jQ3zEbOvcymzjlXQokk7Ab9kv47mWFYcoxBRo= X-Google-DKIM-Signature: v=1; a=rsa-sha256; c=relaxed/relaxed; d=1e100.net; s=20230601; t=1746367665; x=1746972465; h=references:in-reply-to:cc:to:from:subject:message-id:date :x-gm-message-state:from:to:cc:subject:date:message-id:reply-to; bh=DIPOhNjpNj+9QyoqFKUU0oSq9m61GCPe8JJupayNW7I=; b=Vcggt4vkCwxupSwAJklq8nfv7zx8q3/50qo+rb3Lm++0TZ/tzNCizxHSaEi2bXs+D1 nhsh56sTkHFOx/4WlvHHniJjTHedMHmfrKZ/NgOgws1YbIqLsikPqLZ2ozoIAU74rKMC 1Zzx7XrZuY9id+vYk/rvOlaCNsjzsG+gIg6cG1EUjy9wtl51PL9SDcg5WUNDVvcsAsLe LT+lm1HIN/tI7bIP8cuHufqs/8TiOvVTXkzz9IxZBLfA+YIl4CDsBlWKItAotvcIxP4Y MmDeBpnXqjym3bkRR6lWUCBf3+fFchm/IPddC3cUNmW9tXOTwEx8XSYB31c8/J7ztLcu ri5w== X-Gm-Message-State: AOJu0YwjRm5uEkCATRNTHDkCY4GloPwFAmYtqGcRFagQMRCajzg71hDd 1OgYebMvKFMKU9AfBbgY7dNXbG6NBzLuaVuUrtvAuovYv+EofOcN5QXiQxptpKaqnPqgtL9eLmT UKEAcIff09VpgAsPWh5CH4af0/Rj1WCUGo3rPCHZt X-Gm-Gg: ASbGncuvwbzXlG0jj08zWW7paQcPDoltSOAeGUKKieGYUTzJ9OXJpA9zYnil4uIpWwr 9BWU7NeHOnaS9ShAdCYR+OYISPAW7x1nCrGfKb/XkILuRyu4zOwQHGxqhBkQ8SOcHUR1qMqop58 1aAZOmSSb6gxQ9xSbdgzQsM4HhXWvaqQknz1XuWPAQImKp51HQ0136NUN+qpM+yqn0J2PynGnKb T1VcBxnchJVryaxxzP2b7/FeX7GQHIo9BiZtjVciN7xpaMavrWSxa2N21IkvveTqY8pdb1wi2KJ arH6h8Xk+tE8irQafmTfLcxKI1GrQ1FzLJ0sD0L7NZz8AcnaVyT4lwK97Nc= X-Google-Smtp-Source: AGHT+IG4UMDfqiW6gQV+tYdUNA/QOmVGf1epBOE1Z/xQceCK6MbcyS+Ku7496jvDu7lOMSlBKLyHkW1sgoA+ X-Received: by 2002:a17:90b:4c12:b0:305:2d68:8d91 with SMTP id 98e67ed59e1d1-30a4e622226mr14318210a91.28.1746367665276; Sun, 04 May 2025 07:07:45 -0700 (PDT) Received: from postal.iol.unh.edu (postal.iol.unh.edu. [132.177.123.84]) by smtp-relay.gmail.com with ESMTPS id 98e67ed59e1d1-30a34841783sm2428342a91.15.2025.05.04.07.07.45 (version=TLS1_2 cipher=ECDHE-ECDSA-AES128-GCM-SHA256 bits=128/128); Sun, 04 May 2025 07:07:45 -0700 (PDT) X-Relaying-Domain: iol.unh.edu Date: Sun, 04 May 2025 07:07:45 -0700 (PDT) Message-ID: <681774b1.170a0220.237db.eb33SMTPIN_ADDED_MISSING@mx.google.com> Received: from [172.17.0.2] (unknown [172.18.0.74]) by postal.iol.unh.edu (Postfix) with ESMTP id ACB596052471; Sun, 4 May 2025 10:07:44 -0400 (EDT) Subject: |SUCCESS| pw153228 [PATCH] net/ice: update log message From: dpdklab@iol.unh.edu To: Test Report Cc: dpdk-test-reports@iol.unh.edu In-Reply-To: <20250502152601.699443-1-dhanya.r.pillai@intel.com> References: <20250502152601.699443-1-dhanya.r.pillai@intel.com> Content-Type: text/plain X-BeenThere: test-report@dpdk.org X-Mailman-Version: 2.1.29 Precedence: list List-Id: automatic DPDK test reports List-Unsubscribe: , List-Archive: List-Post: List-Help: List-Subscribe: , Errors-To: test-report-bounces@dpdk.org Test-Label: iol-sample-apps-testing Test-Status: SUCCESS http://dpdk.org/patch/153228 _Testing PASS_ Submitter: Pillai, Dhanya R Date: Friday, May 02 2025 15:25:59 DPDK git baseline: Repo:dpdk Branch: master CommitID:2665bfb9838fec7ea6c3b2be5831f93ee087b288 153228 --> testing pass Upstream job id: ACVP-FIPS-testing#9703 Test environment and result as below: +--------------------+----------------------+----------------------+ | Environment | compressdev_zlib_pmd | dpdk_fips_validation | +====================+======================+======================+ | Ubuntu 22.04 (ARM) | PASS | SKIPPED | +--------------------+----------------------+----------------------+ | Ubuntu 22.04 | PASS | SKIPPED | +--------------------+----------------------+----------------------+ | Ubuntu 20.04 | SKIPPED | PASS | +--------------------+----------------------+----------------------+ Ubuntu 22.04 (ARM) Kernel: 5.15.0-97-generic Compiler: gcc gcc (Ubuntu 11.4.0-1ubuntu1~22.04) 11.4.0 Ubuntu 22.04 Kernel: 5.15.0-100-generic Compiler: gcc gcc (Ubuntu 11.4.0-1ubuntu1~22.04) 11.4.0 Ubuntu 20.04 Kernel: Depends on container host Compiler: gcc (Ubuntu 9.4.0-1ubuntu1~20.04.2) 9.4.0 To view detailed results, visit: https://lab.dpdk.org/results/dashboard/patchsets/33098/ UNH-IOL DPDK Community Lab To manage your email subscriptions, visit: https://lab.dpdk.org/results/dashboard/preferences/subscriptions/