From mboxrd@z Thu Jan 1 00:00:00 1970 Return-Path: Received: from mails.dpdk.org (mails.dpdk.org [217.70.189.124]) by inbox.dpdk.org (Postfix) with ESMTP id F0968466BF for ; Sun, 4 May 2025 16:33:57 +0200 (CEST) Received: from mails.dpdk.org (localhost [127.0.0.1]) by mails.dpdk.org (Postfix) with ESMTP id C56F54025D; Sun, 4 May 2025 16:33:57 +0200 (CEST) Received: from mail-vk1-f228.google.com (mail-vk1-f228.google.com [209.85.221.228]) by mails.dpdk.org (Postfix) with ESMTP id B0D5A40156 for ; Sun, 4 May 2025 16:33:56 +0200 (CEST) Received: by mail-vk1-f228.google.com with SMTP id 71dfb90a1353d-524168b16d3so2465502e0c.0 for ; Sun, 04 May 2025 07:33:56 -0700 (PDT) DKIM-Signature: v=1; a=rsa-sha256; c=relaxed/relaxed; d=iol.unh.edu; s=unh-iol; t=1746369236; x=1746974036; darn=dpdk.org; h=references:in-reply-to:cc:to:from:subject:message-id:date:from:to :cc:subject:date:message-id:reply-to; bh=1CEwGmMKu7iC1laU7Kn2SaghsvdBIzAZLrKfHjVuf7Q=; b=il38Kim+izuA7Z4dE9glvW4ooImveLTMQno9tAydyNgj19izYlWOCpbSCj4JuppsFx oIZtCpmQ+/vo3zPhLuMdxQw3BXGA/wiQ6dKGwexOfOWvc3nQOykN40x0/TE8hFpVUWaQ JYwUQhE17QfxJz+q0+DlvZjhGI63e6ZD1BAgA= X-Google-DKIM-Signature: v=1; a=rsa-sha256; c=relaxed/relaxed; d=1e100.net; s=20230601; t=1746369236; x=1746974036; h=references:in-reply-to:cc:to:from:subject:message-id:date :x-gm-message-state:from:to:cc:subject:date:message-id:reply-to; bh=1CEwGmMKu7iC1laU7Kn2SaghsvdBIzAZLrKfHjVuf7Q=; b=obCppJL0TxBc8uinAuT5EiVcQkvjmCrF4DVHF1A/DPmqtboph2CDn+5uk/P5jUtP3p zrqNeneM5e4b2wHYoZGJGPZKWOHSYR/UZHhJUkxjo0zwmwGzv7NqugKkrTWQ0F5Ci2/2 9J4kIKRk2999OgspRxw9KGYEqMQkdlWm6QJinIikprbS6DT8fiD9BiwindnqQLLx6afm F38lddMZoJR0WSxGpFzMrgQHzLeBPgLopZG0z4l5Ohl6cr6xlrw1BLaCQq+0ZmNFN7UY LQaiUVCLHgog8i+sNmcKHLeXeOzeT4QuOfZbWeW+WL0ylOUAwoGgCs5vxgCWkgnYeBQs iFRQ== X-Gm-Message-State: AOJu0YyDV3ywOIRWKVZmSdgIvLq1zrW+Y1bBPQ+bkDFjjELkERP6abHO PpfSco3TYpeSSoIy94ujjt/ukrLNBEaTgP97+nOSPaGUA0PXk5ewdjLr6LnZrFQ3mY58CQSH5RN ys7Uz70m80m32tB5sQ4lecC7PdH2iuDwv92JqlJBXhgGPBLvWoRswVvGt X-Gm-Gg: ASbGncu/LzzPFB2ylb/x3aTEtDbUBGWJJgKUYOdDXbZGETtVS/ntOyZvsktGMI06CKB 6SRzzwvOdVfys0fut7M3oi0ni9LJ09RIhzwyM0/iKYeHM9VD5/Z5+/+AnMlsFpNbxQVTap3f1TU ReEehcvstlpqHTugxSHk6f9EazVK47UuoATgJE3qri6ppeBhKOtp7Ao2gMT5+1nOspWiUksemca 22XgHvOkUMuZlWUTT+hIfVLfknvE3rlK5WgSR56Se8Y4xe3daFotc0ReInQbOZ01PmSkMxKECa0 51SFPMb/c1kBEyAbjKIP/YWXgLFzf0n27C2S X-Google-Smtp-Source: AGHT+IE5F+muVAQSWbCKb5KLqdGgzBnpkmndY69TR9smIlFu4RLRn6u1Ym+mVwkgjFHXVH+0P/LBd5pn/1vk X-Received: by 2002:a05:6122:17a3:b0:520:98ec:b25c with SMTP id 71dfb90a1353d-52b06857f14mr1509161e0c.1.1746369235871; Sun, 04 May 2025 07:33:55 -0700 (PDT) Received: from postal.iol.unh.edu (postal.iol.unh.edu. [2606:4100:3880:1234::84]) by smtp-relay.gmail.com with ESMTPS id 71dfb90a1353d-52ae41343d3sm1660836e0c.9.2025.05.04.07.33.55 (version=TLS1_2 cipher=ECDHE-ECDSA-AES128-GCM-SHA256 bits=128/128); Sun, 04 May 2025 07:33:55 -0700 (PDT) X-Relaying-Domain: iol.unh.edu Date: Sun, 04 May 2025 07:33:55 -0700 (PDT) Message-ID: <68177ad3.050a0220.3959c8.fbedSMTPIN_ADDED_MISSING@mx.google.com> Received: from [172.17.0.2] (unknown [172.18.0.74]) by postal.iol.unh.edu (Postfix) with ESMTP id 46F5C6052471; Sun, 4 May 2025 10:33:55 -0400 (EDT) Subject: |SUCCESS| pw153228 [PATCH] net/ice: update log message From: dpdklab@iol.unh.edu To: Test Report Cc: dpdk-test-reports@iol.unh.edu In-Reply-To: <20250502152601.699443-1-dhanya.r.pillai@intel.com> References: <20250502152601.699443-1-dhanya.r.pillai@intel.com> Content-Type: text/plain X-BeenThere: test-report@dpdk.org X-Mailman-Version: 2.1.29 Precedence: list List-Id: automatic DPDK test reports List-Unsubscribe: , List-Archive: List-Post: List-Help: List-Subscribe: , Errors-To: test-report-bounces@dpdk.org Test-Label: iol-sample-apps-testing Test-Status: SUCCESS http://dpdk.org/patch/153228 _Testing PASS_ Submitter: Pillai, Dhanya R Date: Friday, May 02 2025 15:25:59 DPDK git baseline: Repo:dpdk Branch: master CommitID:2665bfb9838fec7ea6c3b2be5831f93ee087b288 153228 --> testing pass Upstream job id: ACVP-FIPS-testing#9704 Test environment and result as below: +--------------------+----------------------+----------------------+ | Environment | compressdev_zlib_pmd | dpdk_fips_validation | +====================+======================+======================+ | Ubuntu 22.04 (ARM) | PASS | SKIPPED | +--------------------+----------------------+----------------------+ | Ubuntu 22.04 | PASS | SKIPPED | +--------------------+----------------------+----------------------+ | Ubuntu 20.04 | SKIPPED | PASS | +--------------------+----------------------+----------------------+ Ubuntu 22.04 (ARM) Kernel: 5.15.0-97-generic Compiler: gcc gcc (Ubuntu 11.4.0-1ubuntu1~22.04) 11.4.0 Ubuntu 22.04 Kernel: 5.15.0-100-generic Compiler: gcc gcc (Ubuntu 11.4.0-1ubuntu1~22.04) 11.4.0 Ubuntu 20.04 Kernel: Depends on container host Compiler: gcc (Ubuntu 9.4.0-1ubuntu1~20.04.2) 9.4.0 To view detailed results, visit: https://lab.dpdk.org/results/dashboard/patchsets/33098/ UNH-IOL DPDK Community Lab To manage your email subscriptions, visit: https://lab.dpdk.org/results/dashboard/preferences/subscriptions/