From mboxrd@z Thu Jan 1 00:00:00 1970 Return-Path: Received: from mails.dpdk.org (mails.dpdk.org [217.70.189.124]) by inbox.dpdk.org (Postfix) with ESMTP id 3AC58466C5 for ; Mon, 5 May 2025 07:14:10 +0200 (CEST) Received: from mails.dpdk.org (localhost [127.0.0.1]) by mails.dpdk.org (Postfix) with ESMTP id 14EF44025D; Mon, 5 May 2025 07:14:10 +0200 (CEST) Received: from mail-yw1-f227.google.com (mail-yw1-f227.google.com [209.85.128.227]) by mails.dpdk.org (Postfix) with ESMTP id F0A5F40156 for ; Mon, 5 May 2025 07:14:08 +0200 (CEST) Received: by mail-yw1-f227.google.com with SMTP id 00721157ae682-707d02aca67so29159377b3.2 for ; Sun, 04 May 2025 22:14:08 -0700 (PDT) DKIM-Signature: v=1; a=rsa-sha256; c=relaxed/relaxed; d=iol.unh.edu; s=unh-iol; t=1746422048; x=1747026848; darn=dpdk.org; h=cc:to:from:subject:message-id:date:from:to:cc:subject:date :message-id:reply-to; bh=ScvNsEy25UWMQ0l4H6Sf0ioiCxpvHjcJi0eVQH7qa6M=; b=cbgKzfNEJEy5xdmhn1OQGsEYYDMad75SJBfEhwmE4Uvdd5p9oMT7FjIFpWD14Jceq9 GhzS0q1B1kscbcw8/aeLnoS4s/PLH+NNH81/MhNIfe+dXmPJb/fearge9khdInfLTuXF F6QnrUnAsarVZt5zLF+zV98ZjQIdxTWVapsRo= X-Google-DKIM-Signature: v=1; a=rsa-sha256; c=relaxed/relaxed; d=1e100.net; s=20230601; t=1746422048; x=1747026848; h=cc:to:from:subject:message-id:date:x-gm-message-state:from:to:cc :subject:date:message-id:reply-to; bh=ScvNsEy25UWMQ0l4H6Sf0ioiCxpvHjcJi0eVQH7qa6M=; b=ZMSsigsI/Pf15idh93QOAI1kv+SD4ZanDmXc5TjnBfPC/QEvLTolpRm6BIZQ3uk5DK 8s5ZQEoho2fzIX+SL/g+3cYEepgo+rtF4y9gMwW9cZJ+Px3HsX4Gfxk+JxtIWviAbdfL 7fylNmTjzOeqcMDyMSERUXAkB6ABX3Uv4COtE1MmJTdSNNyq1vx7OVjweIFI7J49baRm 4EP7WDR+NgG7aSBGclpI/Z9hbQfuTaw8BjBUSI693hjOVwEwRb/yFOG/THapYjLRFNT0 I20CvoKkcZJLicSyu6LrMESRfsEOWSBkqL90j1ip5wptWr0a4u0o0bkWljIa11Tl+2/Z U5rg== X-Gm-Message-State: AOJu0Yx4fkUgzZ09SHWu2Aj6KZUHLf3vSUB9ibFp09+kkR0qe3CvJpgN EdpviFR8QxvJFsqOs+U1xPFRk7X0wXv5dZzB73/067FAXzEsFkLyA3pdpYPpSO/x01HzIhJBFqn 0fgieFlAXzjr8N18r4W59iIU+g8vA/CtZuY5COZ/tB6hSxI6c X-Gm-Gg: ASbGncsanK90ugoQBEVspzE6tcB6Wi2K2/9vZd9whTVNKrhLF1iXSAFb/ti7Ep6GoVb wD4I8seXHDHXE4TCj5Z8Yrft+OzCn4lsVD48kTUywB6yJCSSQXgADsbpP91Cad5mZqGaBthfYEh ImlYCAXLnb3E3VD9ni9W4yTeR2VPWSKLVA70jYSqAMAkd4diNchvpToT5L8Q2TH3fjb2FtNP8y6 0fiQPiPGF8d3iu4zeLOT3udpvrhKgTl18hQfp9mGXR/+omSK4fRFXvE+ByU6Lg6dgxzSReqptWx DLadd8F2cfs4NnaSaPyza4IDHIUTrcrr/+bd X-Google-Smtp-Source: AGHT+IGeNpOsTee+hEsOwxrtNZab3Tefh4WrBBCVtCs+xvkQJltwPwkqgTbHJgk6uRFHIHvHEmxurrrVN4oz X-Received: by 2002:a05:690c:360b:b0:706:ae3b:cca1 with SMTP id 00721157ae682-708e1344019mr87482757b3.29.1746422048290; Sun, 04 May 2025 22:14:08 -0700 (PDT) Received: from postal.iol.unh.edu (postal.iol.unh.edu. [2606:4100:3880:1234::84]) by smtp-relay.gmail.com with ESMTPS id 00721157ae682-708c412a895sm20769837b3.15.2025.05.04.22.14.08 (version=TLS1_2 cipher=ECDHE-ECDSA-AES128-GCM-SHA256 bits=128/128); Sun, 04 May 2025 22:14:08 -0700 (PDT) X-Relaying-Domain: iol.unh.edu Date: Sun, 04 May 2025 22:14:08 -0700 (PDT) Message-ID: <68184920.0d0a0220.1f3c0c.cf39SMTPIN_ADDED_MISSING@mx.google.com> Received: from [172.21.0.7] (unknown [172.18.0.240]) by postal.iol.unh.edu (Postfix) with ESMTP id DE81D6052471; Mon, 5 May 2025 01:14:07 -0400 (EDT) Subject: |SUCCESS| [GIT MASTER] 4c5634de9f933555bab9c64a533d3dca999071cd From: dpdklab@iol.unh.edu To: Test Report Cc: dpdk-test-reports@iol.unh.edu, Xueming Li , Christian Ehrhardt , Kevin Traynor , Luca Boccassi Content-Type: text/plain X-BeenThere: test-report@dpdk.org X-Mailman-Version: 2.1.29 Precedence: list List-Id: automatic DPDK test reports List-Unsubscribe: , List-Archive: List-Post: List-Help: List-Subscribe: , Errors-To: test-report-bounces@dpdk.org _Testing PASS_ Branch: tags/v24.11 4c5634de9f933555bab9c64a533d3dca999071cd --> testing pass Upstream job id: Generic-DPDK-Compile-ABI#125160 Test environment and result as below: +-------------------+----------+ | Environment | abi_test | +===================+==========+ | CentOS Stream 9 | PASS | +-------------------+----------+ | Debian 12 | PASS | +-------------------+----------+ | CentOS Stream 10 | PASS | +-------------------+----------+ | Fedora 41 (Clang) | PASS | +-------------------+----------+ | Fedora 40 (Clang) | PASS | +-------------------+----------+ | Fedora 40 | PASS | +-------------------+----------+ | Fedora 41 | PASS | +-------------------+----------+ | RHEL9 | PASS | +-------------------+----------+ | RHEL8 | PASS | +-------------------+----------+ | openSUSE Leap 15 | PASS | +-------------------+----------+ | Ubuntu 24.04 | PASS | +-------------------+----------+ | Ubuntu 22.04 | PASS | +-------------------+----------+ CentOS Stream 9 Kernel: Depends on container host Compiler: gcc 11.5.0 20240719 (Red Hat 11.5.0-2) Debian 12 Kernel: Depends on container host Compiler: gcc (Debian 12.2.0-14) 12.2.0 CentOS Stream 10 Kernel: Depends on container host Compiler: gcc 14.2.1 20241104 (Red Hat 14.2.1-6) Fedora 41 (Clang) Kernel: Depends on container host Compiler: clang 19.1.5 (Fedora 19.1.5-1.fc41) Fedora 40 (Clang) Kernel: Depends on container host Compiler: clang 18.1.8 (Fedora 18.1.8-1.fc40) Fedora 40 Kernel: Depends on container host Compiler: gcc 14.2.1 20240912 (Red Hat 14.2.1-3) Fedora 41 Kernel: Depends on container host Compiler: gcc 14.2.1 20240912 (Red Hat 14.2.1-3) RHEL9 Kernel: Depends on container host Compiler: gcc 11.5.0 20240719 (Red Hat 11.5.0-2) RHEL8 Kernel: Depends on container host Compiler: gcc 8.5.0 20210514 (Red Hat 8.5.0-22) openSUSE Leap 15 Kernel: Depends on container host Compiler: gcc (SUSE Linux) 7.5.0 Ubuntu 24.04 Kernel: Depends on container host Compiler: gcc (Ubuntu 13.3.0-6ubuntu2~24.04) 13.3.0 Ubuntu 22.04 Kernel: Depends on container host Compiler: gcc (Ubuntu 11.4.0-1ubuntu1~22.04) 11.4.0 To view detailed results, visit: https://lab.dpdk.org/results/dashboard/tarballs/33425/ UNH-IOL DPDK Community Lab To manage your email subscriptions, visit: https://lab.dpdk.org/results/dashboard/preferences/subscriptions/