From mboxrd@z Thu Jan 1 00:00:00 1970 Return-Path: Received: from mails.dpdk.org (mails.dpdk.org [217.70.189.124]) by inbox.dpdk.org (Postfix) with ESMTP id 2FBD9466C5 for ; Mon, 5 May 2025 07:14:25 +0200 (CEST) Received: from mails.dpdk.org (localhost [127.0.0.1]) by mails.dpdk.org (Postfix) with ESMTP id 2AAAF4025D; Mon, 5 May 2025 07:14:25 +0200 (CEST) Received: from mail-qt1-f225.google.com (mail-qt1-f225.google.com [209.85.160.225]) by mails.dpdk.org (Postfix) with ESMTP id EF2A540156 for ; Mon, 5 May 2025 07:14:23 +0200 (CEST) Received: by mail-qt1-f225.google.com with SMTP id d75a77b69052e-476b89782c3so51014491cf.1 for ; Sun, 04 May 2025 22:14:23 -0700 (PDT) DKIM-Signature: v=1; a=rsa-sha256; c=relaxed/relaxed; d=iol.unh.edu; s=unh-iol; t=1746422063; x=1747026863; darn=dpdk.org; h=cc:to:from:subject:message-id:date:from:to:cc:subject:date :message-id:reply-to; bh=UGjT/3tb8TDlaIx4A+XKz430E2r9dRPr5NitDRIh568=; b=cNUNRilVsSmXa+GFZZOJPOUN0FxtD92dL8qX6Z/o3Mcl7C3C74/kDG4sxEDImZfB8e gUZBXYLRvczvm0+aJAwLgacqKKD2Rys27t7RZIO0Lg7b29z12yE7WPnD7OIaI19Kj1Fk u+1VcL3jotiFnQ/NwFShNzuY5xwcJjoWHJPM4= X-Google-DKIM-Signature: v=1; a=rsa-sha256; c=relaxed/relaxed; d=1e100.net; s=20230601; t=1746422063; x=1747026863; h=cc:to:from:subject:message-id:date:x-gm-message-state:from:to:cc :subject:date:message-id:reply-to; bh=UGjT/3tb8TDlaIx4A+XKz430E2r9dRPr5NitDRIh568=; b=Ra73Abpna5wEzB5FrJNJSffWaNVs+aacMqSZyoVHIgZOBoQ67+JqYLR6b6nK+ehv0u 4iSxLIbusaSHiuvXBf36iyo7m7bPdAxyRNm2XwkNYJvFQpy61LcKb042eG2Y3tExzBzp 305/hRkw+lyQ+3XoIFwqzBwGbSzFdDcekicQQzEctfL0inulWejwLVWM8qwVaTeOevBG zDAPXIzZYXxlrKyuV2DswiBGgg22bT3cSLR37IsztxbrGJ/8Fh2ye/fFwgnHBFdR1zkm n4GqPXTjHrMFfJz6KKrc6n2CsTGXy1hv97VXj78l6XwxHyYPmfamjfN37v43hcJYfRLs IJ/A== X-Gm-Message-State: AOJu0YwElHJXgiEImTsYpaCwCK5X8V0uLz76CZMgastTCNoqydSY7E7C tbW/23tZYGmY1WXA9rgbzsgmKK+uMlfwtGiTqHEJjz4iLidu0ZYve4Jc2pQm+eelE6pLecxivkL TTWNkB0yLgskiaIYzyUggnlM+tsxmj9FD18SF/Qh/HkabiDDW X-Gm-Gg: ASbGncsHtD6XtCfI9JXwz6XcCzL5IZQUsWyLkLEWtwXZLJh9jmpA+TB89IOcUf1aAGG kOSzeNyWYvBam3RJeVzrCz3RxI/BCU6+wtRIEl6lbp4fIN2bOjNzYr2fYoukh6boSaYPLci1s2G U3xOBzQsrKxiQDKxsWYM1sL3fTi8IvBZBjOofut4oAM0VWbPChJiRp0tV6yQm4HiII1sFoKsd3E Yjz8gpkj+yIlKHC+rJAXwmzTwtncJuW+7Q4cvYnJyWF01vSUC1D7Z36gd3WmwEfurX+ReK5FI4q dkf0eDhOK1NuLqD1M9siaCj7VXJO2ZfutlDf X-Google-Smtp-Source: AGHT+IFhQ+WCJxSC+jn/B+vwWOcXTTefxGgsMEHW/QBB4x1zLip2rnf6qFsN1nRit4v7FiZmPaWZbwHGEGNU X-Received: by 2002:a05:622a:99b:b0:476:8825:99bf with SMTP id d75a77b69052e-48c3183793dmr196986441cf.27.1746422063327; Sun, 04 May 2025 22:14:23 -0700 (PDT) Received: from postal.iol.unh.edu (postal.iol.unh.edu. [2606:4100:3880:1234::84]) by smtp-relay.gmail.com with ESMTPS id d75a77b69052e-48b96ad48ddsm16319701cf.11.2025.05.04.22.14.23 (version=TLS1_2 cipher=ECDHE-ECDSA-AES128-GCM-SHA256 bits=128/128); Sun, 04 May 2025 22:14:23 -0700 (PDT) X-Relaying-Domain: iol.unh.edu Date: Sun, 04 May 2025 22:14:23 -0700 (PDT) Message-ID: <6818492f.c80a0220.105f5d.f425SMTPIN_ADDED_MISSING@mx.google.com> Received: from [172.21.0.6] (unknown [172.18.0.240]) by postal.iol.unh.edu (Postfix) with ESMTP id DD92A6052471; Mon, 5 May 2025 01:14:22 -0400 (EDT) Subject: |SUCCESS| [GIT MASTER] 4c5634de9f933555bab9c64a533d3dca999071cd From: dpdklab@iol.unh.edu To: Test Report Cc: dpdk-test-reports@iol.unh.edu, Xueming Li , Christian Ehrhardt , Kevin Traynor , Luca Boccassi Content-Type: text/plain X-BeenThere: test-report@dpdk.org X-Mailman-Version: 2.1.29 Precedence: list List-Id: automatic DPDK test reports List-Unsubscribe: , List-Archive: List-Post: List-Help: List-Subscribe: , Errors-To: test-report-bounces@dpdk.org _Testing PASS_ Branch: tags/v24.11 4c5634de9f933555bab9c64a533d3dca999071cd --> testing pass Upstream job id: Generic-DPDK-Compile-ABI#125164 Test environment and result as below: +-------------------+----------+ | Environment | abi_test | +===================+==========+ | CentOS Stream 9 | PASS | +-------------------+----------+ | Debian 12 | PASS | +-------------------+----------+ | CentOS Stream 10 | PASS | +-------------------+----------+ | Fedora 41 (Clang) | PASS | +-------------------+----------+ | Fedora 40 (Clang) | PASS | +-------------------+----------+ | Fedora 40 | PASS | +-------------------+----------+ | Fedora 41 | PASS | +-------------------+----------+ | RHEL9 | PASS | +-------------------+----------+ | RHEL8 | PASS | +-------------------+----------+ | openSUSE Leap 15 | PASS | +-------------------+----------+ | Ubuntu 24.04 | PASS | +-------------------+----------+ | Ubuntu 22.04 | PASS | +-------------------+----------+ CentOS Stream 9 Kernel: Depends on container host Compiler: gcc 11.5.0 20240719 (Red Hat 11.5.0-2) Debian 12 Kernel: Depends on container host Compiler: gcc (Debian 12.2.0-14) 12.2.0 CentOS Stream 10 Kernel: Depends on container host Compiler: gcc 14.2.1 20241104 (Red Hat 14.2.1-6) Fedora 41 (Clang) Kernel: Depends on container host Compiler: clang 19.1.5 (Fedora 19.1.5-1.fc41) Fedora 40 (Clang) Kernel: Depends on container host Compiler: clang 18.1.8 (Fedora 18.1.8-1.fc40) Fedora 40 Kernel: Depends on container host Compiler: gcc 14.2.1 20240912 (Red Hat 14.2.1-3) Fedora 41 Kernel: Depends on container host Compiler: gcc 14.2.1 20240912 (Red Hat 14.2.1-3) RHEL9 Kernel: Depends on container host Compiler: gcc 11.5.0 20240719 (Red Hat 11.5.0-2) RHEL8 Kernel: Depends on container host Compiler: gcc 8.5.0 20210514 (Red Hat 8.5.0-22) openSUSE Leap 15 Kernel: Depends on container host Compiler: gcc (SUSE Linux) 7.5.0 Ubuntu 24.04 Kernel: Depends on container host Compiler: gcc (Ubuntu 13.3.0-6ubuntu2~24.04) 13.3.0 Ubuntu 22.04 Kernel: Depends on container host Compiler: gcc (Ubuntu 11.4.0-1ubuntu1~22.04) 11.4.0 To view detailed results, visit: https://lab.dpdk.org/results/dashboard/tarballs/33425/ UNH-IOL DPDK Community Lab To manage your email subscriptions, visit: https://lab.dpdk.org/results/dashboard/preferences/subscriptions/