From mboxrd@z Thu Jan 1 00:00:00 1970 Return-Path: Received: from mails.dpdk.org (mails.dpdk.org [217.70.189.124]) by inbox.dpdk.org (Postfix) with ESMTP id 86963466C5 for ; Mon, 5 May 2025 07:37:29 +0200 (CEST) Received: from mails.dpdk.org (localhost [127.0.0.1]) by mails.dpdk.org (Postfix) with ESMTP id 813B24025D; Mon, 5 May 2025 07:37:29 +0200 (CEST) Received: from mail-pj1-f99.google.com (mail-pj1-f99.google.com [209.85.216.99]) by mails.dpdk.org (Postfix) with ESMTP id 93D0740156 for ; Mon, 5 May 2025 07:37:28 +0200 (CEST) Received: by mail-pj1-f99.google.com with SMTP id 98e67ed59e1d1-30a5094df42so3360227a91.0 for ; Sun, 04 May 2025 22:37:28 -0700 (PDT) DKIM-Signature: v=1; a=rsa-sha256; c=relaxed/relaxed; d=iol.unh.edu; s=unh-iol; t=1746423448; x=1747028248; darn=dpdk.org; h=cc:to:from:subject:message-id:date:from:to:cc:subject:date :message-id:reply-to; bh=SMZ9uNUG7SG+xXRh4CP6SdZ2w0dzH/d1NpMH6z14sKI=; b=hktEP++HAGD4Wf4iIjfIR/6o/LQr5g+JRBwuN5hEua616T+7v3AHMVaM5/WWbHcPKA pHU7S2AevY3/drCArLjZgWQuOFsXkCFfkl0OGAdLvSrMo5FO7TTsXcUd9FYbkGxj/MG4 jKZ5QUr3JL3z+MDl99Ej1RmToEhAunHuPw53c= X-Google-DKIM-Signature: v=1; a=rsa-sha256; c=relaxed/relaxed; d=1e100.net; s=20230601; t=1746423448; x=1747028248; h=cc:to:from:subject:message-id:date:x-gm-message-state:from:to:cc :subject:date:message-id:reply-to; bh=SMZ9uNUG7SG+xXRh4CP6SdZ2w0dzH/d1NpMH6z14sKI=; b=bYEQ6QMAe5GVYs6puRMnTQKK4yJwT0s7bxTVEXUshfUGtOO/Bvd7z8wMjarFtiy7rP 4jVjrVi2cHlA0dQHnwFtfECJ/ScSWF5IrEYnoBZJwmffJzkdP1oByfjHbfXbB9J+3nkW u/zv1Q45osLJmXiVRD2UeN5TH6Iec5uPQP64kkJgsOfIvqslgWmbq0iHilshtFvATLko VnXGTdTRzQwnDzpVwLG545tPeDcT2jX2wJ2rE18UYU2GjkFO15q1nGBrjJdO1Pnhky0l ajJe5xUjFAPhhyfsOkBgc527HJxW4+Ycf+o7JgTF3Ac+QNvKg0CtW1HYmgZPe1PziQDW AnZw== X-Gm-Message-State: AOJu0YytNng36GO/A91w+Pe89AVSMorAv9ElLrnjdQ0oZouDRmYII7Ah cmbr/ZJvtxjLq/7PqX0fgTBR/wWq3zAwUn63IQepaNHEL+EKTv1zDQ4nTCiiZPeV65hxqtZsi9+ Ussa0ccjQ1SCsvB/UPNQM92xYsO414D2+ X-Gm-Gg: ASbGncv7zwRQKuKfPATunXrtGx4kKr11KNlAPCRpTBtsKQ1HBerf5pNXCxmYUgQpFo5 eOuSm51ew0TZbP7Tl/ryxjpUvOVxPNtJoasL631uVNon3+xaTANZ0eGF2FA+zM9IZPo69WB6v/V 4+Jgha4yZmbCHE7IR1BUW+5c4ipohFTs+1xsBizk7zcu0aG1NiihNUlcbvY7/MTBS24KU9gtvmf jy+COjDQjjQvvHelajloZ1Fg5B4b1RQlC6NBsYGCljy9xAIUtuiZqcMnhymh+eU76ARUt1AoHbc iaRMLCyhd+uOS+9M3GGt+sqr838N6Upbhi9nRH8u27LX7e0A26wQOKq9bc4= X-Google-Smtp-Source: AGHT+IHo8Ndz36656iTyXLHOo5VIuEcnIBK0VrzP85CnoGYby1zX5QFYPXur8QLQ5DcJagm1YjOuWPKXD6HC X-Received: by 2002:a17:90b:2550:b0:2f5:88bb:12f with SMTP id 98e67ed59e1d1-30a619a1991mr8143648a91.21.1746423447855; Sun, 04 May 2025 22:37:27 -0700 (PDT) Received: from postal.iol.unh.edu (postal.iol.unh.edu. [132.177.123.84]) by smtp-relay.gmail.com with ESMTPS id d9443c01a7336-22e151e9950sm15903115ad.49.2025.05.04.22.37.27 (version=TLS1_2 cipher=ECDHE-ECDSA-AES128-GCM-SHA256 bits=128/128); Sun, 04 May 2025 22:37:27 -0700 (PDT) X-Relaying-Domain: iol.unh.edu Date: Sun, 04 May 2025 22:37:27 -0700 (PDT) Message-ID: <68184e97.170a0220.3c82c4.e54dSMTPIN_ADDED_MISSING@mx.google.com> Received: from [172.21.0.5] (unknown [172.18.0.240]) by postal.iol.unh.edu (Postfix) with ESMTP id 4F38B6052471; Mon, 5 May 2025 01:37:27 -0400 (EDT) Subject: |SUCCESS| [GIT MASTER] 4c5634de9f933555bab9c64a533d3dca999071cd From: dpdklab@iol.unh.edu To: Test Report Cc: dpdk-test-reports@iol.unh.edu, Xueming Li , Christian Ehrhardt , Kevin Traynor , Luca Boccassi Content-Type: text/plain X-BeenThere: test-report@dpdk.org X-Mailman-Version: 2.1.29 Precedence: list List-Id: automatic DPDK test reports List-Unsubscribe: , List-Archive: List-Post: List-Help: List-Subscribe: , Errors-To: test-report-bounces@dpdk.org _Testing PASS_ Branch: tags/v24.11 4c5634de9f933555bab9c64a533d3dca999071cd --> testing pass Upstream job id: Generic-Unit-Test-DPDK#335158 Test environment and result as below: +-----------------------------+----------------+------------------------------+---------------------------+--------------+ | Environment | dpdk_unit_test | cryptodev_sw_snow3g_autotest | cryptodev_sw_zuc_autotest | lpm_autotest | +=============================+================+==============================+===========================+==============+ | CentOS Stream 10 (ARM) | PASS | SKIPPED | SKIPPED | SKIPPED | +-----------------------------+----------------+------------------------------+---------------------------+--------------+ | Fedora 40 (ARM) | PASS | SKIPPED | SKIPPED | SKIPPED | +-----------------------------+----------------+------------------------------+---------------------------+--------------+ | CentOS Stream 9 (ARM) | PASS | SKIPPED | SKIPPED | SKIPPED | +-----------------------------+----------------+------------------------------+---------------------------+--------------+ | Debian 12 (arm) | PASS | PASS | PASS | SKIPPED | +-----------------------------+----------------+------------------------------+---------------------------+--------------+ | RHEL9 (ARM) | PASS | SKIPPED | SKIPPED | SKIPPED | +-----------------------------+----------------+------------------------------+---------------------------+--------------+ | Fedora 41 (ARM) | PASS | SKIPPED | SKIPPED | SKIPPED | +-----------------------------+----------------+------------------------------+---------------------------+--------------+ | Ubuntu 22.04 (ARM) | PASS | SKIPPED | SKIPPED | SKIPPED | +-----------------------------+----------------+------------------------------+---------------------------+--------------+ | Ubuntu 20.04 (ARM) | PASS | SKIPPED | SKIPPED | SKIPPED | +-----------------------------+----------------+------------------------------+---------------------------+--------------+ | Fedora 41 (ARM Clang) | PASS | SKIPPED | SKIPPED | SKIPPED | +-----------------------------+----------------+------------------------------+---------------------------+--------------+ | Fedora 40 (ARM Clang) | PASS | SKIPPED | SKIPPED | SKIPPED | +-----------------------------+----------------+------------------------------+---------------------------+--------------+ | Ubuntu 24.04 (ARM) | PASS | SKIPPED | SKIPPED | SKIPPED | +-----------------------------+----------------+------------------------------+---------------------------+--------------+ | 32-bit Ubuntu 22.04.4 (ARM) | PASS | SKIPPED | SKIPPED | SKIPPED | +-----------------------------+----------------+------------------------------+---------------------------+--------------+ | Ubuntu 20.04 ARM SVE | SKIPPED | SKIPPED | SKIPPED | PASS | +-----------------------------+----------------+------------------------------+---------------------------+--------------+ CentOS Stream 10 (ARM) Kernel: Depends on container host Compiler: gcc 14.2.1 20241104 (Red Hat 14.2.1-6) Fedora 40 (ARM) Kernel: Depends on container host Compiler: gcc 14.2.1 20240912 (Red Hat 14.2.1-3) CentOS Stream 9 (ARM) Kernel: Depends on container host Compiler: gcc 11.5.0 20240719 (Red Hat 11.5.0-2) Debian 12 (arm) Kernel: Depends on container host Compiler: gcc (Debian 12.2.0-14) 12.2.0 RHEL9 (ARM) Kernel: Depends on container host Compiler: gcc 11.5.0 20240719 (Red Hat 11.5.0-2) Fedora 41 (ARM) Kernel: Depends on container host Compiler: gcc 14.2.1 20240912 (Red Hat 14.2.1-3) Ubuntu 22.04 (ARM) Kernel: Depends on container host Compiler: gcc (Ubuntu 11.4.0-1ubuntu1~22.04) 11.4.0 Ubuntu 20.04 (ARM) Kernel: Depends on container host Compiler: gcc (Ubuntu 9.4.0-1ubuntu1~20.04.2) 9.4.0 Fedora 41 (ARM Clang) Kernel: Depends on container host Compiler: clang 19.1.5 (Fedora 19.1.5-1.fc41) Fedora 40 (ARM Clang) Kernel: Depends on container host Compiler: clang 18.1.8 (Fedora 18.1.8-1.fc40) Ubuntu 24.04 (ARM) Kernel: Depends on container host Compiler: gcc (Ubuntu 13.3.0-6ubuntu2~24.04) 13.3.0 32-bit Ubuntu 22.04.4 (ARM) Kernel: 5.15.83+ aarch64 Compiler: gcc (Ubuntu 11.4.0-1ubuntu1~22.04) 11.4.0 Ubuntu 20.04 ARM SVE Kernel: Depends on container host Compiler: gcc (Ubuntu 10.5.0-1ubuntu1~20.04) 10.5.0 To view detailed results, visit: https://lab.dpdk.org/results/dashboard/tarballs/33425/ UNH-IOL DPDK Community Lab To manage your email subscriptions, visit: https://lab.dpdk.org/results/dashboard/preferences/subscriptions/