From mboxrd@z Thu Jan 1 00:00:00 1970 Return-Path: Received: from mails.dpdk.org (mails.dpdk.org [217.70.189.124]) by inbox.dpdk.org (Postfix) with ESMTP id 12556466B3 for ; Mon, 5 May 2025 07:53:21 +0200 (CEST) Received: from mails.dpdk.org (localhost [127.0.0.1]) by mails.dpdk.org (Postfix) with ESMTP id DA18D4025D; Mon, 5 May 2025 07:53:20 +0200 (CEST) Received: from mail-vk1-f226.google.com (mail-vk1-f226.google.com [209.85.221.226]) by mails.dpdk.org (Postfix) with ESMTP id EFE4240156 for ; Mon, 5 May 2025 07:53:19 +0200 (CEST) Received: by mail-vk1-f226.google.com with SMTP id 71dfb90a1353d-524038ba657so3066270e0c.0 for ; Sun, 04 May 2025 22:53:19 -0700 (PDT) DKIM-Signature: v=1; a=rsa-sha256; c=relaxed/relaxed; d=iol.unh.edu; s=unh-iol; t=1746424399; x=1747029199; darn=dpdk.org; h=cc:to:from:subject:message-id:date:from:to:cc:subject:date :message-id:reply-to; bh=irlBjnIYeu2fBTesUKSPRT610m5A8kTN+LniiFqbsAM=; b=AHphlct6QFS8nN8yM6dbb+KThUX3FFWmqb9wBh0ghWe8TWpeRTLumByozsXebGLfDK rbmefC9VbLaTh62Hq/NlLkWB4+t7PzPbfua7p4Uxd4p/vq88IygFJQtX8E37WXvv728b Am7R86hjCeF0v5k4hPSYBOyFNKiIdyCiB9TMA= X-Google-DKIM-Signature: v=1; a=rsa-sha256; c=relaxed/relaxed; d=1e100.net; s=20230601; t=1746424399; x=1747029199; h=cc:to:from:subject:message-id:date:x-gm-message-state:from:to:cc :subject:date:message-id:reply-to; bh=irlBjnIYeu2fBTesUKSPRT610m5A8kTN+LniiFqbsAM=; b=Z9uxQhwDBz5tKYergWTJ9dmTC36YelIjcAZaG3ZTjnYjCTH1CH+jNBTxjfA95bhhoZ EGP9Spg9Kh9p5hgHNLQ1DPf6wEyoF8t3/nASNXmP7E7sWsYR4K1WyRN//WSDHg/EJHX/ ye7bAAVe5bnhm3p9FShUp2OXVA1QgIAeUBTHBQ4IgvX4VpheFM+etQKGIwt9Oh1/uaxF kN56rYMdnKLakOh3s1TCj+GcHDDvgoxZsFdCHdSQTM7BpCsWmsGcABBAIuRYS0ch/8lc cdiFxziHWDJM/0Dq3NG+iEDLVg0bXaajqyeS5ewao2+9c4P2kjp21KqE4fmDJ9oMMjUH Q9Zg== X-Gm-Message-State: AOJu0YxrOk/PgLNLrxP7KzMoDgRnudQ6i7nH8N9KXl+rjrWya5Dh8PUo gMObL5oJouqxUAPAWP+ASV+qQkefjDpR3fMBv56ZwQ5xiH0RnUnm/ju1nkhS0p8GdZokzA5RyeV LmlymG3MRKHtDNdZuglv0AUyF2B2mYOVi4+DSuXU5yAOvUrAq X-Gm-Gg: ASbGncukkUfdsFCQN32pGPvwNk/cIiCX7AhuBzi5I+52swJ06H+uJ1tFOm+73yyZYlp TKEoKDSYKNFJIGtLvsT/sSgaf5URIoe60KZjeaP8bafBF3sdsssmVGYUHuZEhgpBqysysuYoGWp 7IG8HI0XRhpDFzNL0OWOV21y8v/JmTE5xBE1MH7lJdbavz0wdD9M02HUVLv/dXE3a9YHvAgO5UM 6qg5w0WxhSsEYlL/5tYYV/Rb5NAzMsaCo0eDCKuEUJ7/SNBWw1U/lY1CmNNNpu3SPgAm16woqc2 4BMII/QFU1pgjFNOZG+QXf0DYyyBGLcWLb7i X-Google-Smtp-Source: AGHT+IFHW+poBpe6t5rbs/OnPrM34gZXS0gxaBgi4+R1Av2Q5yIFrBTFwbfS1Mrx4Y+5WAvS1hVXMLyu7Oi5 X-Received: by 2002:a05:6122:168c:b0:520:4806:a422 with SMTP id 71dfb90a1353d-52aeca98fbdmr5744077e0c.3.1746424399167; Sun, 04 May 2025 22:53:19 -0700 (PDT) Received: from postal.iol.unh.edu (postal.iol.unh.edu. [2606:4100:3880:1234::84]) by smtp-relay.gmail.com with ESMTPS id 71dfb90a1353d-52ae4134592sm1924990e0c.8.2025.05.04.22.53.19 (version=TLS1_2 cipher=ECDHE-ECDSA-AES128-GCM-SHA256 bits=128/128); Sun, 04 May 2025 22:53:19 -0700 (PDT) X-Relaying-Domain: iol.unh.edu Date: Sun, 04 May 2025 22:53:19 -0700 (PDT) Message-ID: <6818524f.050a0220.70223.1373SMTPIN_ADDED_MISSING@mx.google.com> Received: from [172.21.0.8] (unknown [172.18.0.240]) by postal.iol.unh.edu (Postfix) with ESMTP id C74B46052471; Mon, 5 May 2025 01:53:18 -0400 (EDT) Subject: |SUCCESS| [GIT MASTER] 4c5634de9f933555bab9c64a533d3dca999071cd From: dpdklab@iol.unh.edu To: Test Report Cc: dpdk-test-reports@iol.unh.edu, Xueming Li , Christian Ehrhardt , Kevin Traynor , Luca Boccassi Content-Type: text/plain X-BeenThere: test-report@dpdk.org X-Mailman-Version: 2.1.29 Precedence: list List-Id: automatic DPDK test reports List-Unsubscribe: , List-Archive: List-Post: List-Help: List-Subscribe: , Errors-To: test-report-bounces@dpdk.org _Testing PASS_ Branch: tags/v24.11 4c5634de9f933555bab9c64a533d3dca999071cd --> testing pass Upstream job id: Generic-Unit-Test-DPDK#335156 Test environment and result as below: +---------------------+----------------+ | Environment | dpdk_unit_test | +=====================+================+ | Debian 12 | PASS | +---------------------+----------------+ | CentOS Stream 9 | PASS | +---------------------+----------------+ | CentOS Stream 10 | PASS | +---------------------+----------------+ | Fedora 40 | PASS | +---------------------+----------------+ | Fedora 41 (Clang) | PASS | +---------------------+----------------+ | Fedora 40 (Clang) | PASS | +---------------------+----------------+ | Ubuntu 20.04 | PASS | +---------------------+----------------+ | Ubuntu 22.04 | PASS | +---------------------+----------------+ | RHEL9 | PASS | +---------------------+----------------+ | Fedora 41 | PASS | +---------------------+----------------+ | RHEL8 | PASS | +---------------------+----------------+ | Ubuntu 24.04 | PASS | +---------------------+----------------+ | Windows Server 2022 | PASS | +---------------------+----------------+ Debian 12 Kernel: Depends on container host Compiler: gcc (Debian 12.2.0-14) 12.2.0 CentOS Stream 9 Kernel: Depends on container host Compiler: gcc 11.5.0 20240719 (Red Hat 11.5.0-2) CentOS Stream 10 Kernel: Depends on container host Compiler: gcc 14.2.1 20241104 (Red Hat 14.2.1-6) Fedora 40 Kernel: Depends on container host Compiler: gcc 14.2.1 20240912 (Red Hat 14.2.1-3) Fedora 41 (Clang) Kernel: Depends on container host Compiler: clang 19.1.5 (Fedora 19.1.5-1.fc41) Fedora 40 (Clang) Kernel: Depends on container host Compiler: clang 18.1.8 (Fedora 18.1.8-1.fc40) Ubuntu 20.04 Kernel: Depends on container host Compiler: gcc (Ubuntu 9.4.0-1ubuntu1~20.04.2) 9.4.0 Ubuntu 22.04 Kernel: Depends on container host Compiler: gcc (Ubuntu 11.4.0-1ubuntu1~22.04) 11.4.0 RHEL9 Kernel: Depends on container host Compiler: gcc 11.5.0 20240719 (Red Hat 11.5.0-2) Fedora 41 Kernel: Depends on container host Compiler: gcc 14.2.1 20240912 (Red Hat 14.2.1-3) RHEL8 Kernel: Depends on container host Compiler: gcc 8.5.0 20210514 (Red Hat 8.5.0-22) Ubuntu 24.04 Kernel: Depends on container host Compiler: gcc (Ubuntu 13.3.0-6ubuntu2~24.04) 13.3.0 Windows Server 2022 Kernel: 10.0.20348.2031 Compiler: clang 15.0.7, gcc 14.1.0 (MinGW), and MSVC VS 19.39.33521 To view detailed results, visit: https://lab.dpdk.org/results/dashboard/tarballs/33425/ UNH-IOL DPDK Community Lab To manage your email subscriptions, visit: https://lab.dpdk.org/results/dashboard/preferences/subscriptions/