From mboxrd@z Thu Jan 1 00:00:00 1970 Return-Path: Received: from mails.dpdk.org (mails.dpdk.org [217.70.189.124]) by inbox.dpdk.org (Postfix) with ESMTP id 361CB466C7 for ; Mon, 5 May 2025 08:05:05 +0200 (CEST) Received: from mails.dpdk.org (localhost [127.0.0.1]) by mails.dpdk.org (Postfix) with ESMTP id 1018C40650; Mon, 5 May 2025 08:05:05 +0200 (CEST) Received: from mail-il1-f228.google.com (mail-il1-f228.google.com [209.85.166.228]) by mails.dpdk.org (Postfix) with ESMTP id 127944025D for ; Mon, 5 May 2025 08:05:04 +0200 (CEST) Received: by mail-il1-f228.google.com with SMTP id e9e14a558f8ab-3d8dcc7cd17so15951895ab.1 for ; Sun, 04 May 2025 23:05:03 -0700 (PDT) DKIM-Signature: v=1; a=rsa-sha256; c=relaxed/relaxed; d=iol.unh.edu; s=unh-iol; t=1746425103; x=1747029903; darn=dpdk.org; h=cc:to:from:subject:message-id:date:from:to:cc:subject:date :message-id:reply-to; bh=/E25/x/lFlH4okwGXUaXYe6eFWXB+Z0QryjhL75BbQI=; b=WSWJAktBCvg+QN/FZzXeYhRF6p/0GQiFCV/xe4hbnOD2sY0UM0kZaK9UfZnh9Z8UrI TkAnOqkq8wvXmeh/YKg3ZcVmdS42bHI64zZiYS4I1bAIhgZgGzbo953YgreufC3v1PNX TiSfliGb2chQxWvMkP/zrklvSJQUF4I6G5Cs4= X-Google-DKIM-Signature: v=1; a=rsa-sha256; c=relaxed/relaxed; d=1e100.net; s=20230601; t=1746425103; x=1747029903; h=cc:to:from:subject:message-id:date:x-gm-message-state:from:to:cc :subject:date:message-id:reply-to; bh=/E25/x/lFlH4okwGXUaXYe6eFWXB+Z0QryjhL75BbQI=; b=uqlz6z1/cx4HepWucWRdWqBebHMBKTA8TdiFIK6OOVZCiwjR5a59PhKrKraQMoPLio /9EvFTa1uAMlAveED1KJskuiakaxVhyKSwYiLYRZoPw/O+Fx2+bUf8dwb+gZAwxViam2 Yyd99MOdgstEOGqtHX98Df+RAGLmevtABv2z8Vq+Ec7aTNqfIfUmw13ZhLAOpKzHyUz5 BZqvEFciL6yzcZEuDS2wAeSv7hARRIW9AZC128GauzbhGnLOLDlZvJAAEfzcjnqc41JO k9YZ+H+b455lpQwot8mcrpyU/v0lf5F/WqifRVRdFH9wWyZNZBd7cHgE6JmY0S8h5ev8 oJ/g== X-Gm-Message-State: AOJu0YwTR3Ij6mgpM8yOjFph2mwPkGQU26+qzFupHTgLSqEi3sL2q266 awy2K/yHciRETgwsO7QWVdHIlyRkuKFt8uVrbyJsX/+gbMO9q2PTrcEU3eB9++eSKM6ioLAdfQn cQ2HX5ZL3SJ4/5FsasD/i5GXLos9+vK2k4bZoAULKvxEoUxYD X-Gm-Gg: ASbGncteOYG2jG1EtgWaNkVVMS42f+MwLB3/O0wstP6ZWwQpya2tOtZTZvtIQQrBcMj UVRRSrJjOkWC2Q2amtyU/+yN+ZQHUYnmvzxfpc8eNkcL4DFvnJTZUo4uAm1aLJXQJ7onHXYwLvW T1YXbFJR+baVcrHDFM1A6FZCYnkZNzJR+eE4eAGaDQMIKLQetXqJ6jJZyCpCQV7juorIY29uwSR IeTaRfQgTaykgGNOFCfOhzjNEr2xIOz0/kcWj93hVcQUIA62rQcKyjrkR/UBQv+ukj9k2aoLQ4h 6fRVK0ZGBmvssSt6fO8LxagwRh5tToSqlKkr X-Google-Smtp-Source: AGHT+IG57n/PKuKziU4p26AUJQwbw4AQuXbcgERuGCxLon+sAUnXwn6nJ+2tlxpwSAZCqmRUE0GEMmP9uSKJ X-Received: by 2002:a92:c244:0:b0:3d6:d838:8b93 with SMTP id e9e14a558f8ab-3d97ae7093amr104106645ab.7.1746425103350; Sun, 04 May 2025 23:05:03 -0700 (PDT) Received: from postal.iol.unh.edu (postal.iol.unh.edu. [2606:4100:3880:1234::84]) by smtp-relay.gmail.com with ESMTPS id e9e14a558f8ab-3d97607239csm19953285ab.62.2025.05.04.23.05.03 (version=TLS1_2 cipher=ECDHE-ECDSA-AES128-GCM-SHA256 bits=128/128); Sun, 04 May 2025 23:05:03 -0700 (PDT) X-Relaying-Domain: iol.unh.edu Date: Sun, 04 May 2025 23:05:03 -0700 (PDT) Message-ID: <6818550f.050a0220.97cfe.2e25SMTPIN_ADDED_MISSING@mx.google.com> Received: from [172.21.0.5] (unknown [172.18.0.240]) by postal.iol.unh.edu (Postfix) with ESMTP id D5A716052471; Mon, 5 May 2025 02:05:02 -0400 (EDT) Subject: |SUCCESS| [GIT MASTER] 4c5634de9f933555bab9c64a533d3dca999071cd From: dpdklab@iol.unh.edu To: Test Report Cc: dpdk-test-reports@iol.unh.edu, Xueming Li , Christian Ehrhardt , Kevin Traynor , Luca Boccassi Content-Type: text/plain X-BeenThere: test-report@dpdk.org X-Mailman-Version: 2.1.29 Precedence: list List-Id: automatic DPDK test reports List-Unsubscribe: , List-Archive: List-Post: List-Help: List-Subscribe: , Errors-To: test-report-bounces@dpdk.org _Testing PASS_ Branch: tags/v24.11 4c5634de9f933555bab9c64a533d3dca999071cd --> testing pass Upstream job id: Generic-VM-Unit-Test-DPDK#28310 Test environment and result as below: +---------------------+----------------+ | Environment | dpdk_unit_test | +=====================+================+ | Debian 12 | PASS | +---------------------+----------------+ | CentOS Stream 9 | PASS | +---------------------+----------------+ | CentOS Stream 10 | PASS | +---------------------+----------------+ | Fedora 40 | PASS | +---------------------+----------------+ | Fedora 41 (Clang) | PASS | +---------------------+----------------+ | Fedora 40 (Clang) | PASS | +---------------------+----------------+ | Ubuntu 20.04 | PASS | +---------------------+----------------+ | Ubuntu 22.04 | PASS | +---------------------+----------------+ | RHEL9 | PASS | +---------------------+----------------+ | Fedora 41 | PASS | +---------------------+----------------+ | RHEL8 | PASS | +---------------------+----------------+ | Ubuntu 24.04 | PASS | +---------------------+----------------+ | Windows Server 2022 | PASS | +---------------------+----------------+ Debian 12 Kernel: Depends on container host Compiler: gcc (Debian 12.2.0-14) 12.2.0 CentOS Stream 9 Kernel: Depends on container host Compiler: gcc 11.5.0 20240719 (Red Hat 11.5.0-2) CentOS Stream 10 Kernel: Depends on container host Compiler: gcc 14.2.1 20241104 (Red Hat 14.2.1-6) Fedora 40 Kernel: Depends on container host Compiler: gcc 14.2.1 20240912 (Red Hat 14.2.1-3) Fedora 41 (Clang) Kernel: Depends on container host Compiler: clang 19.1.5 (Fedora 19.1.5-1.fc41) Fedora 40 (Clang) Kernel: Depends on container host Compiler: clang 18.1.8 (Fedora 18.1.8-1.fc40) Ubuntu 20.04 Kernel: Depends on container host Compiler: gcc (Ubuntu 9.4.0-1ubuntu1~20.04.2) 9.4.0 Ubuntu 22.04 Kernel: Depends on container host Compiler: gcc (Ubuntu 11.4.0-1ubuntu1~22.04) 11.4.0 RHEL9 Kernel: Depends on container host Compiler: gcc 11.5.0 20240719 (Red Hat 11.5.0-2) Fedora 41 Kernel: Depends on container host Compiler: gcc 14.2.1 20240912 (Red Hat 14.2.1-3) RHEL8 Kernel: Depends on container host Compiler: gcc 8.5.0 20210514 (Red Hat 8.5.0-22) Ubuntu 24.04 Kernel: Depends on container host Compiler: gcc (Ubuntu 13.3.0-6ubuntu2~24.04) 13.3.0 Windows Server 2022 Kernel: 10.0.20348.2031 Compiler: clang 15.0.7, gcc 14.1.0 (MinGW), and MSVC VS 19.39.33521 To view detailed results, visit: https://lab.dpdk.org/results/dashboard/tarballs/33425/ UNH-IOL DPDK Community Lab To manage your email subscriptions, visit: https://lab.dpdk.org/results/dashboard/preferences/subscriptions/