From mboxrd@z Thu Jan 1 00:00:00 1970 Return-Path: Received: from mails.dpdk.org (mails.dpdk.org [217.70.189.124]) by inbox.dpdk.org (Postfix) with ESMTP id 35D88466C8 for ; Mon, 5 May 2025 08:15:28 +0200 (CEST) Received: from mails.dpdk.org (localhost [127.0.0.1]) by mails.dpdk.org (Postfix) with ESMTP id 0A63C40650; Mon, 5 May 2025 08:15:28 +0200 (CEST) Received: from mail-oa1-f97.google.com (mail-oa1-f97.google.com [209.85.160.97]) by mails.dpdk.org (Postfix) with ESMTP id 5B0A24025D for ; Mon, 5 May 2025 08:15:26 +0200 (CEST) Received: by mail-oa1-f97.google.com with SMTP id 586e51a60fabf-2d0920ce388so2002126fac.0 for ; Sun, 04 May 2025 23:15:26 -0700 (PDT) DKIM-Signature: v=1; a=rsa-sha256; c=relaxed/relaxed; d=iol.unh.edu; s=unh-iol; t=1746425725; x=1747030525; darn=dpdk.org; h=cc:to:from:subject:message-id:date:from:to:cc:subject:date :message-id:reply-to; bh=2yp21ok5+hcilkBMSGCru+GdAFJXipthKcFRLQMtN6Q=; b=ZoZAVctSubUZCpJdyMf79eOXjlmO41IL3Ush7FnCD+xIOM4agTRt/e0pOVC1ergVEj Ig2F8Q2AaIX++FIX9r1dw3p+5WNsssNm+7V6TOQh0r7Gd9woTc4qcML5k8euCp17H+qs wtEcNn8oQqrxFN0YHukHSckTs0YYgMyaR8kfk= X-Google-DKIM-Signature: v=1; a=rsa-sha256; c=relaxed/relaxed; d=1e100.net; s=20230601; t=1746425725; x=1747030525; h=cc:to:from:subject:message-id:date:x-gm-message-state:from:to:cc :subject:date:message-id:reply-to; bh=2yp21ok5+hcilkBMSGCru+GdAFJXipthKcFRLQMtN6Q=; b=kDYuYHvXJEwZNhkDq9rT5DFee080261gToiWDIVJZjSc2nI60ln4camCeYYERhRpvR 3OP1RLz9kXZ5PFWXvZTtzCOFXoSEqskOCkCs1WvhpAF6vUCSaEivyq0cpuvX5HUeHjAT 7TCiRRynuuru/TVBCOOAMMtvDW/ugYbwblGeZSsUp6ZeXs9hNSyF2ZVs8S2qxlhWf3Ps zQzway/DB73/2j3FbJAGkoOYwNE4bpLVf0J+MKFTeaae6UUXG9iYQP8Q99k4mzf+qpZS 1sX8G7k227lEuVVhkO453BsG/TtvQqZhCFxPP5o1CqSYn7T9ij4BXmQeP4BRlTlogTBe soIg== X-Gm-Message-State: AOJu0YzVePPJH4u2T4q7zPY7uPlKaI0C5GO1S6gPP3baInnHmDVNp60D WB/+XnUT2dZhjdmJG5PnFLhaL1I5N/EnMpSHV8yKL3fXVh+M/XEmc/8+DYl5kz2QzZRxHgb1W4A GsxvqzE8ZuZ4UHDjHb0oHL80z0OEXIUUW0OyQkoyMRsTnw/pi X-Gm-Gg: ASbGncspkzJpulfOaUzgInrmTrwHF7X09YltYy80ivLQF/3XR8eppbf9DOY5PG59iBN xXxGTnHWNpTVfZtNNXCqvZc6ZKPq7keBwu2ZTVl2FZqEAMX+TdcwU6CiQaiziUfKr2ZVTOC9qaD CBtNWNw4iPTwp5W4AzLKx7/VV1ApLM2SVcouUFcf24PxlOLMtLLHqI8Z8WBynfYPERmAlQHfC01 lWs3d5F7FYwY/Iqu4WVL6EV6sZ+6eLjrCugv5pFELZSS5B3A43V7gg7HM39YyawvrTuFZQyhacD Dvc1rWsfeLZCuUPzu9LJW34NUs03zzxIhKWw X-Google-Smtp-Source: AGHT+IElqdgSIVHRTcJQC/dYKqQiwB6sc0fDUEjV4f+IRANSasN0GyLaZBm7xF7LZTEL1gwS16brYZEA0KSV X-Received: by 2002:a05:6870:d629:b0:2c2:3e54:553 with SMTP id 586e51a60fabf-2dad6bf53a2mr4690501fac.28.1746425725436; Sun, 04 May 2025 23:15:25 -0700 (PDT) Received: from postal.iol.unh.edu (postal.iol.unh.edu. [2606:4100:3880:1234::84]) by smtp-relay.gmail.com with ESMTPS id 586e51a60fabf-2daa11a7d32sm2060619fac.32.2025.05.04.23.15.25 (version=TLS1_2 cipher=ECDHE-ECDSA-AES128-GCM-SHA256 bits=128/128); Sun, 04 May 2025 23:15:25 -0700 (PDT) X-Relaying-Domain: iol.unh.edu Date: Sun, 04 May 2025 23:15:25 -0700 (PDT) Message-ID: <6818577d.050a0220.73ad0.3965SMTPIN_ADDED_MISSING@mx.google.com> Received: from [172.21.0.7] (unknown [172.18.0.240]) by postal.iol.unh.edu (Postfix) with ESMTP id 89E136052471; Mon, 5 May 2025 02:15:24 -0400 (EDT) Subject: |SUCCESS| [GIT MASTER] 83a7a648344674c0269fcaeb71d8d16468421a0e From: dpdklab@iol.unh.edu To: Test Report Cc: dpdk-test-reports@iol.unh.edu, Xueming Li , Christian Ehrhardt , Kevin Traynor , Luca Boccassi Content-Type: text/plain X-BeenThere: test-report@dpdk.org X-Mailman-Version: 2.1.29 Precedence: list List-Id: automatic DPDK test reports List-Unsubscribe: , List-Archive: List-Post: List-Help: List-Subscribe: , Errors-To: test-report-bounces@dpdk.org _Testing PASS_ Branch: tags/v23.11 83a7a648344674c0269fcaeb71d8d16468421a0e --> testing pass Upstream job id: Generic-DPDK-Compile-ABI#125192 Test environment and result as below: +-------------------+----------+ | Environment | abi_test | +===================+==========+ | CentOS Stream 9 | PASS | +-------------------+----------+ | CentOS Stream 10 | PASS | +-------------------+----------+ | Debian 12 | PASS | +-------------------+----------+ | Fedora 40 (Clang) | PASS | +-------------------+----------+ | Fedora 40 | PASS | +-------------------+----------+ | Fedora 41 (Clang) | PASS | +-------------------+----------+ | openSUSE Leap 15 | PASS | +-------------------+----------+ | Fedora 41 | PASS | +-------------------+----------+ | Ubuntu 22.04 | PASS | +-------------------+----------+ | Ubuntu 24.04 | PASS | +-------------------+----------+ | RHEL8 | PASS | +-------------------+----------+ | RHEL9 | PASS | +-------------------+----------+ CentOS Stream 9 Kernel: Depends on container host Compiler: gcc 11.5.0 20240719 (Red Hat 11.5.0-2) CentOS Stream 10 Kernel: Depends on container host Compiler: gcc 14.2.1 20241104 (Red Hat 14.2.1-6) Debian 12 Kernel: Depends on container host Compiler: gcc (Debian 12.2.0-14) 12.2.0 Fedora 40 (Clang) Kernel: Depends on container host Compiler: clang 18.1.8 (Fedora 18.1.8-1.fc40) Fedora 40 Kernel: Depends on container host Compiler: gcc 14.2.1 20240912 (Red Hat 14.2.1-3) Fedora 41 (Clang) Kernel: Depends on container host Compiler: clang 19.1.5 (Fedora 19.1.5-1.fc41) openSUSE Leap 15 Kernel: Depends on container host Compiler: gcc (SUSE Linux) 7.5.0 Fedora 41 Kernel: Depends on container host Compiler: gcc 14.2.1 20240912 (Red Hat 14.2.1-3) Ubuntu 22.04 Kernel: Depends on container host Compiler: gcc (Ubuntu 11.4.0-1ubuntu1~22.04) 11.4.0 Ubuntu 24.04 Kernel: Depends on container host Compiler: gcc (Ubuntu 13.3.0-6ubuntu2~24.04) 13.3.0 RHEL8 Kernel: Depends on container host Compiler: gcc 8.5.0 20210514 (Red Hat 8.5.0-22) RHEL9 Kernel: Depends on container host Compiler: gcc 11.5.0 20240719 (Red Hat 11.5.0-2) To view detailed results, visit: https://lab.dpdk.org/results/dashboard/tarballs/33427/ UNH-IOL DPDK Community Lab To manage your email subscriptions, visit: https://lab.dpdk.org/results/dashboard/preferences/subscriptions/