From mboxrd@z Thu Jan 1 00:00:00 1970 Return-Path: Received: from mails.dpdk.org (mails.dpdk.org [217.70.189.124]) by inbox.dpdk.org (Postfix) with ESMTP id 655EE466C8 for ; Mon, 5 May 2025 08:45:26 +0200 (CEST) Received: from mails.dpdk.org (localhost [127.0.0.1]) by mails.dpdk.org (Postfix) with ESMTP id 5F29440650; Mon, 5 May 2025 08:45:26 +0200 (CEST) Received: from mail-yw1-f228.google.com (mail-yw1-f228.google.com [209.85.128.228]) by mails.dpdk.org (Postfix) with ESMTP id F3C5F40650 for ; Mon, 5 May 2025 08:45:24 +0200 (CEST) Received: by mail-yw1-f228.google.com with SMTP id 00721157ae682-6feab7c5f96so33694897b3.3 for ; Sun, 04 May 2025 23:45:24 -0700 (PDT) DKIM-Signature: v=1; a=rsa-sha256; c=relaxed/relaxed; d=iol.unh.edu; s=unh-iol; t=1746427524; x=1747032324; darn=dpdk.org; h=cc:to:from:subject:message-id:date:from:to:cc:subject:date :message-id:reply-to; bh=V5x47i0h4j/ddmZhKUegqWxyjLDmD3PznFOL46kDoqM=; b=X1jS/pop3Z9IwNlsMRPMOh/3nFglBgQAmF7AI2l6JKuqRptobrQCgpmCNx7OU67JIN I/gOQLMHL6H/BdEbtL13HP/3Ig1O+bT/MDU/Y0OXZxqrYwhfq2wPzTG0KGRdNd1vjbFd yZKJ9281MGtLKiP+h6G1fIK9i0ap1zGIzyHk8= X-Google-DKIM-Signature: v=1; a=rsa-sha256; c=relaxed/relaxed; d=1e100.net; s=20230601; t=1746427524; x=1747032324; h=cc:to:from:subject:message-id:date:x-gm-message-state:from:to:cc :subject:date:message-id:reply-to; bh=V5x47i0h4j/ddmZhKUegqWxyjLDmD3PznFOL46kDoqM=; b=vL5++Iw7WtJM4uWhdY4xZcO2jsSOWqLX4Oti+UmpZoR7chPRC84vTpJdi3WhT/iZcH hSTmeeiiqTMLlD74llRvh2Ce3CGmpKmdT2ihY74gyBNR0JwPYGFpU1Zu+Scv79omp2wE nPJ8sBI20Cn4TlTQboKWOrKudAzvovMKq1XLweSADHRxMQ8sTUK6YTl73msPEbMMFj1N BClzKO/+4QHBu9h6YBZvHdPj1e4AF3QcJj8l7l+g1yiK5dBaHrBdtHT13/LmJ2hb0S1q AK30kR+7tQfO5Ibzea8PUSNc7kk+tcokkAYIgsoz9v6DazJYWxnDuhAFkkoB50ES7xFJ FgBg== X-Gm-Message-State: AOJu0YwkirzcvzuLdAg0jARTsvux+ru7LdDA1cjACmwj0W693eIhrApF okF9jjN0w9lIJkLUlYg8QX3Bhr6C2AnHBHbUATaTjVEjAVZGrsRIMLvyERT8Hi/iNWLSDd5d1sq EsEPU0LpZg3RFPwJmDT8a2/MI/AEZSU0jj+OghgQQa2TD5gvt X-Gm-Gg: ASbGncvbev63L9KMfBkCt9jrwfEbiQAIHd6LUXlLqYhdrSEaiabsEZbuYF+upnVhC6F M57Su659aY2+FELCA2gHWQpaycWdfkOFqwCKtGKWNLwyg+aofK+RhkRTmmOT9lOBUqxZ0Q3j6kw tWxqP1vsqPXaRCFcESeRoeobjp1vx20sMY8pO4Bvtf2pPZtaVdxmK5OHgHeaCvIfpZLb17QR38c QTKj4gVXCIBfWWUYvuIE1H4QkUcC6pcbBGiX3ai4bLsAPRgYsvp1Jatr7eCi1a9maLlEIUxddUj 1x6CdAP4omT60D1cAw2hLWekjZAEBB4inlaV X-Google-Smtp-Source: AGHT+IEPVoZvYj0nwORZj/ygVA5/ppTwy4lbXOQ+zwt8ItjEW/6gl7kLocgU+K1jdyTHtYe7ZQ3dtfcJ9Lco X-Received: by 2002:a05:690c:6382:b0:6f9:7fe6:9d48 with SMTP id 00721157ae682-708eaecbdcamr69468447b3.7.1746427524320; Sun, 04 May 2025 23:45:24 -0700 (PDT) Received: from postal.iol.unh.edu (postal.iol.unh.edu. [2606:4100:3880:1234::84]) by smtp-relay.gmail.com with ESMTPS id 00721157ae682-708c415e979sm17867687b3.34.2025.05.04.23.45.24 (version=TLS1_2 cipher=ECDHE-ECDSA-AES128-GCM-SHA256 bits=128/128); Sun, 04 May 2025 23:45:24 -0700 (PDT) X-Relaying-Domain: iol.unh.edu Date: Sun, 04 May 2025 23:45:24 -0700 (PDT) Message-ID: <68185e84.050a0220.ffc3d.ef8cSMTPIN_ADDED_MISSING@mx.google.com> Received: from [172.21.0.7] (unknown [172.18.0.240]) by postal.iol.unh.edu (Postfix) with ESMTP id EDC2E6052471; Mon, 5 May 2025 02:45:23 -0400 (EDT) Subject: |SUCCESS| [GIT MASTER] 4c5634de9f933555bab9c64a533d3dca999071cd From: dpdklab@iol.unh.edu To: Test Report Cc: dpdk-test-reports@iol.unh.edu, Xueming Li , Christian Ehrhardt , Kevin Traynor , Luca Boccassi Content-Type: text/plain X-BeenThere: test-report@dpdk.org X-Mailman-Version: 2.1.29 Precedence: list List-Id: automatic DPDK test reports List-Unsubscribe: , List-Archive: List-Post: List-Help: List-Subscribe: , Errors-To: test-report-bounces@dpdk.org _Testing PASS_ Branch: tags/v24.11 4c5634de9f933555bab9c64a533d3dca999071cd --> testing pass Upstream job id: ACVP-FIPS-testing#9705 Test environment and result as below: +--------------------+----------------------+----------------------+ | Environment | compressdev_zlib_pmd | dpdk_fips_validation | +====================+======================+======================+ | Ubuntu 22.04 (ARM) | PASS | SKIPPED | +--------------------+----------------------+----------------------+ | Ubuntu 22.04 | PASS | SKIPPED | +--------------------+----------------------+----------------------+ | Ubuntu 20.04 | SKIPPED | PASS | +--------------------+----------------------+----------------------+ Ubuntu 22.04 (ARM) Kernel: 5.15.0-97-generic Compiler: gcc gcc (Ubuntu 11.4.0-1ubuntu1~22.04) 11.4.0 Ubuntu 22.04 Kernel: 5.15.0-100-generic Compiler: gcc gcc (Ubuntu 11.4.0-1ubuntu1~22.04) 11.4.0 Ubuntu 20.04 Kernel: Depends on container host Compiler: gcc (Ubuntu 9.4.0-1ubuntu1~20.04.2) 9.4.0 To view detailed results, visit: https://lab.dpdk.org/results/dashboard/tarballs/33425/ UNH-IOL DPDK Community Lab To manage your email subscriptions, visit: https://lab.dpdk.org/results/dashboard/preferences/subscriptions/