From mboxrd@z Thu Jan 1 00:00:00 1970 Return-Path: Received: from mails.dpdk.org (mails.dpdk.org [217.70.189.124]) by inbox.dpdk.org (Postfix) with ESMTP id 2BF7F466C8 for ; Mon, 5 May 2025 08:52:46 +0200 (CEST) Received: from mails.dpdk.org (localhost [127.0.0.1]) by mails.dpdk.org (Postfix) with ESMTP id 266DC40650; Mon, 5 May 2025 08:52:46 +0200 (CEST) Received: from mail-qt1-f228.google.com (mail-qt1-f228.google.com [209.85.160.228]) by mails.dpdk.org (Postfix) with ESMTP id 31AE54025D for ; Mon, 5 May 2025 08:52:45 +0200 (CEST) Received: by mail-qt1-f228.google.com with SMTP id d75a77b69052e-47664364628so47439001cf.1 for ; Sun, 04 May 2025 23:52:45 -0700 (PDT) DKIM-Signature: v=1; a=rsa-sha256; c=relaxed/relaxed; d=iol.unh.edu; s=unh-iol; t=1746427964; x=1747032764; darn=dpdk.org; h=cc:to:from:subject:message-id:date:from:to:cc:subject:date :message-id:reply-to; bh=jWQg1dSt1KU2neKpE1KZlcQ/c0E5yiQXi9JONrsxCNQ=; b=eX5EXHUZQrxtneT8cCRIFr62SZgluwHzmyniOjDIxEiPy8x2KDBu5w6a2z2lviAFDg toE823Ya4SAOJyCSI3VNnQQ5ZHRXKwgrjzVoyziCB96+/kIxALNUupxXjCwJo3AdahuO ckz40ZU8i1o5OeYCav73idrX6ABTpwWKDq0m8= X-Google-DKIM-Signature: v=1; a=rsa-sha256; c=relaxed/relaxed; d=1e100.net; s=20230601; t=1746427964; x=1747032764; h=cc:to:from:subject:message-id:date:x-gm-message-state:from:to:cc :subject:date:message-id:reply-to; bh=jWQg1dSt1KU2neKpE1KZlcQ/c0E5yiQXi9JONrsxCNQ=; b=e6xyPtiCUKbn+mgK+nZUyj8FHkGKQtkFUWY/aQvcanZvUP1/S/njfYG7PF+LFgWInw zYlcV4uz7kznpmvRto+J055rfQLQtEljrcCA6uII4SrwQ/jzQ04pm+cATHhqlwdnO77K 680JHF4E2v0UjOx6Qy4nB4A8Ud4zIOXf4VO7dfQw+QOQWazr2HBM/vdZzfkjYI3Pjwho agu2bfP7Mblet1T+FWQ0qDSxcpdGnJP0bcfaJJ5tvhTPC50sGia1BFmwM2AeKkI5d9TP phqwpRJE7oAS3b30BO9CLZsUVoMXrnfR42jPMKAJdGCJx8iGcrZRe9EyAvfJ8muD7fEl /q1A== X-Gm-Message-State: AOJu0YztjmH93yKoiUTHHTS0dppR2LO+FLepPRVwAwGUq/AMnzdDAIDi jKGOaa5tEn+hoiJi0G5MKAnukCVu/UP/QXBNg8huxFNJ70ZUft+bS9WxubOuQl+x5b8egp0vNuX lV5lNz+G9VG+o59Yr+QIM8np0gioSICiukgT4CBAvQfc4HCB3 X-Gm-Gg: ASbGnctQkvT2ooguEiiy17VTV7Z2VvmDO/wfGlRf5BYKd+WcWF/GO5CgjLlgMuWB0Vs uVDcKuwbl/88H/ZmEy2JwFGpNa41QCcy1DQu/rcAGPM4RhsEpSNLX91fttuTK/GNf3fKEt0y5WQ 0DcpS4kzb98OFu39PZRDxq5BO2uLSoSavm+gJMAcOwQN0kZF4ROjvcM5gyRuxhTqBw30aNTxRJ9 lUaRW6DDvYMhgls26POguKgerMmPxap2tDeFN+zdO+Q1OQDGOrDi2wonqFX14cuh6mZAdTVMDZJ 5I3Y7nEzDlYj6zpMWUOxJ7C+3vLBz6BwC9Dm X-Google-Smtp-Source: AGHT+IGX3FPJmpJKFOmbnjJx9E9kjXtu5FcUMJEIz9sughoFZacQySnugkgJrYJL6ZEnp5rqdnXzvEZNT5B+ X-Received: by 2002:a05:622a:24b:b0:48b:28e1:fb79 with SMTP id d75a77b69052e-48b28e206a3mr197596811cf.0.1746427964448; Sun, 04 May 2025 23:52:44 -0700 (PDT) Received: from postal.iol.unh.edu (postal.iol.unh.edu. [2606:4100:3880:1234::84]) by smtp-relay.gmail.com with ESMTPS id d75a77b69052e-48b960cf0c0sm16636471cf.4.2025.05.04.23.52.44 (version=TLS1_2 cipher=ECDHE-ECDSA-AES128-GCM-SHA256 bits=128/128); Sun, 04 May 2025 23:52:44 -0700 (PDT) X-Relaying-Domain: iol.unh.edu Date: Sun, 04 May 2025 23:52:44 -0700 (PDT) Message-ID: <6818603c.c80a0220.265f01.ffdcSMTPIN_ADDED_MISSING@mx.google.com> Received: from [172.21.0.5] (unknown [172.18.0.240]) by postal.iol.unh.edu (Postfix) with ESMTP id 20C586052471; Mon, 5 May 2025 02:52:44 -0400 (EDT) Subject: |SUCCESS| [GIT MASTER] 83a7a648344674c0269fcaeb71d8d16468421a0e From: dpdklab@iol.unh.edu To: Test Report Cc: dpdk-test-reports@iol.unh.edu, Xueming Li , Christian Ehrhardt , Kevin Traynor , Luca Boccassi Content-Type: text/plain X-BeenThere: test-report@dpdk.org X-Mailman-Version: 2.1.29 Precedence: list List-Id: automatic DPDK test reports List-Unsubscribe: , List-Archive: List-Post: List-Help: List-Subscribe: , Errors-To: test-report-bounces@dpdk.org _Testing PASS_ Branch: tags/v23.11 83a7a648344674c0269fcaeb71d8d16468421a0e --> testing pass Upstream job id: Generic-Unit-Test-DPDK#335176 Test environment and result as below: +-----------------------------+--------------+------------------------------+---------------------------+----------------+ | Environment | lpm_autotest | cryptodev_sw_snow3g_autotest | cryptodev_sw_zuc_autotest | dpdk_unit_test | +=============================+==============+==============================+===========================+================+ | Ubuntu 20.04 ARM SVE | PASS | SKIPPED | SKIPPED | SKIPPED | +-----------------------------+--------------+------------------------------+---------------------------+----------------+ | Debian 12 (arm) | SKIPPED | PASS | PASS | PASS | +-----------------------------+--------------+------------------------------+---------------------------+----------------+ | CentOS Stream 9 (ARM) | SKIPPED | SKIPPED | SKIPPED | PASS | +-----------------------------+--------------+------------------------------+---------------------------+----------------+ | CentOS Stream 10 (ARM) | SKIPPED | SKIPPED | SKIPPED | PASS | +-----------------------------+--------------+------------------------------+---------------------------+----------------+ | Fedora 41 (ARM Clang) | SKIPPED | SKIPPED | SKIPPED | PASS | +-----------------------------+--------------+------------------------------+---------------------------+----------------+ | RHEL9 (ARM) | SKIPPED | SKIPPED | SKIPPED | PASS | +-----------------------------+--------------+------------------------------+---------------------------+----------------+ | Fedora 40 (ARM Clang) | SKIPPED | SKIPPED | SKIPPED | PASS | +-----------------------------+--------------+------------------------------+---------------------------+----------------+ | Fedora 40 (ARM) | SKIPPED | SKIPPED | SKIPPED | PASS | +-----------------------------+--------------+------------------------------+---------------------------+----------------+ | Fedora 41 (ARM) | SKIPPED | SKIPPED | SKIPPED | PASS | +-----------------------------+--------------+------------------------------+---------------------------+----------------+ | Ubuntu 20.04 (ARM) | SKIPPED | SKIPPED | SKIPPED | PASS | +-----------------------------+--------------+------------------------------+---------------------------+----------------+ | Ubuntu 24.04 (ARM) | SKIPPED | SKIPPED | SKIPPED | PASS | +-----------------------------+--------------+------------------------------+---------------------------+----------------+ | Ubuntu 22.04 (ARM) | SKIPPED | SKIPPED | SKIPPED | PASS | +-----------------------------+--------------+------------------------------+---------------------------+----------------+ | 32-bit Ubuntu 22.04.4 (ARM) | SKIPPED | SKIPPED | SKIPPED | PASS | +-----------------------------+--------------+------------------------------+---------------------------+----------------+ Ubuntu 20.04 ARM SVE Kernel: Depends on container host Compiler: gcc (Ubuntu 10.5.0-1ubuntu1~20.04) 10.5.0 Debian 12 (arm) Kernel: Depends on container host Compiler: gcc (Debian 12.2.0-14) 12.2.0 CentOS Stream 9 (ARM) Kernel: Depends on container host Compiler: gcc 11.5.0 20240719 (Red Hat 11.5.0-2) CentOS Stream 10 (ARM) Kernel: Depends on container host Compiler: gcc 14.2.1 20241104 (Red Hat 14.2.1-6) Fedora 41 (ARM Clang) Kernel: Depends on container host Compiler: clang 19.1.5 (Fedora 19.1.5-1.fc41) RHEL9 (ARM) Kernel: Depends on container host Compiler: gcc 11.5.0 20240719 (Red Hat 11.5.0-2) Fedora 40 (ARM Clang) Kernel: Depends on container host Compiler: clang 18.1.8 (Fedora 18.1.8-1.fc40) Fedora 40 (ARM) Kernel: Depends on container host Compiler: gcc 14.2.1 20240912 (Red Hat 14.2.1-3) Fedora 41 (ARM) Kernel: Depends on container host Compiler: gcc 14.2.1 20240912 (Red Hat 14.2.1-3) Ubuntu 20.04 (ARM) Kernel: Depends on container host Compiler: gcc (Ubuntu 9.4.0-1ubuntu1~20.04.2) 9.4.0 Ubuntu 24.04 (ARM) Kernel: Depends on container host Compiler: gcc (Ubuntu 13.3.0-6ubuntu2~24.04) 13.3.0 Ubuntu 22.04 (ARM) Kernel: Depends on container host Compiler: gcc (Ubuntu 11.4.0-1ubuntu1~22.04) 11.4.0 32-bit Ubuntu 22.04.4 (ARM) Kernel: 5.15.83+ aarch64 Compiler: gcc (Ubuntu 11.4.0-1ubuntu1~22.04) 11.4.0 To view detailed results, visit: https://lab.dpdk.org/results/dashboard/tarballs/33427/ UNH-IOL DPDK Community Lab To manage your email subscriptions, visit: https://lab.dpdk.org/results/dashboard/preferences/subscriptions/