From mboxrd@z Thu Jan 1 00:00:00 1970 Return-Path: Received: from mails.dpdk.org (mails.dpdk.org [217.70.189.124]) by inbox.dpdk.org (Postfix) with ESMTP id 31352466C8 for ; Mon, 5 May 2025 09:10:36 +0200 (CEST) Received: from mails.dpdk.org (localhost [127.0.0.1]) by mails.dpdk.org (Postfix) with ESMTP id 09C1940650; Mon, 5 May 2025 09:10:36 +0200 (CEST) Received: from mail-oi1-f226.google.com (mail-oi1-f226.google.com [209.85.167.226]) by mails.dpdk.org (Postfix) with ESMTP id DD2934025D for ; Mon, 5 May 2025 09:10:34 +0200 (CEST) Received: by mail-oi1-f226.google.com with SMTP id 5614622812f47-3f94b7bd964so3243529b6e.1 for ; Mon, 05 May 2025 00:10:34 -0700 (PDT) DKIM-Signature: v=1; a=rsa-sha256; c=relaxed/relaxed; d=iol.unh.edu; s=unh-iol; t=1746429033; x=1747033833; darn=dpdk.org; h=cc:to:from:subject:message-id:date:from:to:cc:subject:date :message-id:reply-to; bh=XqVqq7ezjoNYc694SFkDMSrBLvhc8NCsJjd9MnofVK0=; b=Z7K990U3/aeuiWQ7CtjBUwRnlv1yRSG9MZOX8ayZl18gOH3n4mtVMA8U1CZzvmltgF NuxWrm17DcsfLpGWdt/qH6s4K4d8AGqhc6XSIC/vezU2sqX8jCetiVdw+kcR+sIOY93W OX04NjTknlf+SDS7EkuH6LvSxjBi/EqSJMxmE= X-Google-DKIM-Signature: v=1; a=rsa-sha256; c=relaxed/relaxed; d=1e100.net; s=20230601; t=1746429033; x=1747033833; h=cc:to:from:subject:message-id:date:x-gm-message-state:from:to:cc :subject:date:message-id:reply-to; bh=XqVqq7ezjoNYc694SFkDMSrBLvhc8NCsJjd9MnofVK0=; b=rMRyp/5hlaR5MmvhD8bEhUJk/IdmASvYe9E0/Ga3mNnZPXOc9lfZudd8/fihzUudyH MMLiNUlkvpntkrubv94hMika02rYg3lweHff26uHjvPwWOQMH7EQ/LQCf1V4WLHRCFFA gAOdOaAthdnVXNa3KXntYM3eH3lDmPOLPOmrZfzfRecb/mO+qtK8uXN6ra8yUfuJ+1Ct p4M2aFYiIsUHzywz/jM2iX678J5/3NbXFl675egAp25G7NTMOX+9bkUVqBqDRHMyZkrP aMKgAHf4g4/MEXHsOkw+3rdpPb8TJN3UWvU/kMn7+MEb8oXnnKk+JwEhkV9NMglWTyC5 BxHg== X-Gm-Message-State: AOJu0Yx02WEOfmufP/3P1wOi96Sss3HdZ7TC7IcjSqRFqSU9bbmIJxZg nXrgzuH2DFJxOml6KDrueX0ynF3+io97u0VbRLrO3tUVnuSP1uAjMZvv4ZFgzUYwHLJ98NVGhhG bj8BskmZQI3STXSrAKlAM2WYh1nuMK0AT X-Gm-Gg: ASbGncs+ai2U9sPMUFdQjsSJLTkuIBr1XxC3bJroJP3en+P6Hhwyagw1xevvfXFdh+J eu4snLvNT0In7s7+iVqmXpXZksHCWnMNx5SNoPLcx1by+XetlL8Nbjspw0FtXOmEGklIFTPLKZt RVoCmy4zknkWourTcVjzw2xTvBRp9Au1xEaGjJ/mmXYd+y3UZCKBBBXJ09t5/H6qHjPJTXAfZGg cgL9iRZ/l5JIuaV2VOQrb7F+zSwVH2VqYbfrYWLb9n4DG+SHPpBjmBNO0aRapGr0gEPHkniZP61 wmMiqSn1/daR8uLN+DjsUS387ihI0kDzXkC9h68wjwS0xl7oNFBrbhVRz0E= X-Google-Smtp-Source: AGHT+IFIHhx1iG64A5tEgM53tvpDy12veJoBZAcUisADABtM1Nf7IPjKvsGfPWHlLFjsXvdUk/IJW32LbQLb X-Received: by 2002:a05:6870:8989:b0:296:bbc8:4a82 with SMTP id 586e51a60fabf-2dae85c51e4mr3919064fac.27.1746429033694; Mon, 05 May 2025 00:10:33 -0700 (PDT) Received: from postal.iol.unh.edu (postal.iol.unh.edu. [132.177.123.84]) by smtp-relay.gmail.com with ESMTPS id 586e51a60fabf-2daa0f94dd1sm2084795fac.20.2025.05.05.00.10.33 (version=TLS1_2 cipher=ECDHE-ECDSA-AES128-GCM-SHA256 bits=128/128); Mon, 05 May 2025 00:10:33 -0700 (PDT) X-Relaying-Domain: iol.unh.edu Date: Mon, 05 May 2025 00:10:33 -0700 (PDT) Message-ID: <68186469.050a0220.3a2123.3c8eSMTPIN_ADDED_MISSING@mx.google.com> Received: from [172.21.0.5] (unknown [172.18.0.240]) by postal.iol.unh.edu (Postfix) with ESMTP id D2E266052471; Mon, 5 May 2025 03:10:32 -0400 (EDT) Subject: |SUCCESS| [GIT MASTER] 4401486b5e30d43a134f80f9802f60b5f43e74a8 From: dpdklab@iol.unh.edu To: Test Report Cc: dpdk-test-reports@iol.unh.edu, Xueming Li , Christian Ehrhardt , Kevin Traynor , Luca Boccassi Content-Type: text/plain X-BeenThere: test-report@dpdk.org X-Mailman-Version: 2.1.29 Precedence: list List-Id: automatic DPDK test reports List-Unsubscribe: , List-Archive: List-Post: List-Help: List-Subscribe: , Errors-To: test-report-bounces@dpdk.org _Testing PASS_ Branch: tags/v22.11 4401486b5e30d43a134f80f9802f60b5f43e74a8 --> testing pass Upstream job id: Generic-Unit-Test-DPDK#335173 Test environment and result as below: +-----------------------------+---------------------------+--------------+------------------------------+----------------+ | Environment | cryptodev_sw_zuc_autotest | lpm_autotest | cryptodev_sw_snow3g_autotest | dpdk_unit_test | +=============================+===========================+==============+==============================+================+ | Debian 12 (arm) | PASS | SKIPPED | PASS | SKIPPED | +-----------------------------+---------------------------+--------------+------------------------------+----------------+ | Ubuntu 20.04 ARM SVE | SKIPPED | PASS | SKIPPED | SKIPPED | +-----------------------------+---------------------------+--------------+------------------------------+----------------+ | 32-bit Ubuntu 22.04.4 (ARM) | SKIPPED | SKIPPED | SKIPPED | PASS | +-----------------------------+---------------------------+--------------+------------------------------+----------------+ Debian 12 (arm) Kernel: Depends on container host Compiler: gcc (Debian 12.2.0-14) 12.2.0 Ubuntu 20.04 ARM SVE Kernel: Depends on container host Compiler: gcc (Ubuntu 10.5.0-1ubuntu1~20.04) 10.5.0 32-bit Ubuntu 22.04.4 (ARM) Kernel: 5.15.83+ aarch64 Compiler: gcc (Ubuntu 11.4.0-1ubuntu1~22.04) 11.4.0 To view detailed results, visit: https://lab.dpdk.org/results/dashboard/tarballs/33426/ UNH-IOL DPDK Community Lab To manage your email subscriptions, visit: https://lab.dpdk.org/results/dashboard/preferences/subscriptions/