From mboxrd@z Thu Jan 1 00:00:00 1970 Return-Path: Received: from mails.dpdk.org (mails.dpdk.org [217.70.189.124]) by inbox.dpdk.org (Postfix) with ESMTP id 6CC05466C8 for ; Mon, 5 May 2025 09:21:08 +0200 (CEST) Received: from mails.dpdk.org (localhost [127.0.0.1]) by mails.dpdk.org (Postfix) with ESMTP id 672B24026D; Mon, 5 May 2025 09:21:08 +0200 (CEST) Received: from mail-il1-f226.google.com (mail-il1-f226.google.com [209.85.166.226]) by mails.dpdk.org (Postfix) with ESMTP id C06E24025D for ; Mon, 5 May 2025 09:21:06 +0200 (CEST) Received: by mail-il1-f226.google.com with SMTP id e9e14a558f8ab-3d4436ba324so37862735ab.2 for ; Mon, 05 May 2025 00:21:06 -0700 (PDT) DKIM-Signature: v=1; a=rsa-sha256; c=relaxed/relaxed; d=iol.unh.edu; s=unh-iol; t=1746429666; x=1747034466; darn=dpdk.org; h=cc:to:from:subject:message-id:date:from:to:cc:subject:date :message-id:reply-to; bh=/bUNdQ2vcTE903IWluif3SUX3qjk9IEOod9kN3jQFAo=; b=hss8kjXwr5bRmWdQa8FRZ7eNJ+qgC/BoG/IoekwJze/6XB5uuD4GXh1Ko/jCgXJBth sB3RTEuUSirLVvvsOxInlO47ji4uGYHZOTPpmv22o9QlZ7Ol7SoL9HWnJG6pe9TW41L7 nn+NsIGj3kGLY4NNpwphkGjrJwoiQbF8i32zM= X-Google-DKIM-Signature: v=1; a=rsa-sha256; c=relaxed/relaxed; d=1e100.net; s=20230601; t=1746429666; x=1747034466; h=cc:to:from:subject:message-id:date:x-gm-message-state:from:to:cc :subject:date:message-id:reply-to; bh=/bUNdQ2vcTE903IWluif3SUX3qjk9IEOod9kN3jQFAo=; b=RrRADfOUG99HcLs7OlOTBRoqysVJurp64ZMAopiAvcP3yd6bwRU3IjP8mnDc/22Njn bsYdgkA3ckJ0gdjHbBmbWqUHHfAmC4/k5EyonGo2B4ioMzIc0ujAR1HSIRaOgkBL6h6/ 5n7pGLqQWpcSWWaItkBrtOsNjkDm31nAsaVMZiS7yKAWmj8QGeEpgtUfHC2I1QV1DsiU kUQdmJG556+fzKvPdEC51MiX3yEcqO8aDSlhouJ/pvbNoXDSVQ+AhJ7IdLuxbpZtTv+F hO5Jrhm9QjZ30D7k0+PLnI5TcjED+XNocvsES0UpxfdVBrah7EqRcv0EYSqZR3JvyLxv ioxA== X-Gm-Message-State: AOJu0YyL6dZveHbHp4L1yG3w4LFrMaN6agF8WyvPhEkfogp1LXlfzorQ o0u0eQzotxCdEhtE0YpjXf8Fr7Kvo8mgQFy2Bfc5mgZWmQA536Wefwd9Ua1nfGODZeL0UNgee4T wNjZ4kHT8rDny6GF5aU91w5nJwHpjqGjcGrw0T/m9bygfKFuz X-Gm-Gg: ASbGncsTHYnVGHVuMEpD/jJ1+wteRFdxkFrtP1IGlQ/ONERE0yBvxsTp2slQnWw7QN2 JM7xl06nNTiSzbumTzQuv73fTWTxXOCCLPzGWccEYGNfC1cq1yy9JPryAX7q2FApd1F2wUjE3Gw grQt69RimDYihQsZBm3syvhfbS5O5CeOmsR4n5+OSm+4o9hRLhw2HqAd2LIPXY3GoIDOcprsgJc pN+ePS/TGznuwIHcN5FQOBLu6wA9Zm2JTQsWiOTu40AhSLSViHPFCx1pPNzDTTRjdbTJV0cyC0c wBV1hlwasuhium/je8qybLhzw53FPZR9Ebkv X-Google-Smtp-Source: AGHT+IF0ZlxEeyHvnZ3ZrOYJ88WCdYnhbX7ef4RGpzHQDypW2U5k+xYxuNlUN8KLirDt6aUtHpPtkQ+8jidU X-Received: by 2002:a05:6e02:1549:b0:3d8:1f87:9431 with SMTP id e9e14a558f8ab-3da5b2a03c5mr63742995ab.12.1746429666115; Mon, 05 May 2025 00:21:06 -0700 (PDT) Received: from postal.iol.unh.edu (postal.iol.unh.edu. [2606:4100:3880:1234::84]) by smtp-relay.gmail.com with ESMTPS id e9e14a558f8ab-3d975e81ee4sm20441575ab.20.2025.05.05.00.21.06 (version=TLS1_2 cipher=ECDHE-ECDSA-AES128-GCM-SHA256 bits=128/128); Mon, 05 May 2025 00:21:06 -0700 (PDT) X-Relaying-Domain: iol.unh.edu Date: Mon, 05 May 2025 00:21:06 -0700 (PDT) Message-ID: <681866e2.050a0220.db69e.3716SMTPIN_ADDED_MISSING@mx.google.com> Received: from [172.21.0.5] (unknown [172.18.0.240]) by postal.iol.unh.edu (Postfix) with ESMTP id 919736052471; Mon, 5 May 2025 03:21:05 -0400 (EDT) Subject: |SUCCESS| [GIT MASTER] 4c5634de9f933555bab9c64a533d3dca999071cd From: dpdklab@iol.unh.edu To: Test Report Cc: dpdk-test-reports@iol.unh.edu, Xueming Li , Christian Ehrhardt , Kevin Traynor , Luca Boccassi Content-Type: text/plain X-BeenThere: test-report@dpdk.org X-Mailman-Version: 2.1.29 Precedence: list List-Id: automatic DPDK test reports List-Unsubscribe: , List-Archive: List-Post: List-Help: List-Subscribe: , Errors-To: test-report-bounces@dpdk.org _Testing PASS_ Branch: tags/v24.11 4c5634de9f933555bab9c64a533d3dca999071cd --> testing pass Upstream job id: Generic-DPDK-Compile-Meson#384875 Test environment and result as below: +------------------------------------+--------------------+ | Environment | dpdk_meson_compile | +====================================+====================+ | Ubuntu 20.04 ARM GCC Cross Compile | PASS | +------------------------------------+--------------------+ | Debian 12 with MUSDK | PASS | +------------------------------------+--------------------+ | Fedora 40 (ARM Clang) | PASS | +------------------------------------+--------------------+ | Ubuntu 20.04 ARM SVE | PASS | +------------------------------------+--------------------+ | Fedora 41 (ARM Clang) | PASS | +------------------------------------+--------------------+ | RHEL9 (ARM) | PASS | +------------------------------------+--------------------+ | Fedora 40 (ARM) | PASS | +------------------------------------+--------------------+ | Fedora 41 (ARM) | PASS | +------------------------------------+--------------------+ | Ubuntu 20.04 (ARM) | PASS | +------------------------------------+--------------------+ | Ubuntu 24.04 (ARM) | PASS | +------------------------------------+--------------------+ | Ubuntu 22.04 (ARM) | PASS | +------------------------------------+--------------------+ | CentOS Stream 10 (ARM) | PASS | +------------------------------------+--------------------+ | CentOS Stream 9 (ARM) | PASS | +------------------------------------+--------------------+ | Debian 12 (arm) | PASS | +------------------------------------+--------------------+ Ubuntu 20.04 ARM GCC Cross Compile Kernel: Depends on container host Compiler: aarch64-linux-gnu-gcc (Ubuntu 9.4.0-1ubuntu1~20.04.2) 9.4.0 Debian 12 with MUSDK Kernel: Depends on container host Compiler: gcc (Debian 12.2.0-14) 12.2.0 Fedora 40 (ARM Clang) Kernel: Depends on container host Compiler: clang 18.1.8 (Fedora 18.1.8-1.fc40) Ubuntu 20.04 ARM SVE Kernel: Depends on container host Compiler: gcc (Ubuntu 10.5.0-1ubuntu1~20.04) 10.5.0 Fedora 41 (ARM Clang) Kernel: Depends on container host Compiler: clang 19.1.5 (Fedora 19.1.5-1.fc41) RHEL9 (ARM) Kernel: Depends on container host Compiler: gcc 11.5.0 20240719 (Red Hat 11.5.0-2) Fedora 40 (ARM) Kernel: Depends on container host Compiler: gcc 14.2.1 20240912 (Red Hat 14.2.1-3) Fedora 41 (ARM) Kernel: Depends on container host Compiler: gcc 14.2.1 20240912 (Red Hat 14.2.1-3) Ubuntu 20.04 (ARM) Kernel: Depends on container host Compiler: gcc (Ubuntu 9.4.0-1ubuntu1~20.04.2) 9.4.0 Ubuntu 24.04 (ARM) Kernel: Depends on container host Compiler: gcc (Ubuntu 13.3.0-6ubuntu2~24.04) 13.3.0 Ubuntu 22.04 (ARM) Kernel: Depends on container host Compiler: gcc (Ubuntu 11.4.0-1ubuntu1~22.04) 11.4.0 CentOS Stream 10 (ARM) Kernel: Depends on container host Compiler: gcc 14.2.1 20241104 (Red Hat 14.2.1-6) CentOS Stream 9 (ARM) Kernel: Depends on container host Compiler: gcc 11.5.0 20240719 (Red Hat 11.5.0-2) Debian 12 (arm) Kernel: Depends on container host Compiler: gcc (Debian 12.2.0-14) 12.2.0 To view detailed results, visit: https://lab.dpdk.org/results/dashboard/tarballs/33425/ UNH-IOL DPDK Community Lab To manage your email subscriptions, visit: https://lab.dpdk.org/results/dashboard/preferences/subscriptions/