From mboxrd@z Thu Jan 1 00:00:00 1970 Return-Path: Received: from mails.dpdk.org (mails.dpdk.org [217.70.189.124]) by inbox.dpdk.org (Postfix) with ESMTP id E81E7466C8 for ; Mon, 5 May 2025 09:42:04 +0200 (CEST) Received: from mails.dpdk.org (localhost [127.0.0.1]) by mails.dpdk.org (Postfix) with ESMTP id E28504026D; Mon, 5 May 2025 09:42:04 +0200 (CEST) Received: from mail-qv1-f98.google.com (mail-qv1-f98.google.com [209.85.219.98]) by mails.dpdk.org (Postfix) with ESMTP id 8643F4025D for ; Mon, 5 May 2025 09:42:03 +0200 (CEST) Received: by mail-qv1-f98.google.com with SMTP id 6a1803df08f44-6e8f06e13a4so63891076d6.0 for ; Mon, 05 May 2025 00:42:03 -0700 (PDT) DKIM-Signature: v=1; a=rsa-sha256; c=relaxed/relaxed; d=iol.unh.edu; s=unh-iol; t=1746430923; x=1747035723; darn=dpdk.org; h=cc:to:from:subject:message-id:date:from:to:cc:subject:date :message-id:reply-to; bh=VI/lfJvlS5Xbdbqmaf5ut/fYdQ5whTLzGyLkkx5V134=; b=gFT0vPZ8VRds28Vf1KBXvspXrCMS7QMhOQ7wEdAY6nEXt17LAzoMLQAtVjqjZmVR7c UOscNkVsWwrHczj93SFUmDKMRmamowLXzoC+CweV9HW+bqyUz9nHmRbjkm7lXthPiYjW 1+qi6mPnyQy3qxzxbUp3KSE5VNy9dU/ZMgX1Q= X-Google-DKIM-Signature: v=1; a=rsa-sha256; c=relaxed/relaxed; d=1e100.net; s=20230601; t=1746430923; x=1747035723; h=cc:to:from:subject:message-id:date:x-gm-message-state:from:to:cc :subject:date:message-id:reply-to; bh=VI/lfJvlS5Xbdbqmaf5ut/fYdQ5whTLzGyLkkx5V134=; b=TOa/ZHGPrsYDvc+9MQ4URYICX61kAf8+rlOwFc/8nOhkJjw5CGKjf+mZJxqgqbCjU0 lbuM/hNZhIopZl61tOyXfSqzAvTstRqmwW2TceRA/4j7QKtMhwHFnEDyQuSKQOcQQeEb kDRaTlVCsRHdxuhUdq/xxYLs3LUWtjSYtGPZg6zZnQsXIy4IEffu/HnrnRGnVUhO7BN7 JzAdo3q0jLz3ikoAHs8v9xEmHG+TBo6XChJm17gyNiOD43iigB66v6HCx0HZHK7WLpfA cFbEpB9VpQgVJ0OX9EVIm+Semyn8U11VbpJWHeMLkgY+8UqwcIdruZoEQJJ7VgSZ97X8 7XAQ== X-Gm-Message-State: AOJu0Yxc1720HZHHA2q7zKOGG4ldIuyMS4Bo80O8fVVfa2dbwOY50Ys7 BMklYso6f9ixyJiUqhpK4IO/n4Thb8JTTINQ+BI9L6ivhIkVS58YSq3sPE545stZqCikKqQZegZ ekZG9MQqu0xq7OUhjV15ZP+z2OSOx+P8t30S11zS/+ZHycjRA X-Gm-Gg: ASbGncuxc/IfIE4wlTfWFSmnoSPSWm/vTmF7rtIjvZ5dMJr1SHTfJ8CagJY75Z+vClA isRJtzdHoHkVsFE/RK9LgcC5vxlFSb2uMjBO4HAsTy35ypABOMXrcS0RpfU1kGz+DKrtLvoz2Xw E72do7jt8y/P20wW7LOoZ+bmIlKeOG0hx/tveW0nUwSb7W9GuIcNLRb5GL0GsBERy4mLIN2U8FJ 8iVcoMxp/PO0tGUx8G5CISseF6WHyaNEdRU9nnWPX8srHBZ2CLz4C9zyQh7IyTjG2Qh/FzceOIw S9glP3Ffk6Lsybl2r7+rdMSZnLNfnKvQB+19 X-Google-Smtp-Source: AGHT+IGQuuyiUbzF7opNHSxNpjUuatFiSAOocb3ee38GPFvp9P7+A37gJozdKE6fs8iBm+bJqIWYwuGQ2YOg X-Received: by 2002:a05:6214:2388:b0:6d9:ac3:e730 with SMTP id 6a1803df08f44-6f50b1e8793mr239584166d6.5.1746430922947; Mon, 05 May 2025 00:42:02 -0700 (PDT) Received: from postal.iol.unh.edu (postal.iol.unh.edu. [2606:4100:3880:1234::84]) by smtp-relay.gmail.com with ESMTPS id 6a1803df08f44-6f50f48d0cesm21717246d6.64.2025.05.05.00.42.02 (version=TLS1_2 cipher=ECDHE-ECDSA-AES128-GCM-SHA256 bits=128/128); Mon, 05 May 2025 00:42:02 -0700 (PDT) X-Relaying-Domain: iol.unh.edu Date: Mon, 05 May 2025 00:42:02 -0700 (PDT) Message-ID: <68186bca.d40a0220.bf57f.5aa2SMTPIN_ADDED_MISSING@mx.google.com> Received: from [172.21.0.5] (unknown [172.18.0.240]) by postal.iol.unh.edu (Postfix) with ESMTP id 982046052471; Mon, 5 May 2025 03:42:02 -0400 (EDT) Subject: |SUCCESS| [GIT MASTER] 4401486b5e30d43a134f80f9802f60b5f43e74a8 From: dpdklab@iol.unh.edu To: Test Report Cc: dpdk-test-reports@iol.unh.edu, Xueming Li , Christian Ehrhardt , Kevin Traynor , Luca Boccassi Content-Type: text/plain X-BeenThere: test-report@dpdk.org X-Mailman-Version: 2.1.29 Precedence: list List-Id: automatic DPDK test reports List-Unsubscribe: , List-Archive: List-Post: List-Help: List-Subscribe: , Errors-To: test-report-bounces@dpdk.org _Testing PASS_ Branch: tags/v22.11 4401486b5e30d43a134f80f9802f60b5f43e74a8 --> testing pass Upstream job id: Generic-DPDK-Compile-Meson#384889 Test environment and result as below: +------------------------------------+--------------------+ | Environment | dpdk_meson_compile | +====================================+====================+ | Ubuntu 20.04 ARM SVE | PASS | +------------------------------------+--------------------+ | RHEL9 (ARM) | PASS | +------------------------------------+--------------------+ | Ubuntu 20.04 ARM GCC Cross Compile | PASS | +------------------------------------+--------------------+ | Fedora 40 (ARM Clang) | PASS | +------------------------------------+--------------------+ | Debian 12 with MUSDK | PASS | +------------------------------------+--------------------+ | Ubuntu 20.04 (ARM) | PASS | +------------------------------------+--------------------+ | Fedora 40 (ARM) | PASS | +------------------------------------+--------------------+ | Fedora 41 (ARM) | PASS | +------------------------------------+--------------------+ | Debian 12 (arm) | PASS | +------------------------------------+--------------------+ | Ubuntu 24.04 (ARM) | PASS | +------------------------------------+--------------------+ | Ubuntu 22.04 (ARM) | PASS | +------------------------------------+--------------------+ | CentOS Stream 9 (ARM) | PASS | +------------------------------------+--------------------+ | CentOS Stream 10 (ARM) | PASS | +------------------------------------+--------------------+ | Fedora 41 (ARM Clang) | PASS | +------------------------------------+--------------------+ Ubuntu 20.04 ARM SVE Kernel: Depends on container host Compiler: gcc (Ubuntu 10.5.0-1ubuntu1~20.04) 10.5.0 RHEL9 (ARM) Kernel: Depends on container host Compiler: gcc 11.5.0 20240719 (Red Hat 11.5.0-2) Ubuntu 20.04 ARM GCC Cross Compile Kernel: Depends on container host Compiler: aarch64-linux-gnu-gcc (Ubuntu 9.4.0-1ubuntu1~20.04.2) 9.4.0 Fedora 40 (ARM Clang) Kernel: Depends on container host Compiler: clang 18.1.8 (Fedora 18.1.8-1.fc40) Debian 12 with MUSDK Kernel: Depends on container host Compiler: gcc (Debian 12.2.0-14) 12.2.0 Ubuntu 20.04 (ARM) Kernel: Depends on container host Compiler: gcc (Ubuntu 9.4.0-1ubuntu1~20.04.2) 9.4.0 Fedora 40 (ARM) Kernel: Depends on container host Compiler: gcc 14.2.1 20240912 (Red Hat 14.2.1-3) Fedora 41 (ARM) Kernel: Depends on container host Compiler: gcc 14.2.1 20240912 (Red Hat 14.2.1-3) Debian 12 (arm) Kernel: Depends on container host Compiler: gcc (Debian 12.2.0-14) 12.2.0 Ubuntu 24.04 (ARM) Kernel: Depends on container host Compiler: gcc (Ubuntu 13.3.0-6ubuntu2~24.04) 13.3.0 Ubuntu 22.04 (ARM) Kernel: Depends on container host Compiler: gcc (Ubuntu 11.4.0-1ubuntu1~22.04) 11.4.0 CentOS Stream 9 (ARM) Kernel: Depends on container host Compiler: gcc 11.5.0 20240719 (Red Hat 11.5.0-2) CentOS Stream 10 (ARM) Kernel: Depends on container host Compiler: gcc 14.2.1 20241104 (Red Hat 14.2.1-6) Fedora 41 (ARM Clang) Kernel: Depends on container host Compiler: clang 19.1.5 (Fedora 19.1.5-1.fc41) To view detailed results, visit: https://lab.dpdk.org/results/dashboard/tarballs/33426/ UNH-IOL DPDK Community Lab To manage your email subscriptions, visit: https://lab.dpdk.org/results/dashboard/preferences/subscriptions/