From mboxrd@z Thu Jan 1 00:00:00 1970 Return-Path: Received: from mails.dpdk.org (mails.dpdk.org [217.70.189.124]) by inbox.dpdk.org (Postfix) with ESMTP id C4A42466C8 for ; Mon, 5 May 2025 09:50:01 +0200 (CEST) Received: from mails.dpdk.org (localhost [127.0.0.1]) by mails.dpdk.org (Postfix) with ESMTP id 978524026D; Mon, 5 May 2025 09:50:01 +0200 (CEST) Received: from mail-pg1-f228.google.com (mail-pg1-f228.google.com [209.85.215.228]) by mails.dpdk.org (Postfix) with ESMTP id A4B784025D for ; Mon, 5 May 2025 09:50:00 +0200 (CEST) Received: by mail-pg1-f228.google.com with SMTP id 41be03b00d2f7-af9925bbeb7so2893136a12.3 for ; Mon, 05 May 2025 00:50:00 -0700 (PDT) DKIM-Signature: v=1; a=rsa-sha256; c=relaxed/relaxed; d=iol.unh.edu; s=unh-iol; t=1746431399; x=1747036199; darn=dpdk.org; h=cc:to:from:subject:message-id:date:from:to:cc:subject:date :message-id:reply-to; bh=Op5H7hvM6dMjFvk4EtrJjRMyS9HuAMVEO5+YsDF10Ro=; b=KmTRy+d4mCmGqfO8xPgucTw23+b4ZbNANKtlP24ia/7R+uIgO/Wf9Sk6xr6jFMqY1o duX4jEbnA+Fzh5hbURYp7EUEfIzaY2MJCpi+BwOBEVPWiEBprEuDy3UVOOWhR5j4dgWZ l/MsNYBbyseu1ZsgZYrUxGnWMjFDcnja9LYTU= X-Google-DKIM-Signature: v=1; a=rsa-sha256; c=relaxed/relaxed; d=1e100.net; s=20230601; t=1746431399; x=1747036199; h=cc:to:from:subject:message-id:date:x-gm-message-state:from:to:cc :subject:date:message-id:reply-to; bh=Op5H7hvM6dMjFvk4EtrJjRMyS9HuAMVEO5+YsDF10Ro=; b=Ud1GJeueIc7WKQjJZYqCnCbYoQhXBikksmV2tZsKYiwpete1pGIPvBxRNx8NAsNsFa RlxUOvGmswsfRwYPBeI38f1iZtfO5Jx2MJk7Q26eIh00Ur7DyYgKTECUyozCdsDprmOv lKW0Kf/QPAXYQsy/5nHwzvDYsl7GTExki7MTpvDbLQ2Q7P+jKD0yFfrGEfIaJLYeaAQa svq/xqnpXS2mwPspB3/iuVLX2lv/mr+UO2f9Cneg6/mPEctFnjBTapscmMiliKdQK7XH 7LzBEL+NcIK0dtGuwO/Kw3Hc50+/k3GvAnXgAQl5BYJC9vJdHQrJRuepF46DrylaYVXI RtTg== X-Gm-Message-State: AOJu0Yx4eDPx0/IXBQirDep2MjWltimylYG64yRs2jvmIvNyc0wc+tfI /+ysZk0d8ulJFYrceRy0TgZ5ew/fjvH73vubK2jrIqKGHSbHhYQp8d+iKN3K9Duiin80ZzjGUfS /ChyJe6sLhdmouLq9Igcalt2GThdVMCt66yvc5Nz73c8o58zy X-Gm-Gg: ASbGncsizyR4DKiDU2sQGybWjHVTXrm7E1PiZXO864qA4Ah+Qh0qfv8Y4Q1amBWrtXq +EKFf6/dgwB3dmPuyM9/CG7THAhOpk4pTB3R92JQjZZUyeeDn/VY+5ZGP/q8hGLrfV1vbHPeVOe 92wXkVhWG0z0MO127dUXK/t3BRMDh6FwTuS0/JXUnCz5mJrWbiPQZO+CjnqFOwg57pMSdY725GG mfvS8cYRdCyk3HX3nJ5JAh8yB0S2pdKM5/8Q7y61JPlwHuOM33F3jIjaWnntJpSQcJCEsJAUKEg jGtFlxKXqdf7n9Zme+IrOmCCe2vr2TXBhwZP X-Google-Smtp-Source: AGHT+IHYAj+FMJsA6kD+v8mMPgeIoqDAMYIYkUBb/yznyetywh5Tr+BUaqf/OQUuwdbc8bsJbiNmkpPRGRr6 X-Received: by 2002:a17:90b:17c9:b0:2ee:8e75:4aeb with SMTP id 98e67ed59e1d1-30a619ac25dmr10482104a91.17.1746431399370; Mon, 05 May 2025 00:49:59 -0700 (PDT) Received: from postal.iol.unh.edu (postal.iol.unh.edu. [2606:4100:3880:1234::84]) by smtp-relay.gmail.com with ESMTPS id 98e67ed59e1d1-30a47460717sm2500714a91.3.2025.05.05.00.49.59 (version=TLS1_2 cipher=ECDHE-ECDSA-AES128-GCM-SHA256 bits=128/128); Mon, 05 May 2025 00:49:59 -0700 (PDT) X-Relaying-Domain: iol.unh.edu Date: Mon, 05 May 2025 00:49:59 -0700 (PDT) Message-ID: <68186da7.170a0220.1d6f84.8d4eSMTPIN_ADDED_MISSING@mx.google.com> Received: from [172.21.0.7] (unknown [172.18.0.240]) by postal.iol.unh.edu (Postfix) with ESMTP id 737D96052471; Mon, 5 May 2025 03:49:58 -0400 (EDT) Subject: |SUCCESS| [GIT MASTER] 83a7a648344674c0269fcaeb71d8d16468421a0e From: dpdklab@iol.unh.edu To: Test Report Cc: dpdk-test-reports@iol.unh.edu, Xueming Li , Christian Ehrhardt , Kevin Traynor , Luca Boccassi Content-Type: text/plain X-BeenThere: test-report@dpdk.org X-Mailman-Version: 2.1.29 Precedence: list List-Id: automatic DPDK test reports List-Unsubscribe: , List-Archive: List-Post: List-Help: List-Subscribe: , Errors-To: test-report-bounces@dpdk.org _Testing PASS_ Branch: tags/v23.11 83a7a648344674c0269fcaeb71d8d16468421a0e --> testing pass Upstream job id: Generic-Unit-Test-DPDK#335194 Test environment and result as below: +---------------------+----------------+ | Environment | dpdk_unit_test | +=====================+================+ | Debian 12 | PASS | +---------------------+----------------+ | CentOS Stream 9 | PASS | +---------------------+----------------+ | CentOS Stream 10 | PASS | +---------------------+----------------+ | Fedora 41 | PASS | +---------------------+----------------+ | Fedora 40 (Clang) | PASS | +---------------------+----------------+ | RHEL8 | PASS | +---------------------+----------------+ | Fedora 40 | PASS | +---------------------+----------------+ | Fedora 41 (Clang) | PASS | +---------------------+----------------+ | Ubuntu 24.04 | PASS | +---------------------+----------------+ | Ubuntu 20.04 | PASS | +---------------------+----------------+ | Ubuntu 22.04 | PASS | +---------------------+----------------+ | RHEL9 | PASS | +---------------------+----------------+ | Windows Server 2022 | PASS | +---------------------+----------------+ Debian 12 Kernel: Depends on container host Compiler: gcc (Debian 12.2.0-14) 12.2.0 CentOS Stream 9 Kernel: Depends on container host Compiler: gcc 11.5.0 20240719 (Red Hat 11.5.0-2) CentOS Stream 10 Kernel: Depends on container host Compiler: gcc 14.2.1 20241104 (Red Hat 14.2.1-6) Fedora 41 Kernel: Depends on container host Compiler: gcc 14.2.1 20240912 (Red Hat 14.2.1-3) Fedora 40 (Clang) Kernel: Depends on container host Compiler: clang 18.1.8 (Fedora 18.1.8-1.fc40) RHEL8 Kernel: Depends on container host Compiler: gcc 8.5.0 20210514 (Red Hat 8.5.0-22) Fedora 40 Kernel: Depends on container host Compiler: gcc 14.2.1 20240912 (Red Hat 14.2.1-3) Fedora 41 (Clang) Kernel: Depends on container host Compiler: clang 19.1.5 (Fedora 19.1.5-1.fc41) Ubuntu 24.04 Kernel: Depends on container host Compiler: gcc (Ubuntu 13.3.0-6ubuntu2~24.04) 13.3.0 Ubuntu 20.04 Kernel: Depends on container host Compiler: gcc (Ubuntu 9.4.0-1ubuntu1~20.04.2) 9.4.0 Ubuntu 22.04 Kernel: Depends on container host Compiler: gcc (Ubuntu 11.4.0-1ubuntu1~22.04) 11.4.0 RHEL9 Kernel: Depends on container host Compiler: gcc 11.5.0 20240719 (Red Hat 11.5.0-2) Windows Server 2022 Kernel: 10.0.20348.2031 Compiler: clang 15.0.7, gcc 14.1.0 (MinGW), and MSVC VS 19.39.33521 To view detailed results, visit: https://lab.dpdk.org/results/dashboard/tarballs/33427/ UNH-IOL DPDK Community Lab To manage your email subscriptions, visit: https://lab.dpdk.org/results/dashboard/preferences/subscriptions/