From mboxrd@z Thu Jan 1 00:00:00 1970 Return-Path: Received: from mails.dpdk.org (mails.dpdk.org [217.70.189.124]) by inbox.dpdk.org (Postfix) with ESMTP id 7D9A6466CA for ; Mon, 5 May 2025 10:46:03 +0200 (CEST) Received: from mails.dpdk.org (localhost [127.0.0.1]) by mails.dpdk.org (Postfix) with ESMTP id 4E7D14026D; Mon, 5 May 2025 10:46:03 +0200 (CEST) Received: from mail-yw1-f227.google.com (mail-yw1-f227.google.com [209.85.128.227]) by mails.dpdk.org (Postfix) with ESMTP id D590E4025D for ; Mon, 5 May 2025 10:46:01 +0200 (CEST) Received: by mail-yw1-f227.google.com with SMTP id 00721157ae682-6fead317874so34832337b3.0 for ; Mon, 05 May 2025 01:46:01 -0700 (PDT) DKIM-Signature: v=1; a=rsa-sha256; c=relaxed/relaxed; d=iol.unh.edu; s=unh-iol; t=1746434761; x=1747039561; darn=dpdk.org; h=cc:to:from:subject:message-id:date:from:to:cc:subject:date :message-id:reply-to; bh=k+RKVHuFqbzuKZWLlQ5xlrPLGQWW/8HrX1btEPp/gfA=; b=iEpFZ5sYiq0sQB58i3Mgirc1dcooabZBRBHCuWVBAm6wVzUahxpsvSO8N8/1LSIa9v 19rAHZC2zKZ6620XkbqeN5X3zXegJ6XfQq0MCK4NEU2b8jq1a//cQQObDwKbb2gtr8XU 3ZCIO0sLjlFGjXUPwGZMBvN4P2OqOe94ZZ70U= X-Google-DKIM-Signature: v=1; a=rsa-sha256; c=relaxed/relaxed; d=1e100.net; s=20230601; t=1746434761; x=1747039561; h=cc:to:from:subject:message-id:date:x-gm-message-state:from:to:cc :subject:date:message-id:reply-to; bh=k+RKVHuFqbzuKZWLlQ5xlrPLGQWW/8HrX1btEPp/gfA=; b=UoLYzVo7cZolFqB78mg0hGlUYrcT+GLJDCOUJpVeZsGjmoY7IAtT4qp6nx3YxE2Z6v iJCbQKugGC+vJ5M4+b+X1BetXOMtSHHfye0HQW+PCQMOscYDKEHjFRCUyRebouBrYfQP wSLj7N9zUMRQuSMfLeZGpSoq9B0GJSkTR9VP0jUYKIqG8tTJpMlL0m+k8MCRHXHZdHwS pBDYX3Hz2nvbmZivvi9CbLvqOMnU0JhAta7neMiZ/6a4qFIp84EHRBf/xyYMZLatCgx4 aahc2zuUUTYLlNcNba/e8jQmXAyongXfu9VRRXAQVJGpY/lIma3Cz0OvmJA7fX+66hDM 7dNg== X-Gm-Message-State: AOJu0Yyk7vzpSeSlwH7DcrlcvwEBE9QkbcDlxGCl1MR0jzyyUWb/9gjP L8L4VVU3V4WtB7qqPDLVfIkOYOfERfJmLFPqKrUcOmReiJUAEt3AhKQYxb56ou2QLZJ3V3/UkL2 zrlUofpXAWWeRnXFXQc6Ah2sw++vHLBfN X-Gm-Gg: ASbGncsFQ9G9vP3NeNR64j+9jw1ZDmlCNy7Q1nztUlTHUbQaifCEUDhnz9BYBCAUNnd dNrCL2naCVg8W1soTyuEacU+2eQh9MtShl7jraMTS54jlNrWFUq5UIfmc0OP7KE2mfJZ0FWP1rV 0G7nA+FfReEvU4veRbn/4w8Px96E/Rgj8gh6EEyD6LM7uwJ2zp0wKHxaZD2okE6DCGBU7uKJwYk YAJFrzikscGn0vdg9o7RjSB6DVgFd7tcinpfpSQjEFm/qAqfL7ofwL+IxmOuT3wV7qPqelpsfUp TlZfSa8QT4ogHuLpB7/oYGjp2OjSBR6J1UxSwn7HBurIgmL1Cthy94d6eFg= X-Google-Smtp-Source: AGHT+IHs9ZPlZrRsP608nSx84dWK+gDFyZTuRZYViXqvBAEa68UZ5tkEPpGkIEZfyfL6ChKYa02tL3Jesyam X-Received: by 2002:a05:690c:6908:b0:6f9:a062:2a06 with SMTP id 00721157ae682-708eaeb5288mr78743157b3.8.1746434761006; Mon, 05 May 2025 01:46:01 -0700 (PDT) Received: from postal.iol.unh.edu (postal.iol.unh.edu. [132.177.123.84]) by smtp-relay.gmail.com with ESMTPS id 00721157ae682-708c413aab8sm19080357b3.26.2025.05.05.01.46.00 (version=TLS1_2 cipher=ECDHE-ECDSA-AES128-GCM-SHA256 bits=128/128); Mon, 05 May 2025 01:46:00 -0700 (PDT) X-Relaying-Domain: iol.unh.edu Date: Mon, 05 May 2025 01:46:01 -0700 (PDT) Message-ID: <68187ac8.050a0220.b8074.0e20SMTPIN_ADDED_MISSING@mx.google.com> Received: from [172.21.0.6] (unknown [172.18.0.240]) by postal.iol.unh.edu (Postfix) with ESMTP id 8D7AA6052471; Mon, 5 May 2025 04:46:00 -0400 (EDT) Subject: |SUCCESS| [GIT MASTER] 83a7a648344674c0269fcaeb71d8d16468421a0e From: dpdklab@iol.unh.edu To: Test Report Cc: dpdk-test-reports@iol.unh.edu, Xueming Li , Christian Ehrhardt , Kevin Traynor , Luca Boccassi Content-Type: text/plain X-BeenThere: test-report@dpdk.org X-Mailman-Version: 2.1.29 Precedence: list List-Id: automatic DPDK test reports List-Unsubscribe: , List-Archive: List-Post: List-Help: List-Subscribe: , Errors-To: test-report-bounces@dpdk.org _Testing PASS_ Branch: tags/v23.11 83a7a648344674c0269fcaeb71d8d16468421a0e --> testing pass Upstream job id: Generic-DPDK-Compile-Meson#384921 Test environment and result as below: +---------------------+--------------------+-------------------+------------------+-------------------+-------------------------+----------------------+ | Environment | dpdk_meson_compile | dpdk_compile_spdk | dpdk_compile_ovs | dpdk_msvc_compile | dpdk_llvm_clang_compile | dpdk_mingw64_compile | +=====================+====================+===================+==================+===================+=========================+======================+ | CentOS Stream 9 | PASS | PASS | SKIPPED | SKIPPED | SKIPPED | SKIPPED | +---------------------+--------------------+-------------------+------------------+-------------------+-------------------------+----------------------+ | Debian 12 | PASS | PASS | SKIPPED | SKIPPED | SKIPPED | SKIPPED | +---------------------+--------------------+-------------------+------------------+-------------------+-------------------------+----------------------+ | Fedora 40 (Clang) | PASS | PASS | SKIPPED | SKIPPED | SKIPPED | SKIPPED | +---------------------+--------------------+-------------------+------------------+-------------------+-------------------------+----------------------+ | CentOS Stream 10 | PASS | SKIPPED | SKIPPED | SKIPPED | SKIPPED | SKIPPED | +---------------------+--------------------+-------------------+------------------+-------------------+-------------------------+----------------------+ | Fedora 40 | PASS | PASS | SKIPPED | SKIPPED | SKIPPED | SKIPPED | +---------------------+--------------------+-------------------+------------------+-------------------+-------------------------+----------------------+ | Fedora 41 (Clang) | PASS | PASS | PASS | SKIPPED | SKIPPED | SKIPPED | +---------------------+--------------------+-------------------+------------------+-------------------+-------------------------+----------------------+ | RHEL8 | PASS | SKIPPED | SKIPPED | SKIPPED | SKIPPED | SKIPPED | +---------------------+--------------------+-------------------+------------------+-------------------+-------------------------+----------------------+ | openSUSE Leap 15 | PASS | SKIPPED | SKIPPED | SKIPPED | SKIPPED | SKIPPED | +---------------------+--------------------+-------------------+------------------+-------------------+-------------------------+----------------------+ | RHEL9 | PASS | SKIPPED | SKIPPED | SKIPPED | SKIPPED | SKIPPED | +---------------------+--------------------+-------------------+------------------+-------------------+-------------------------+----------------------+ | Ubuntu 20.04 | PASS | SKIPPED | SKIPPED | SKIPPED | SKIPPED | SKIPPED | +---------------------+--------------------+-------------------+------------------+-------------------+-------------------------+----------------------+ | Fedora 41 | PASS | PASS | PASS | SKIPPED | SKIPPED | SKIPPED | +---------------------+--------------------+-------------------+------------------+-------------------+-------------------------+----------------------+ | Ubuntu 24.04 | PASS | PASS | PASS | SKIPPED | SKIPPED | SKIPPED | +---------------------+--------------------+-------------------+------------------+-------------------+-------------------------+----------------------+ | Ubuntu 22.04 | PASS | PASS | SKIPPED | SKIPPED | SKIPPED | SKIPPED | +---------------------+--------------------+-------------------+------------------+-------------------+-------------------------+----------------------+ | Alpine | PASS | SKIPPED | SKIPPED | SKIPPED | SKIPPED | SKIPPED | +---------------------+--------------------+-------------------+------------------+-------------------+-------------------------+----------------------+ | FreeBSD 13.5 | PASS | SKIPPED | SKIPPED | SKIPPED | SKIPPED | SKIPPED | +---------------------+--------------------+-------------------+------------------+-------------------+-------------------------+----------------------+ | FreeBSD 14.2 | PASS | SKIPPED | SKIPPED | SKIPPED | SKIPPED | SKIPPED | +---------------------+--------------------+-------------------+------------------+-------------------+-------------------------+----------------------+ | Windows Server 2022 | SKIPPED | SKIPPED | SKIPPED | PASS | PASS | PASS | +---------------------+--------------------+-------------------+------------------+-------------------+-------------------------+----------------------+ CentOS Stream 9 Kernel: Depends on container host Compiler: gcc 11.5.0 20240719 (Red Hat 11.5.0-2) Debian 12 Kernel: Depends on container host Compiler: gcc (Debian 12.2.0-14) 12.2.0 Fedora 40 (Clang) Kernel: Depends on container host Compiler: clang 18.1.8 (Fedora 18.1.8-1.fc40) CentOS Stream 10 Kernel: Depends on container host Compiler: gcc 14.2.1 20241104 (Red Hat 14.2.1-6) Fedora 40 Kernel: Depends on container host Compiler: gcc 14.2.1 20240912 (Red Hat 14.2.1-3) Fedora 41 (Clang) Kernel: Depends on container host Compiler: clang 19.1.5 (Fedora 19.1.5-1.fc41) RHEL8 Kernel: Depends on container host Compiler: gcc 8.5.0 20210514 (Red Hat 8.5.0-22) openSUSE Leap 15 Kernel: Depends on container host Compiler: gcc (SUSE Linux) 7.5.0 RHEL9 Kernel: Depends on container host Compiler: gcc 11.5.0 20240719 (Red Hat 11.5.0-2) Ubuntu 20.04 Kernel: Depends on container host Compiler: gcc (Ubuntu 9.4.0-1ubuntu1~20.04.2) 9.4.0 Fedora 41 Kernel: Depends on container host Compiler: gcc 14.2.1 20240912 (Red Hat 14.2.1-3) Ubuntu 24.04 Kernel: Depends on container host Compiler: gcc (Ubuntu 13.3.0-6ubuntu2~24.04) 13.3.0 Ubuntu 22.04 Kernel: Depends on container host Compiler: gcc (Ubuntu 11.4.0-1ubuntu1~22.04) 11.4.0 Alpine Kernel: Depends on container host Compiler: gcc (Alpine 14.2.0) 14.2.0 FreeBSD 13.5 Kernel: 13.5-RELEASE Compiler: clang 19.1.7 FreeBSD 14.2 Kernel: 14.2-RELEASE Compiler: clang 18.1.6 Windows Server 2022 Kernel: 10.0.20348.2031 Compiler: clang 15.0.7, gcc 14.1.0 (MinGW), and MSVC VS 19.39.33521 To view detailed results, visit: https://lab.dpdk.org/results/dashboard/tarballs/33427/ UNH-IOL DPDK Community Lab To manage your email subscriptions, visit: https://lab.dpdk.org/results/dashboard/preferences/subscriptions/