From mboxrd@z Thu Jan 1 00:00:00 1970 Return-Path: Received: from mails.dpdk.org (mails.dpdk.org [217.70.189.124]) by inbox.dpdk.org (Postfix) with ESMTP id 70B1D466CA for ; Mon, 5 May 2025 10:56:52 +0200 (CEST) Received: from mails.dpdk.org (localhost [127.0.0.1]) by mails.dpdk.org (Postfix) with ESMTP id 513794026D; Mon, 5 May 2025 10:56:52 +0200 (CEST) Received: from mail-il1-f227.google.com (mail-il1-f227.google.com [209.85.166.227]) by mails.dpdk.org (Postfix) with ESMTP id 21B134025D for ; Mon, 5 May 2025 10:56:51 +0200 (CEST) Received: by mail-il1-f227.google.com with SMTP id e9e14a558f8ab-3d96d16b375so22213705ab.1 for ; Mon, 05 May 2025 01:56:51 -0700 (PDT) DKIM-Signature: v=1; a=rsa-sha256; c=relaxed/relaxed; d=iol.unh.edu; s=unh-iol; t=1746435410; x=1747040210; darn=dpdk.org; h=references:in-reply-to:cc:to:from:subject:message-id:date:from:to :cc:subject:date:message-id:reply-to; bh=tIR1NO2rUpF1IjvgFaJ+Ngnk6A7nvb4SxX9jFQu9ijg=; b=Sp6aPvkauOH3GBBERE5+qeq2AyZLlzBWeupaHHtyxsJOZCPTx1LeLxw2Tv65FRfdl3 lzQXLX1nmby0SKT+niSk1zTaOsHF398dzSFqNhhPEzHsJEwboKKvbp24AMOeXrIgfs/b giyuGhYSqMAEP/ZqlL5u+I8VAO8JVGtQahrns= X-Google-DKIM-Signature: v=1; a=rsa-sha256; c=relaxed/relaxed; d=1e100.net; s=20230601; t=1746435410; x=1747040210; h=references:in-reply-to:cc:to:from:subject:message-id:date :x-gm-message-state:from:to:cc:subject:date:message-id:reply-to; bh=tIR1NO2rUpF1IjvgFaJ+Ngnk6A7nvb4SxX9jFQu9ijg=; b=a3Kq51SR+3CbZFQuV4e6TtW7maYWZooJPr9ecA2w3++kQEPY7MUv89cVpvnJKMKPJ2 sRSDLR++OnomMSSr0RWDgc7a9e1iQHKCxvSt2L9Fbf0J55Bvn9jg3dRjPoMmKTxuCDxL KtfmX2eo1RhuJp+k60TG0yb5JBVm/LdrCNFvud8vdKNety/9YKJ8LASwzTrPZUlmI73A 2/nCje4kvlXjQiHXnOZjZjx3q2sBsZliVZZPC25W9wtmtWMXD2dbvjrxELOKj3azqamY 2tIRSiYabcwFx24Y0M3MahvAOEp9BCOL0y+w92yH4rkfIN01xdBWiC4O2hoWq8zUGa2j xK5A== X-Gm-Message-State: AOJu0YzTo9cupUKn0LJHgTIZdUelJZJLLzNQ92GU2+j5XXf1aJAElbs7 uGqA1vsPrI5TYtNbObs9SX6Qpn2f0EWBR6HpYTN5Wa+RV5rH5TmVkomQ+UjGEZEK1XWx6SFfSdJ CjkLo50P5SY9hnoWQg/NbJEGCk9iyUsTKLH8aMLtTpA46Ry3mDg3VqW1E X-Gm-Gg: ASbGncsHMFVdMbhk30NK5EjFgN1P5Wg7S7OHul8npJKXdsXHAof+5/tlv9N/i9IAfLs Pt2E9/EjQfwMRPICcy0DHTrmBy08Fa01as5eVjzIW6fPY2j1/r3poAfxw00blGfoTXM5Yf/6Psi hyS8N9Gc4WVvs5VV9TBawCRNCii0h/OSlZ5uyOs4ne7aOnnr9NOcYKXqsGX5T1lZsDQHaWmTpWC 7z/UGjYV7WUT/bGH/07lHGC8W+eE/nprHOYu6HVvFXxXILRRyWZ4u0Vha/UEjAQBW5uo/8AUXkS TRBxMkUdZ1MR90A4pFKA8LjjBU4s4wE/b+KM X-Google-Smtp-Source: AGHT+IHrNy/Kj9NypkOyPduNvnodtxF47C+KgG/eCLa5od5FurSdnsd/DyK/QVTg+pOQr0OWc7lT+aico11O X-Received: by 2002:a05:6e02:1aa7:b0:3d8:18f8:fae9 with SMTP id e9e14a558f8ab-3da5b25fef5mr53518865ab.6.1746435410327; Mon, 05 May 2025 01:56:50 -0700 (PDT) Received: from postal.iol.unh.edu (postal.iol.unh.edu. [2606:4100:3880:1234::84]) by smtp-relay.gmail.com with ESMTPS id 8926c6da1cb9f-4f88a9140d2sm1942324173.23.2025.05.05.01.56.50 (version=TLS1_2 cipher=ECDHE-ECDSA-AES128-GCM-SHA256 bits=128/128); Mon, 05 May 2025 01:56:50 -0700 (PDT) X-Relaying-Domain: iol.unh.edu Date: Mon, 05 May 2025 01:56:50 -0700 (PDT) Message-ID: <68187d52.050a0220.32bf11.20bbSMTPIN_ADDED_MISSING@mx.google.com> Received: from [172.21.0.5] (unknown [172.18.0.240]) by postal.iol.unh.edu (Postfix) with ESMTP id CBB8D6052471; Mon, 5 May 2025 04:56:49 -0400 (EDT) Subject: |SUCCESS| pw153231-153230 [PATCH] [v5,2/2] drivers: add support for From: dpdklab@iol.unh.edu To: Test Report Cc: dpdk-test-reports@iol.unh.edu In-Reply-To: <20250505053304.3288290-2-kirankumark@marvell.com> References: <20250505053304.3288290-2-kirankumark@marvell.com> Content-Type: text/plain X-BeenThere: test-report@dpdk.org X-Mailman-Version: 2.1.29 Precedence: list List-Id: automatic DPDK test reports List-Unsubscribe: , List-Archive: List-Post: List-Help: List-Subscribe: , Errors-To: test-report-bounces@dpdk.org Test-Label: iol-abi-testing Test-Status: SUCCESS http://dpdk.org/patch/153230 _Testing PASS_ Submitter: Kiran Kumar Kokkilagadda Date: Monday, May 05 2025 05:33:04 DPDK git baseline: Repo:dpdk Branch: master CommitID:ca1690ebd224f148268285b15b97441ccdbdd07e 153231-153230 --> testing pass Upstream job id: Generic-DPDK-Compile-ABI#125197 Test environment and result as below: +-------------------+----------+ | Environment | abi_test | +===================+==========+ | CentOS Stream 9 | PASS | +-------------------+----------+ | CentOS Stream 10 | PASS | +-------------------+----------+ | Debian 12 | PASS | +-------------------+----------+ | Fedora 40 (Clang) | PASS | +-------------------+----------+ | Fedora 40 | PASS | +-------------------+----------+ | Fedora 41 (Clang) | PASS | +-------------------+----------+ | Fedora 41 | PASS | +-------------------+----------+ | RHEL8 | PASS | +-------------------+----------+ | RHEL9 | PASS | +-------------------+----------+ | Ubuntu 22.04 | PASS | +-------------------+----------+ | openSUSE Leap 15 | PASS | +-------------------+----------+ | Ubuntu 24.04 | PASS | +-------------------+----------+ CentOS Stream 9 Kernel: Depends on container host Compiler: gcc 11.5.0 20240719 (Red Hat 11.5.0-2) CentOS Stream 10 Kernel: Depends on container host Compiler: gcc 14.2.1 20241104 (Red Hat 14.2.1-6) Debian 12 Kernel: Depends on container host Compiler: gcc (Debian 12.2.0-14) 12.2.0 Fedora 40 (Clang) Kernel: Depends on container host Compiler: clang 18.1.8 (Fedora 18.1.8-1.fc40) Fedora 40 Kernel: Depends on container host Compiler: gcc 14.2.1 20240912 (Red Hat 14.2.1-3) Fedora 41 (Clang) Kernel: Depends on container host Compiler: clang 19.1.5 (Fedora 19.1.5-1.fc41) Fedora 41 Kernel: Depends on container host Compiler: gcc 14.2.1 20240912 (Red Hat 14.2.1-3) RHEL8 Kernel: Depends on container host Compiler: gcc 8.5.0 20210514 (Red Hat 8.5.0-22) RHEL9 Kernel: Depends on container host Compiler: gcc 11.5.0 20240719 (Red Hat 11.5.0-2) Ubuntu 22.04 Kernel: Depends on container host Compiler: gcc (Ubuntu 11.4.0-1ubuntu1~22.04) 11.4.0 openSUSE Leap 15 Kernel: Depends on container host Compiler: gcc (SUSE Linux) 7.5.0 Ubuntu 24.04 Kernel: Depends on container host Compiler: gcc (Ubuntu 13.3.0-6ubuntu2~24.04) 13.3.0 To view detailed results, visit: https://lab.dpdk.org/results/dashboard/patchsets/33100/ UNH-IOL DPDK Community Lab To manage your email subscriptions, visit: https://lab.dpdk.org/results/dashboard/preferences/subscriptions/