From mboxrd@z Thu Jan 1 00:00:00 1970 Return-Path: Received: from mails.dpdk.org (mails.dpdk.org [217.70.189.124]) by inbox.dpdk.org (Postfix) with ESMTP id CCB38466CA for ; Mon, 5 May 2025 11:00:03 +0200 (CEST) Received: from mails.dpdk.org (localhost [127.0.0.1]) by mails.dpdk.org (Postfix) with ESMTP id 9EE074026D; Mon, 5 May 2025 11:00:03 +0200 (CEST) Received: from mail-oa1-f100.google.com (mail-oa1-f100.google.com [209.85.160.100]) by mails.dpdk.org (Postfix) with ESMTP id BE9C04025D for ; Mon, 5 May 2025 11:00:01 +0200 (CEST) Received: by mail-oa1-f100.google.com with SMTP id 586e51a60fabf-2d54b936ad9so1949472fac.1 for ; Mon, 05 May 2025 02:00:01 -0700 (PDT) DKIM-Signature: v=1; a=rsa-sha256; c=relaxed/relaxed; d=iol.unh.edu; s=unh-iol; t=1746435601; x=1747040401; darn=dpdk.org; h=references:in-reply-to:cc:to:from:subject:message-id:date:from:to :cc:subject:date:message-id:reply-to; bh=U3oiTdGbKuhXGOaMGTHPTrKst0STaR0cR/bFAW4V8lw=; b=WLMXQUecKSAfyM8DvalH8G4lnfBFL3wF89MD9fmYmMne+RBntj37JD5G7evU2CfswG pvi4BOCg9/w+9BvEPrap2QgTE3nacMkZrKExYbhFNnXVC6YRT3ZYv+Io3Jc7M54TTm5+ RIhbPTg+cV7ptIRUsohzgZeIgkS0WPb4W91KQ= X-Google-DKIM-Signature: v=1; a=rsa-sha256; c=relaxed/relaxed; d=1e100.net; s=20230601; t=1746435601; x=1747040401; h=references:in-reply-to:cc:to:from:subject:message-id:date :x-gm-message-state:from:to:cc:subject:date:message-id:reply-to; bh=U3oiTdGbKuhXGOaMGTHPTrKst0STaR0cR/bFAW4V8lw=; b=dWApeARKxcis5MJnP27Ex2iLA5pwrmFJcckM91riin4fIkyFmR6A/XuYuG2ij5+ZIn k/M0ejVte6MuFBnbZ+JNaox2FnbpYVF6tZYFyQTIeflZzOHiBsCAxaL3DoIvMC4SMY6s EN1SfL0cDmKpfYll3itQ6F+D66VXeFildSKpE9ici1ZOyrVbKC6phUPoth2sBgRzsu7g jhVivZI7Pg4mwFD6PKZ7g8MOonXRWuHTu4rBlHedacOeYxcRSVEMVobTDCy3i2ROait5 Wv42XSLZCE0nJAylbeUo41mrjrZPmmS3Lsp7k8EiSHZWJAETmAxwNzdorSMekMAQvoaV tl+w== X-Gm-Message-State: AOJu0Yw2uyhIIY1ZqYIHtXUW6cl84ofzpZskmSR5+Ms/1VyOBc4GbyJR J+0VwCMeIloQa6lsHXsRT+K349dwqnDCkRsmM0wFkkEjAubMlwJVy9AGsofbAOtlnzBeWJBzBgo 4dK5Ty4gilmUWX1yglevK+INxgEb02VFxYHigJDox X-Gm-Gg: ASbGnct9lozp2SKSXx7m6CSpMnelagDl6VnXIbqJsRkOG9QepzLPrTJLUu2LqqO+vMK BaU0+Y8Xxzv+1Svn9v5JkQrM2IcDZPMBksDGeFzcjkk9pN52+5vLU23sJNG7sehfMxtIKQCnE9b breRLIRfhii724L23FMx1hBlSdMUTPlOo5ec6jbOwxprbUTytC24y+WgbHgUYn8G6Q/ww3NqvY1 +YXJGh9ntqgm6y5QRq4Pm5tgOeWg0uNswfQEvw9M2pybvQRgLBOiAuiAXNR4mHWG/bDVibq6zJ4 rr7dDPoeLHhVf270OJlttnpivef8Krwl1qE7MKNu9dUKPBXmUhczLCt0H84= X-Google-Smtp-Source: AGHT+IHbdijPcoHIDoXvFs4kgVzNKzvDMz9YiuCEgl2/+S5r4fHqd0o9hyrRYiJgq/OG2y8sGq8ppmt/nV9Q X-Received: by 2002:a05:6870:8986:b0:2d5:d5c:a851 with SMTP id 586e51a60fabf-2dad6896a17mr5075435fac.6.1746435600979; Mon, 05 May 2025 02:00:00 -0700 (PDT) Received: from postal.iol.unh.edu (postal.iol.unh.edu. [132.177.123.84]) by smtp-relay.gmail.com with ESMTPS id 586e51a60fabf-2daa120b263sm2099451fac.38.2025.05.05.02.00.00 (version=TLS1_2 cipher=ECDHE-ECDSA-AES128-GCM-SHA256 bits=128/128); Mon, 05 May 2025 02:00:00 -0700 (PDT) X-Relaying-Domain: iol.unh.edu Date: Mon, 05 May 2025 02:00:00 -0700 (PDT) Message-ID: <68187e10.050a0220.1f7c8d.3a61SMTPIN_ADDED_MISSING@mx.google.com> Received: from [172.17.0.2] (unknown [172.18.0.74]) by postal.iol.unh.edu (Postfix) with ESMTP id 67AA56052471; Mon, 5 May 2025 05:00:00 -0400 (EDT) Subject: |SUCCESS| pw153231-153230 [PATCH] [v5,2/2] drivers: add support for From: dpdklab@iol.unh.edu To: Test Report Cc: dpdk-test-reports@iol.unh.edu In-Reply-To: <20250505053304.3288290-2-kirankumark@marvell.com> References: <20250505053304.3288290-2-kirankumark@marvell.com> Content-Type: text/plain X-BeenThere: test-report@dpdk.org X-Mailman-Version: 2.1.29 Precedence: list List-Id: automatic DPDK test reports List-Unsubscribe: , List-Archive: List-Post: List-Help: List-Subscribe: , Errors-To: test-report-bounces@dpdk.org Test-Label: iol-abi-testing Test-Status: SUCCESS http://dpdk.org/patch/153230 _Testing PASS_ Submitter: Kiran Kumar Kokkilagadda Date: Monday, May 05 2025 05:33:04 DPDK git baseline: Repo:dpdk Branch: master CommitID:ca1690ebd224f148268285b15b97441ccdbdd07e 153231-153230 --> testing pass Upstream job id: Generic-DPDK-Compile-ABI#125199 Test environment and result as below: +-------------------+----------+ | Environment | abi_test | +===================+==========+ | CentOS Stream 9 | PASS | +-------------------+----------+ | CentOS Stream 10 | PASS | +-------------------+----------+ | Debian 12 | PASS | +-------------------+----------+ | Fedora 40 (Clang) | PASS | +-------------------+----------+ | Fedora 40 | PASS | +-------------------+----------+ | Fedora 41 (Clang) | PASS | +-------------------+----------+ | Fedora 41 | PASS | +-------------------+----------+ | RHEL8 | PASS | +-------------------+----------+ | RHEL9 | PASS | +-------------------+----------+ | Ubuntu 22.04 | PASS | +-------------------+----------+ | openSUSE Leap 15 | PASS | +-------------------+----------+ | Ubuntu 24.04 | PASS | +-------------------+----------+ CentOS Stream 9 Kernel: Depends on container host Compiler: gcc 11.5.0 20240719 (Red Hat 11.5.0-2) CentOS Stream 10 Kernel: Depends on container host Compiler: gcc 14.2.1 20241104 (Red Hat 14.2.1-6) Debian 12 Kernel: Depends on container host Compiler: gcc (Debian 12.2.0-14) 12.2.0 Fedora 40 (Clang) Kernel: Depends on container host Compiler: clang 18.1.8 (Fedora 18.1.8-1.fc40) Fedora 40 Kernel: Depends on container host Compiler: gcc 14.2.1 20240912 (Red Hat 14.2.1-3) Fedora 41 (Clang) Kernel: Depends on container host Compiler: clang 19.1.5 (Fedora 19.1.5-1.fc41) Fedora 41 Kernel: Depends on container host Compiler: gcc 14.2.1 20240912 (Red Hat 14.2.1-3) RHEL8 Kernel: Depends on container host Compiler: gcc 8.5.0 20210514 (Red Hat 8.5.0-22) RHEL9 Kernel: Depends on container host Compiler: gcc 11.5.0 20240719 (Red Hat 11.5.0-2) Ubuntu 22.04 Kernel: Depends on container host Compiler: gcc (Ubuntu 11.4.0-1ubuntu1~22.04) 11.4.0 openSUSE Leap 15 Kernel: Depends on container host Compiler: gcc (SUSE Linux) 7.5.0 Ubuntu 24.04 Kernel: Depends on container host Compiler: gcc (Ubuntu 13.3.0-6ubuntu2~24.04) 13.3.0 To view detailed results, visit: https://lab.dpdk.org/results/dashboard/patchsets/33100/ UNH-IOL DPDK Community Lab To manage your email subscriptions, visit: https://lab.dpdk.org/results/dashboard/preferences/subscriptions/