From mboxrd@z Thu Jan 1 00:00:00 1970 Return-Path: Received: from mails.dpdk.org (mails.dpdk.org [217.70.189.124]) by inbox.dpdk.org (Postfix) with ESMTP id 25DC3466CA for ; Mon, 5 May 2025 11:03:21 +0200 (CEST) Received: from mails.dpdk.org (localhost [127.0.0.1]) by mails.dpdk.org (Postfix) with ESMTP id EFEA34026D; Mon, 5 May 2025 11:03:20 +0200 (CEST) Received: from mail-io1-f98.google.com (mail-io1-f98.google.com [209.85.166.98]) by mails.dpdk.org (Postfix) with ESMTP id 2A2CB4025D for ; Mon, 5 May 2025 11:03:19 +0200 (CEST) Received: by mail-io1-f98.google.com with SMTP id ca18e2360f4ac-8616b7ad03bso76605639f.0 for ; Mon, 05 May 2025 02:03:19 -0700 (PDT) DKIM-Signature: v=1; a=rsa-sha256; c=relaxed/relaxed; d=iol.unh.edu; s=unh-iol; t=1746435798; x=1747040598; darn=dpdk.org; h=references:in-reply-to:cc:to:from:subject:message-id:date:from:to :cc:subject:date:message-id:reply-to; bh=l4qk/eI5MgkIdNAxWgNLmEv0tqmbAUzqUsB8bQqeVVw=; b=JlFaiKuRFH88oONRY4wcf3mmIDae07kzzAdNn68NzHgXQYCRxIEr1ZYtyrLp/oO4PD hEvUJJXtycC8wdfcyNhkuWbl5UGRoHdmUqaP6v/6M6gtEsd4IXMjBMXHZzo7z3S9BTbV flmwCcnP7l0d9wMWk0bS8I0F1FIuXBXZ/bRd8= X-Google-DKIM-Signature: v=1; a=rsa-sha256; c=relaxed/relaxed; d=1e100.net; s=20230601; t=1746435798; x=1747040598; h=references:in-reply-to:cc:to:from:subject:message-id:date :x-gm-message-state:from:to:cc:subject:date:message-id:reply-to; bh=l4qk/eI5MgkIdNAxWgNLmEv0tqmbAUzqUsB8bQqeVVw=; b=I6oHJRbTjyx5HXQUb+Fa7ENmdR9U4nELGVn7+6EFJvesCaM2BfKO5gDRf0zWAXXmPD 72NYvyipXkrqw2zRQ+F1A1DLJ/44542AG/iiann0pzFyXzZyU4WzetnYAISKEheCbvcY +HvkJ9Wy2k+PUBvZJFiyz2PtQC+1dSVZUdJQI2w1S1WJZ9CjHD7vIqEc2LpyQ0k6VD83 BgwaObo1fEliYF+COjAtIOxDPnioOtCLeRVcoV1HGcBINs7hth2oQ0BZ6Xx6mtaxaN6z bk/R/q/fAE6e2zFg3yP5dNxQaH1vLqO+jgJVX+KG/HQAOuHIF8Yh33ZU7pJxIuLLNyDQ SI/w== X-Gm-Message-State: AOJu0YwVw1/ZiMVbXXTfpZA4bO6ZuIsdKLsMBaz2wudHW6nff9S5fkx5 Z0N5OPRlMstoiFuhp/tcwtmxnHhi8lol2w/F079mpreJ5w9xg40+ar9iv80LcW+rB6/KqbWbzZs xqFsix1RL1wVrzWsh4RhSMBqBEgqoNqcdTGpL8i/k/lp4ueWySK99TvZB X-Gm-Gg: ASbGncui2VFNiFTBegpZx4Q++TqSqHdZa9dbaIicuTUrd2AgU/YshB8rWPF7mOWvRXN 5gBJ6M5KDvdEonFNf5IEuC2MdWu5HaOQUMcdqGIqfQlKK8OLRN6GbeplESNn3M/d5Pe7QHil4RN NcksZ+yRkf1710/PlP+660PpG9gVPQ3oJKBSJiFQ7XkhHttiUihu+1avzvIvYd/u2bhZ8qwVwoU bL9ZQYrACPR4Nn6WaHM7IHfgc7Osnjm7q7Dq3C5xURa60mRXKKWQ+N2psiuhJ4m2P1kv46JRhwh 5nUtxa2P8FIMSUc20SWv0EjHJkPchcEW4ilY X-Google-Smtp-Source: AGHT+IFhm0YTbSu6bulsQ/qAUpfW2f9qEMt/9kWoTTcT2FMMczZ3exPXO7XyAEFN3xqs/6aWVTzfwTG6xayz X-Received: by 2002:a05:6602:6c11:b0:85b:476e:ede2 with SMTP id ca18e2360f4ac-86713ba74e5mr543896539f.13.1746435798371; Mon, 05 May 2025 02:03:18 -0700 (PDT) Received: from postal.iol.unh.edu (postal.iol.unh.edu. [2606:4100:3880:1234::84]) by smtp-relay.gmail.com with ESMTPS id 8926c6da1cb9f-4f88a9140fcsm1909474173.18.2025.05.05.02.03.18 (version=TLS1_2 cipher=ECDHE-ECDSA-AES128-GCM-SHA256 bits=128/128); Mon, 05 May 2025 02:03:18 -0700 (PDT) X-Relaying-Domain: iol.unh.edu Date: Mon, 05 May 2025 02:03:18 -0700 (PDT) Message-ID: <68187ed6.050a0220.1d2ab2.2c77SMTPIN_ADDED_MISSING@mx.google.com> Received: from [172.17.0.3] (unknown [172.18.0.74]) by postal.iol.unh.edu (Postfix) with ESMTP id D76956052471; Mon, 5 May 2025 05:03:17 -0400 (EDT) Subject: |SUCCESS| pw153231-153230 [PATCH] [v5,2/2] drivers: add support for From: dpdklab@iol.unh.edu To: Test Report Cc: dpdk-test-reports@iol.unh.edu In-Reply-To: <20250505053304.3288290-2-kirankumark@marvell.com> References: <20250505053304.3288290-2-kirankumark@marvell.com> Content-Type: text/plain X-BeenThere: test-report@dpdk.org X-Mailman-Version: 2.1.29 Precedence: list List-Id: automatic DPDK test reports List-Unsubscribe: , List-Archive: List-Post: List-Help: List-Subscribe: , Errors-To: test-report-bounces@dpdk.org Test-Label: iol-unit-amd64-testing Test-Status: SUCCESS http://dpdk.org/patch/153230 _Testing PASS_ Submitter: Kiran Kumar Kokkilagadda Date: Monday, May 05 2025 05:33:04 DPDK git baseline: Repo:dpdk Branch: master CommitID:ca1690ebd224f148268285b15b97441ccdbdd07e 153231-153230 --> testing pass Upstream job id: Generic-Unit-Test-DPDK#335224 Test environment and result as below: +---------------------+----------------+ | Environment | dpdk_unit_test | +=====================+================+ | CentOS Stream 9 | PASS | +---------------------+----------------+ | CentOS Stream 10 | PASS | +---------------------+----------------+ | Fedora 41 | PASS | +---------------------+----------------+ | Debian 12 | PASS | +---------------------+----------------+ | Fedora 41 (Clang) | PASS | +---------------------+----------------+ | Fedora 40 | PASS | +---------------------+----------------+ | Fedora 40 (Clang) | PASS | +---------------------+----------------+ | RHEL8 | PASS | +---------------------+----------------+ | RHEL9 | PASS | +---------------------+----------------+ | Ubuntu 20.04 | PASS | +---------------------+----------------+ | Ubuntu 24.04 | PASS | +---------------------+----------------+ | Ubuntu 22.04 | PASS | +---------------------+----------------+ | Windows Server 2022 | PASS | +---------------------+----------------+ CentOS Stream 9 Kernel: Depends on container host Compiler: gcc 11.5.0 20240719 (Red Hat 11.5.0-2) CentOS Stream 10 Kernel: Depends on container host Compiler: gcc 14.2.1 20241104 (Red Hat 14.2.1-6) Fedora 41 Kernel: Depends on container host Compiler: gcc 14.2.1 20240912 (Red Hat 14.2.1-3) Debian 12 Kernel: Depends on container host Compiler: gcc (Debian 12.2.0-14) 12.2.0 Fedora 41 (Clang) Kernel: Depends on container host Compiler: clang 19.1.5 (Fedora 19.1.5-1.fc41) Fedora 40 Kernel: Depends on container host Compiler: gcc 14.2.1 20240912 (Red Hat 14.2.1-3) Fedora 40 (Clang) Kernel: Depends on container host Compiler: clang 18.1.8 (Fedora 18.1.8-1.fc40) RHEL8 Kernel: Depends on container host Compiler: gcc 8.5.0 20210514 (Red Hat 8.5.0-22) RHEL9 Kernel: Depends on container host Compiler: gcc 11.5.0 20240719 (Red Hat 11.5.0-2) Ubuntu 20.04 Kernel: Depends on container host Compiler: gcc (Ubuntu 9.4.0-1ubuntu1~20.04.2) 9.4.0 Ubuntu 24.04 Kernel: Depends on container host Compiler: gcc (Ubuntu 13.3.0-6ubuntu2~24.04) 13.3.0 Ubuntu 22.04 Kernel: Depends on container host Compiler: gcc (Ubuntu 11.4.0-1ubuntu1~22.04) 11.4.0 Windows Server 2022 Kernel: 10.0.20348.2031 Compiler: clang 15.0.7, gcc 14.1.0 (MinGW), and MSVC VS 19.39.33521 To view detailed results, visit: https://lab.dpdk.org/results/dashboard/patchsets/33100/ UNH-IOL DPDK Community Lab To manage your email subscriptions, visit: https://lab.dpdk.org/results/dashboard/preferences/subscriptions/