From mboxrd@z Thu Jan 1 00:00:00 1970 Return-Path: Received: from mails.dpdk.org (mails.dpdk.org [217.70.189.124]) by inbox.dpdk.org (Postfix) with ESMTP id 58A0B466CA for ; Mon, 5 May 2025 11:05:11 +0200 (CEST) Received: from mails.dpdk.org (localhost [127.0.0.1]) by mails.dpdk.org (Postfix) with ESMTP id 2C8E04026D; Mon, 5 May 2025 11:05:11 +0200 (CEST) Received: from mail-il1-f225.google.com (mail-il1-f225.google.com [209.85.166.225]) by mails.dpdk.org (Postfix) with ESMTP id 7FE214025D for ; Mon, 5 May 2025 11:05:09 +0200 (CEST) Received: by mail-il1-f225.google.com with SMTP id e9e14a558f8ab-3d7f111e9e1so48675435ab.1 for ; Mon, 05 May 2025 02:05:09 -0700 (PDT) DKIM-Signature: v=1; a=rsa-sha256; c=relaxed/relaxed; d=iol.unh.edu; s=unh-iol; t=1746435908; x=1747040708; darn=dpdk.org; h=cc:to:from:subject:message-id:date:from:to:cc:subject:date :message-id:reply-to; bh=gV4u03w+DToZ8Xg23P1fuQGS7yKnp22fTtVcsRKFvCo=; b=IMYgwNBVoaTj1MTZKV5jkM9q4OwVonsIA1r8PbxNN/F0P4n4OCYc+R57micomffxCs 6i0QmKZVfHCJOJgm39BtouB95FJw2Ztprk2/ByGknpyb3fRc9kHRqJcP3Q3/u2c1zhBj /Y+zkoULiW3ZS93kEOnIB0bRl6e025adiz860= X-Google-DKIM-Signature: v=1; a=rsa-sha256; c=relaxed/relaxed; d=1e100.net; s=20230601; t=1746435908; x=1747040708; h=cc:to:from:subject:message-id:date:x-gm-message-state:from:to:cc :subject:date:message-id:reply-to; bh=gV4u03w+DToZ8Xg23P1fuQGS7yKnp22fTtVcsRKFvCo=; b=I49li43Ktg3Bcpf9syZbBr2Cr28K8WcTPraIHGB9vAFSmUaoizsSw7BemUBjWSL31C wQe7+bZKivkhvR29dvyd6wYOIGMfZRv8xzyOk+Cr/cmY7X7pY9sZ4eCsKObs3xIPSGQ2 YBC38F2scZTJv/I8x2Xf/vcXZgOc9ntZmVtnRcn7dYz7LanWW+PBr26iw7g7yrMOztbm l0xeZiVryWcQ4syOPpdTJ4j0f6gsBf/PuAGHGa+ZHgxN0wJJmFIDaOX4q9iy7irYZq9d pHNExyiWPcQLnBxoCGXlctin/DYYb7BRsurEZQetURm116BbMgWIRfmfBz+gET+XbQf1 c5SQ== X-Gm-Message-State: AOJu0YykD0P610RwZnGRQt08siWrH4uwcfXH4uzQQI62D95nydgKdCBX Gw9lYJlBhmn6K1lNWGVjP/okD4dbXzUDQDeLknEOtxoVv5HBskrs34jrsBaQvHCJCVaqSKu2hBp vncvaKEU9sBo8nvBnTGt4hIxXLx2tdAQk X-Gm-Gg: ASbGncuHDE+I/vbbASPDXQ8TT0Vt1vKNfXr02su6XMTfS0/wZLQdjoLIxVqAI4OPcTV st/3s0sKZYtjPhJMkLH1QaowJbOe6lLIsEffAaRYnnjtgE177FdG2SV9//mMlSppoj9nD5OoT3+ 8QHALBu1yuorq8EpB14QV1CwhbyQ3mxDqsrfqC8/DfHKy9I1sZ94OpsEB7A3xmY6JbEDxu3cxgm Pl1sR5dzG2OWNDHK5VQQMf6s6QFwa296xZBZ0uDilsQpLlk2gFtPSMMhgr5c0S5peLwj3H989lv MwFHdvvsUr/K27Ehdp0PeaHUfS0KRwbZa7PfaNgZ3X22UVXMwWP47vI4g4E= X-Google-Smtp-Source: AGHT+IHrmtKvDwR0HxNcmE2rd+DBa2xOrWvUdOC55KJEaTO4TdmIgCdZl9LEykgaf5LL4YnQOQGKF2E8EhIE X-Received: by 2002:a05:6e02:2510:b0:3d9:6cd9:5079 with SMTP id e9e14a558f8ab-3da5b31d935mr57861665ab.14.1746435908643; Mon, 05 May 2025 02:05:08 -0700 (PDT) Received: from postal.iol.unh.edu (postal.iol.unh.edu. [132.177.123.84]) by smtp-relay.gmail.com with ESMTPS id e9e14a558f8ab-3d976072220sm20064695ab.57.2025.05.05.02.05.08 (version=TLS1_2 cipher=ECDHE-ECDSA-AES128-GCM-SHA256 bits=128/128); Mon, 05 May 2025 02:05:08 -0700 (PDT) X-Relaying-Domain: iol.unh.edu Date: Mon, 05 May 2025 02:05:08 -0700 (PDT) Message-ID: <68187f44.050a0220.caed3.4418SMTPIN_ADDED_MISSING@mx.google.com> Received: from [172.17.0.2] (unknown [172.18.0.74]) by postal.iol.unh.edu (Postfix) with ESMTP id 34E1B6052471; Mon, 5 May 2025 05:05:08 -0400 (EDT) Subject: |SUCCESS| [GIT MASTER] 83a7a648344674c0269fcaeb71d8d16468421a0e From: dpdklab@iol.unh.edu To: Test Report Cc: dpdk-test-reports@iol.unh.edu, Xueming Li , Christian Ehrhardt , Kevin Traynor , Luca Boccassi Content-Type: text/plain X-BeenThere: test-report@dpdk.org X-Mailman-Version: 2.1.29 Precedence: list List-Id: automatic DPDK test reports List-Unsubscribe: , List-Archive: List-Post: List-Help: List-Subscribe: , Errors-To: test-report-bounces@dpdk.org _Testing PASS_ Branch: tags/v23.11 83a7a648344674c0269fcaeb71d8d16468421a0e --> testing pass Upstream job id: Generic-DPDK-Compile-Meson#384930 Test environment and result as below: +------------------------------------+--------------------+ | Environment | dpdk_meson_compile | +====================================+====================+ | Debian 12 with MUSDK | PASS | +------------------------------------+--------------------+ | Fedora 40 (ARM Clang) | PASS | +------------------------------------+--------------------+ | RHEL9 (ARM) | PASS | +------------------------------------+--------------------+ | Fedora 40 (ARM) | PASS | +------------------------------------+--------------------+ | Ubuntu 20.04 ARM SVE | PASS | +------------------------------------+--------------------+ | Ubuntu 20.04 ARM GCC Cross Compile | PASS | +------------------------------------+--------------------+ | Ubuntu 22.04 (ARM) | PASS | +------------------------------------+--------------------+ | Ubuntu 24.04 (ARM) | PASS | +------------------------------------+--------------------+ | Fedora 41 (ARM) | PASS | +------------------------------------+--------------------+ | Fedora 41 (ARM Clang) | PASS | +------------------------------------+--------------------+ | Debian 12 (arm) | PASS | +------------------------------------+--------------------+ | Ubuntu 20.04 (ARM) | PASS | +------------------------------------+--------------------+ | CentOS Stream 9 (ARM) | PASS | +------------------------------------+--------------------+ | CentOS Stream 10 (ARM) | PASS | +------------------------------------+--------------------+ Debian 12 with MUSDK Kernel: Depends on container host Compiler: gcc (Debian 12.2.0-14) 12.2.0 Fedora 40 (ARM Clang) Kernel: Depends on container host Compiler: clang 18.1.8 (Fedora 18.1.8-1.fc40) RHEL9 (ARM) Kernel: Depends on container host Compiler: gcc 11.5.0 20240719 (Red Hat 11.5.0-2) Fedora 40 (ARM) Kernel: Depends on container host Compiler: gcc 14.2.1 20240912 (Red Hat 14.2.1-3) Ubuntu 20.04 ARM SVE Kernel: Depends on container host Compiler: gcc (Ubuntu 10.5.0-1ubuntu1~20.04) 10.5.0 Ubuntu 20.04 ARM GCC Cross Compile Kernel: Depends on container host Compiler: aarch64-linux-gnu-gcc (Ubuntu 9.4.0-1ubuntu1~20.04.2) 9.4.0 Ubuntu 22.04 (ARM) Kernel: Depends on container host Compiler: gcc (Ubuntu 11.4.0-1ubuntu1~22.04) 11.4.0 Ubuntu 24.04 (ARM) Kernel: Depends on container host Compiler: gcc (Ubuntu 13.3.0-6ubuntu2~24.04) 13.3.0 Fedora 41 (ARM) Kernel: Depends on container host Compiler: gcc 14.2.1 20240912 (Red Hat 14.2.1-3) Fedora 41 (ARM Clang) Kernel: Depends on container host Compiler: clang 19.1.5 (Fedora 19.1.5-1.fc41) Debian 12 (arm) Kernel: Depends on container host Compiler: gcc (Debian 12.2.0-14) 12.2.0 Ubuntu 20.04 (ARM) Kernel: Depends on container host Compiler: gcc (Ubuntu 9.4.0-1ubuntu1~20.04.2) 9.4.0 CentOS Stream 9 (ARM) Kernel: Depends on container host Compiler: gcc 11.5.0 20240719 (Red Hat 11.5.0-2) CentOS Stream 10 (ARM) Kernel: Depends on container host Compiler: gcc 14.2.1 20241104 (Red Hat 14.2.1-6) To view detailed results, visit: https://lab.dpdk.org/results/dashboard/tarballs/33427/ UNH-IOL DPDK Community Lab To manage your email subscriptions, visit: https://lab.dpdk.org/results/dashboard/preferences/subscriptions/