From mboxrd@z Thu Jan 1 00:00:00 1970 Return-Path: Received: from mails.dpdk.org (mails.dpdk.org [217.70.189.124]) by inbox.dpdk.org (Postfix) with ESMTP id 5A19F466CA for ; Mon, 5 May 2025 11:16:17 +0200 (CEST) Received: from mails.dpdk.org (localhost [127.0.0.1]) by mails.dpdk.org (Postfix) with ESMTP id 302F34026D; Mon, 5 May 2025 11:16:17 +0200 (CEST) Received: from mail-pl1-f225.google.com (mail-pl1-f225.google.com [209.85.214.225]) by mails.dpdk.org (Postfix) with ESMTP id D93D44025D for ; Mon, 5 May 2025 11:16:15 +0200 (CEST) Received: by mail-pl1-f225.google.com with SMTP id d9443c01a7336-22401f4d35aso46782445ad.2 for ; Mon, 05 May 2025 02:16:15 -0700 (PDT) DKIM-Signature: v=1; a=rsa-sha256; c=relaxed/relaxed; d=iol.unh.edu; s=unh-iol; t=1746436575; x=1747041375; darn=dpdk.org; h=cc:to:from:subject:message-id:date:from:to:cc:subject:date :message-id:reply-to; bh=zBPAQt3Qasrnd13bJQq0OcCgJWnVgS2qzqabVoVTymg=; b=PH03cYex+ioOTDBUIxSpDLP13cR24PJQzCxbnc2YeeLVMPNRmgwaLy5tSBdC+QxD0d Fq2Gg1Q9oONIq3O58nvdCqWQn7hfhO8UMCJnPqJNjFCNjZg7ap3Ro6ZLRzJxW9fPWxG7 iOX2HhqmfOpq7P6uZVnQeF84vy1HgAp6kAWnI= X-Google-DKIM-Signature: v=1; a=rsa-sha256; c=relaxed/relaxed; d=1e100.net; s=20230601; t=1746436575; x=1747041375; h=cc:to:from:subject:message-id:date:x-gm-message-state:from:to:cc :subject:date:message-id:reply-to; bh=zBPAQt3Qasrnd13bJQq0OcCgJWnVgS2qzqabVoVTymg=; b=KRXEOAAeG2x/LABz/y5LgnGtUVwDZ0g023YLBknRqLBhc/LnARqxEsChR6MWaMVyO2 0feYZdNtTY2hQg7c9exC0KeZKJSXU29YjSa87VHu3AsPaUFNzNvNmTzd2H3YqVthq19i h1W+nY1kUR9llYYDjijE2mqihbjYMCUwtFpl3aNlebjYf61WNriVDVAnmp2zRsEhw3wq rEYeX6JcrxYRx87WrWSFcPOnaobwOxdLPgD0ep/2Bs/Gcrs0ISuWhqSaOKrgN/18/ZYI /2da5gfi406+cvHBHdz50WkNJHr/G7aXzzvrRkkABREHmkiqB+LvQnl4WDcSR3UdYxYD zdPA== X-Gm-Message-State: AOJu0YxeSF5n8lButalM98rVv22qYyB2o3i7BLtv2+stMEcAVkzV43DY BNKSKyRo6/yqyI5icU2aeRrihjURMP3CIiAHVoibq/5fnaIF8ycYtGiq38JkIJD8AfEU0p6Nlxw SKNdg+7+POYUN0RWrw+COVa0SKiyb9M2e X-Gm-Gg: ASbGncu9qdC/G8piAyc7Oq6PIuYQMvFBnHn5QdSJ0YeRLmucP5fwQOsDk+gArXewRlx IE/Mcddku0s+TQtgin6+G64Y82xN14WSyfDdp9oOG7rqsQ5LI7dFhQA3V+Y1Wy2bCCWfdYNQT2t DPMDDYUAR92wB5Nz+EnyPXQBYFULXleeRrNPEZQy4iuBHS60ObKb4UFRZ5yZd9bNpHWrfdiSKXA lVRkd1KMRiF/MsBNqNwfrnr6VJfBNic9uSxFRcWoW+2yeTzLjD69gw29y74f4swfXz4s3bWD+As EzG/LY4hws83k+6W2smpd+DYfEOepZhKfHcgfz67NJsCwuAssYMDFdmkpKE= X-Google-Smtp-Source: AGHT+IEZmMd6ejF+3gWhHCq2Ey7y8mLf/kWd/mzHe5PuvKdlW4bNDM2iFf2K2OKwwgUuKI4fnCgWwfPY8Cey X-Received: by 2002:a17:903:2013:b0:223:fb3a:8647 with SMTP id d9443c01a7336-22e18c390a4mr93799425ad.41.1746436574798; Mon, 05 May 2025 02:16:14 -0700 (PDT) Received: from postal.iol.unh.edu (postal.iol.unh.edu. [132.177.123.84]) by smtp-relay.gmail.com with ESMTPS id d9443c01a7336-22e150eaf27sm15946575ad.5.2025.05.05.02.16.14 (version=TLS1_2 cipher=ECDHE-ECDSA-AES128-GCM-SHA256 bits=128/128); Mon, 05 May 2025 02:16:14 -0700 (PDT) X-Relaying-Domain: iol.unh.edu Date: Mon, 05 May 2025 02:16:14 -0700 (PDT) Message-ID: <681881de.170a0220.6d6c4.f129SMTPIN_ADDED_MISSING@mx.google.com> Received: from [172.17.0.2] (unknown [172.18.0.74]) by postal.iol.unh.edu (Postfix) with ESMTP id 3C6196052471; Mon, 5 May 2025 05:16:14 -0400 (EDT) Subject: |SUCCESS| [GIT MASTER] 4401486b5e30d43a134f80f9802f60b5f43e74a8 From: dpdklab@iol.unh.edu To: Test Report Cc: dpdk-test-reports@iol.unh.edu, Xueming Li , Christian Ehrhardt , Kevin Traynor , Luca Boccassi Content-Type: text/plain X-BeenThere: test-report@dpdk.org X-Mailman-Version: 2.1.29 Precedence: list List-Id: automatic DPDK test reports List-Unsubscribe: , List-Archive: List-Post: List-Help: List-Subscribe: , Errors-To: test-report-bounces@dpdk.org _Testing PASS_ Branch: tags/v22.11 4401486b5e30d43a134f80f9802f60b5f43e74a8 --> testing pass Upstream job id: ACVP-FIPS-testing#9706 Test environment and result as below: +--------------------+----------------------+----------------------+ | Environment | compressdev_zlib_pmd | dpdk_fips_validation | +====================+======================+======================+ | Ubuntu 22.04 (ARM) | PASS | SKIPPED | +--------------------+----------------------+----------------------+ | Ubuntu 22.04 | PASS | SKIPPED | +--------------------+----------------------+----------------------+ | Ubuntu 20.04 | SKIPPED | PASS | +--------------------+----------------------+----------------------+ Ubuntu 22.04 (ARM) Kernel: 5.15.0-97-generic Compiler: gcc gcc (Ubuntu 11.4.0-1ubuntu1~22.04) 11.4.0 Ubuntu 22.04 Kernel: 5.15.0-100-generic Compiler: gcc gcc (Ubuntu 11.4.0-1ubuntu1~22.04) 11.4.0 Ubuntu 20.04 Kernel: Depends on container host Compiler: gcc (Ubuntu 9.4.0-1ubuntu1~20.04.2) 9.4.0 To view detailed results, visit: https://lab.dpdk.org/results/dashboard/tarballs/33426/ UNH-IOL DPDK Community Lab To manage your email subscriptions, visit: https://lab.dpdk.org/results/dashboard/preferences/subscriptions/