From mboxrd@z Thu Jan 1 00:00:00 1970 Return-Path: Received: from mails.dpdk.org (mails.dpdk.org [217.70.189.124]) by inbox.dpdk.org (Postfix) with ESMTP id 62B70466CA for ; Mon, 5 May 2025 11:42:02 +0200 (CEST) Received: from mails.dpdk.org (localhost [127.0.0.1]) by mails.dpdk.org (Postfix) with ESMTP id 3F7494026C; Mon, 5 May 2025 11:42:02 +0200 (CEST) Received: from mail-io1-f100.google.com (mail-io1-f100.google.com [209.85.166.100]) by mails.dpdk.org (Postfix) with ESMTP id 185AA4025D for ; Mon, 5 May 2025 11:42:01 +0200 (CEST) Received: by mail-io1-f100.google.com with SMTP id ca18e2360f4ac-85db3475637so166144539f.1 for ; Mon, 05 May 2025 02:42:00 -0700 (PDT) DKIM-Signature: v=1; a=rsa-sha256; c=relaxed/relaxed; d=iol.unh.edu; s=unh-iol; t=1746438120; x=1747042920; darn=dpdk.org; h=references:in-reply-to:cc:to:from:subject:message-id:date:from:to :cc:subject:date:message-id:reply-to; bh=FFwfCqtF2txSN+eWRJyRLdxnnN8Q2VU/Sdku+uhPdlQ=; b=hYSdghXe1FzZCbOJApubudXfnoq5t0yFeOVSf7Py8UQiDi/JXSt4vPwvGwTZSGt/9A mu7N+hoQkqz+cO2vk23h8hU5G4HrqvxxS/Vk8q0x+hqoEj9SEfANREDk3Qv7PAOXuoGP 6J5bD4z6yj38WnU1i+SZooGDxTAgc+qeYyWwU= X-Google-DKIM-Signature: v=1; a=rsa-sha256; c=relaxed/relaxed; d=1e100.net; s=20230601; t=1746438120; x=1747042920; h=references:in-reply-to:cc:to:from:subject:message-id:date :x-gm-message-state:from:to:cc:subject:date:message-id:reply-to; bh=FFwfCqtF2txSN+eWRJyRLdxnnN8Q2VU/Sdku+uhPdlQ=; b=EXVS1YqoWPp4l/+1/mIFeDKpLpW2HvZA4SA9VMe03qc+B51mED/huJeRyg2yADPPgy Qw7HqK0CCvItnKeBw0JhUi795hr5bEv+YPOpwmPdLdUQ64bqK6MH7n4D7mNYFPTy8P6y upv8xaFfpEUxGB6YHzVJzAIiKGdTbHCgxQWqJo69jGiU8tN7RTcTULoGsZfayQq+VT6C shZvKHwKF7I/j134XHqzbFhP3ZBoC752uzRwpRiaJKWf9sxBNT9gWeYxfTVG8Acj/XuJ xRJIaQljCyzo7t+1Bp5dHkLVtIQEgljp6bhGC5w9nwfMCkigGQrS0yHvQOaTqG+r9H7m 74ZA== X-Gm-Message-State: AOJu0YyBZGcvCNHeL+p5a9LdtXD0+S9bzqs3qCJkLBSH4Y2Nrr4bYtIZ pxa1dAC9UbGnpIljXYAEqmAUSHCQzobMKMJwejwvuvEEjEASTkekyQHVaS61T15rH1doliA1lMJ lWY9gx1obKKeA3mL/O3RtyyyfRO56bjlmn1yAiTqb X-Gm-Gg: ASbGncvBtbnfDkLWQffEHTc0lHqdaZiRDsatCg9nTW69DmQY2IHLJg5YwlMxmaiLJsB qFkYKRDR1oq1lxY+dNEC62SwAWlyRzbq7KIcblH46+SqJqdhSpN+MlVagaJJ3Stk/5wxSK0ldpC eVhqFmnAUqe5AMnyiMehRISnaXpbaptc+DQf/2Im+3b+wjkDSGFuYRTRPZ1N3J76Fugjk/t7TN2 yO6B0HyyZLxsKGMYmNo5tvumDKwJ0pBl69k6G7Tq4YH4ujAoXcTtz+xL7SurMSMur/6XTmUa0WP eaZRQ+wcTudJfi4TEz0pI3w/58/zOdfBCNIT2fV52cxC8eocpZOHfJyxgmc= X-Google-Smtp-Source: AGHT+IGmxkU+KD6qsHTfHajUyh/LslY86uXxBrz1B2slFOohPyj2JOGqTkJ9kcXS3xd5FUFKFATJAMdRC070 X-Received: by 2002:a05:6e02:1211:b0:3d4:346e:8d49 with SMTP id e9e14a558f8ab-3d970b7753cmr134104845ab.9.1746438120206; Mon, 05 May 2025 02:42:00 -0700 (PDT) Received: from postal.iol.unh.edu (postal.iol.unh.edu. [132.177.123.84]) by smtp-relay.gmail.com with ESMTPS id e9e14a558f8ab-3d975e81ed9sm20525115ab.23.2025.05.05.02.42.00 (version=TLS1_2 cipher=ECDHE-ECDSA-AES128-GCM-SHA256 bits=128/128); Mon, 05 May 2025 02:42:00 -0700 (PDT) X-Relaying-Domain: iol.unh.edu Date: Mon, 05 May 2025 02:42:00 -0700 (PDT) Message-ID: <681887e8.050a0220.23a46f.222eSMTPIN_ADDED_MISSING@mx.google.com> Received: from [172.17.0.2] (unknown [172.18.0.74]) by postal.iol.unh.edu (Postfix) with ESMTP id C33776052471; Mon, 5 May 2025 05:41:59 -0400 (EDT) Subject: |SUCCESS| pw153231-153230 [PATCH] [v5,2/2] drivers: add support for From: dpdklab@iol.unh.edu To: Test Report Cc: dpdk-test-reports@iol.unh.edu In-Reply-To: <20250505053304.3288290-2-kirankumark@marvell.com> References: <20250505053304.3288290-2-kirankumark@marvell.com> Content-Type: text/plain X-BeenThere: test-report@dpdk.org X-Mailman-Version: 2.1.29 Precedence: list List-Id: automatic DPDK test reports List-Unsubscribe: , List-Archive: List-Post: List-Help: List-Subscribe: , Errors-To: test-report-bounces@dpdk.org Test-Label: iol-compile-amd64-testing Test-Status: SUCCESS http://dpdk.org/patch/153230 _Testing PASS_ Submitter: Kiran Kumar Kokkilagadda Date: Monday, May 05 2025 05:33:04 DPDK git baseline: Repo:dpdk Branch: master CommitID:ca1690ebd224f148268285b15b97441ccdbdd07e 153231-153230 --> testing pass Upstream job id: Generic-DPDK-Compile-Meson#384955 Test environment and result as below: +-----------------------------------+--------------------+-------------------+-------------------+------------------+-------------------------+----------------------+ | Environment | dpdk_meson_compile | dpdk_msvc_compile | dpdk_compile_spdk | dpdk_compile_ovs | dpdk_llvm_clang_compile | dpdk_mingw64_compile | +===================================+====================+===================+===================+==================+=========================+======================+ | Ubuntu 20.04 | PASS | SKIPPED | SKIPPED | SKIPPED | SKIPPED | SKIPPED | +-----------------------------------+--------------------+-------------------+-------------------+------------------+-------------------------+----------------------+ | FreeBSD 13.5 | PASS | SKIPPED | SKIPPED | SKIPPED | SKIPPED | SKIPPED | +-----------------------------------+--------------------+-------------------+-------------------+------------------+-------------------------+----------------------+ | FreeBSD 14.2 | PASS | SKIPPED | SKIPPED | SKIPPED | SKIPPED | SKIPPED | +-----------------------------------+--------------------+-------------------+-------------------+------------------+-------------------------+----------------------+ | CentOS Stream 9 | PASS | SKIPPED | PASS | SKIPPED | SKIPPED | SKIPPED | +-----------------------------------+--------------------+-------------------+-------------------+------------------+-------------------------+----------------------+ | CentOS Stream 10 | PASS | SKIPPED | SKIPPED | SKIPPED | SKIPPED | SKIPPED | +-----------------------------------+--------------------+-------------------+-------------------+------------------+-------------------------+----------------------+ | Debian 12 | PASS | SKIPPED | PASS | SKIPPED | SKIPPED | SKIPPED | +-----------------------------------+--------------------+-------------------+-------------------+------------------+-------------------------+----------------------+ | Fedora 40 (Clang) | PASS | SKIPPED | PASS | SKIPPED | SKIPPED | SKIPPED | +-----------------------------------+--------------------+-------------------+-------------------+------------------+-------------------------+----------------------+ | Fedora 40 | PASS | SKIPPED | PASS | SKIPPED | SKIPPED | SKIPPED | +-----------------------------------+--------------------+-------------------+-------------------+------------------+-------------------------+----------------------+ | Fedora 41 (Clang) | PASS | SKIPPED | PASS | PASS | SKIPPED | SKIPPED | +-----------------------------------+--------------------+-------------------+-------------------+------------------+-------------------------+----------------------+ | Fedora 41 | PASS | SKIPPED | PASS | PASS | SKIPPED | SKIPPED | +-----------------------------------+--------------------+-------------------+-------------------+------------------+-------------------------+----------------------+ | openSUSE Leap 15 | PASS | SKIPPED | SKIPPED | SKIPPED | SKIPPED | SKIPPED | +-----------------------------------+--------------------+-------------------+-------------------+------------------+-------------------------+----------------------+ | RHEL8 | PASS | SKIPPED | SKIPPED | SKIPPED | SKIPPED | SKIPPED | +-----------------------------------+--------------------+-------------------+-------------------+------------------+-------------------------+----------------------+ | RHEL9 | PASS | SKIPPED | SKIPPED | SKIPPED | SKIPPED | SKIPPED | +-----------------------------------+--------------------+-------------------+-------------------+------------------+-------------------------+----------------------+ | Ubuntu 22.04 | PASS | SKIPPED | PASS | SKIPPED | SKIPPED | SKIPPED | +-----------------------------------+--------------------+-------------------+-------------------+------------------+-------------------------+----------------------+ | Ubuntu 24.04 | PASS | SKIPPED | PASS | PASS | SKIPPED | SKIPPED | +-----------------------------------+--------------------+-------------------+-------------------+------------------+-------------------------+----------------------+ | Alpine | PASS | SKIPPED | SKIPPED | SKIPPED | SKIPPED | SKIPPED | +-----------------------------------+--------------------+-------------------+-------------------+------------------+-------------------------+----------------------+ | Ubuntu 24.04 32 Bit Cross Compile | PASS | SKIPPED | SKIPPED | SKIPPED | SKIPPED | SKIPPED | +-----------------------------------+--------------------+-------------------+-------------------+------------------+-------------------------+----------------------+ | Windows Server 2022 | SKIPPED | PASS | SKIPPED | SKIPPED | PASS | PASS | +-----------------------------------+--------------------+-------------------+-------------------+------------------+-------------------------+----------------------+ Ubuntu 20.04 Kernel: 4.19.325-0419325-generic Compiler: gcc (Ubuntu 9.4.0-1ubuntu1~20.04.2) 9.4.0 FreeBSD 13.5 Kernel: 13.5-RELEASE Compiler: clang 19.1.7 FreeBSD 14.2 Kernel: 14.2-RELEASE Compiler: clang 18.1.6 CentOS Stream 9 Kernel: Depends on container host Compiler: gcc 11.5.0 20240719 (Red Hat 11.5.0-2) CentOS Stream 10 Kernel: Depends on container host Compiler: gcc 14.2.1 20241104 (Red Hat 14.2.1-6) Debian 12 Kernel: Depends on container host Compiler: gcc (Debian 12.2.0-14) 12.2.0 Fedora 40 (Clang) Kernel: Depends on container host Compiler: clang 18.1.8 (Fedora 18.1.8-1.fc40) Fedora 40 Kernel: Depends on container host Compiler: gcc 14.2.1 20240912 (Red Hat 14.2.1-3) Fedora 41 (Clang) Kernel: Depends on container host Compiler: clang 19.1.5 (Fedora 19.1.5-1.fc41) Fedora 41 Kernel: Depends on container host Compiler: gcc 14.2.1 20240912 (Red Hat 14.2.1-3) openSUSE Leap 15 Kernel: Depends on container host Compiler: gcc (SUSE Linux) 7.5.0 RHEL8 Kernel: Depends on container host Compiler: gcc 8.5.0 20210514 (Red Hat 8.5.0-22) RHEL9 Kernel: Depends on container host Compiler: gcc 11.5.0 20240719 (Red Hat 11.5.0-2) Ubuntu 22.04 Kernel: Depends on container host Compiler: gcc (Ubuntu 11.4.0-1ubuntu1~22.04) 11.4.0 Ubuntu 24.04 Kernel: Depends on container host Compiler: gcc (Ubuntu 13.3.0-6ubuntu2~24.04) 13.3.0 Alpine Kernel: Depends on container host Compiler: gcc (Alpine 14.2.0) 14.2.0 Ubuntu 24.04 32 Bit Cross Compile Kernel: Depends on container host Compiler: gcc (Ubuntu 13.3.0-6ubuntu2~24.04) 13.3.0 Windows Server 2022 Kernel: 10.0.20348.2031 Compiler: clang 15.0.7, gcc 14.1.0 (MinGW), and MSVC VS 19.39.33521 To view detailed results, visit: https://lab.dpdk.org/results/dashboard/patchsets/33100/ UNH-IOL DPDK Community Lab To manage your email subscriptions, visit: https://lab.dpdk.org/results/dashboard/preferences/subscriptions/