From mboxrd@z Thu Jan 1 00:00:00 1970 Return-Path: Received: from mails.dpdk.org (mails.dpdk.org [217.70.189.124]) by inbox.dpdk.org (Postfix) with ESMTP id 28657466CA for ; Mon, 5 May 2025 11:50:21 +0200 (CEST) Received: from mails.dpdk.org (localhost [127.0.0.1]) by mails.dpdk.org (Postfix) with ESMTP id F1F224026C; Mon, 5 May 2025 11:50:20 +0200 (CEST) Received: from mail-il1-f226.google.com (mail-il1-f226.google.com [209.85.166.226]) by mails.dpdk.org (Postfix) with ESMTP id 2AA5F4025D for ; Mon, 5 May 2025 11:50:20 +0200 (CEST) Received: by mail-il1-f226.google.com with SMTP id e9e14a558f8ab-3d450154245so36728425ab.2 for ; Mon, 05 May 2025 02:50:20 -0700 (PDT) DKIM-Signature: v=1; a=rsa-sha256; c=relaxed/relaxed; d=iol.unh.edu; s=unh-iol; t=1746438619; x=1747043419; darn=dpdk.org; h=references:in-reply-to:cc:to:from:subject:message-id:date:from:to :cc:subject:date:message-id:reply-to; bh=k6vKtfJwxJ1ZPToqIdkCCTOL9V2bUHIWM/u0kk63YUY=; b=MYfTPHR82YjLk6czqSlGtZ9Sm8g4vo03wox/NFNVC6evgLgXsv+HK6FS1mVh5v6o88 +YH/Djc2w1Q+j9MHquOnz9k+w7OskSRQZJiMYdU3b6iUKe8s9tREFx36W6AdjLfr4N31 cveiR0bZwuCf28rLn7YEvVsCLoJT9WWCHFkdE= X-Google-DKIM-Signature: v=1; a=rsa-sha256; c=relaxed/relaxed; d=1e100.net; s=20230601; t=1746438619; x=1747043419; h=references:in-reply-to:cc:to:from:subject:message-id:date :x-gm-message-state:from:to:cc:subject:date:message-id:reply-to; bh=k6vKtfJwxJ1ZPToqIdkCCTOL9V2bUHIWM/u0kk63YUY=; b=KLZxv8TedMlr5duNDvl1UMA3fpeB8wJMGw+BU+2jKj19NGllV+sYtDFbizFL1Rpx2k jxkJ07pUxhM8nteUQwBlFeAVct+/YfoTq5xPSYODwC3k0D4E2O2wKdmhltIYhnzUcBB/ 4vLes6nx7pvsQFvKSofsIq+KEWXZZ7HzxxYptUYvOVY3L7fvNWmdwNSAMzrvCZAVx/O7 towjXB1lIGQ/bScbCPZwBEiQgC1xUqxTbVqP8J8EvQQHURFA1hN/RjFK7BUC9JQ6lFZp 6OzEZsvPpEJIVKWYf93GYsWrzyc9znSm/TZIyW42TEUY95F4htGnOcILYp9Y6PYObPTh 6HAg== X-Gm-Message-State: AOJu0YzwlAz9XOKEYlpJosIoBz+kh9uZOuUMzpR53eEAg5mKgd0X3qOw Tx75CurCDAXppzxHh7s0PcZ8Ca4dDvUtl4k3un8XiUILbP77sIroI2lffKmNLGpggcIXyqiopAi 7hoeVSjoQJ9I0JdIqHnbr/6KLDK4kXSBSZ78fKyOA X-Gm-Gg: ASbGncs6OAvQOkd5mWUFPi20hfG5QREqgSuLLTxp2QQtzgAFqNEX5bqVBMpFdQeN5on v1AC/ynrf90yqDQlrUGzBSoaNgzw7W8a5e+P1yZns+VOreh1cRdmCpcNBHvt4UzlSPo8kG2D9VH buvxUVXxK23jIskuHBi8qXaZfoqq8SYPPHBTk9KztVA9B0HdBOu9R6Z1wjvh/V4ql5GanzN3Buy SSRpjmkyuWrIUfnwiqFvcCY/E5MgWnK6XU4ITOdFsmNUUAJPNOAnL/gMqxOTDcpXQOaFNHslhoS L0G69fjm3tOv27F/d800by260Qkqi7nWF+Yonqsi0Tg7VUHn2sywh7GOMCo= X-Google-Smtp-Source: AGHT+IHsuYyFRU/fromvu+VGB5MCfxUmHzCFq34AL17HYrpESU83gigvqFk25KbiiQJNhHsTIfI311vwSG8j X-Received: by 2002:a05:6e02:b26:b0:3d8:1b25:cc2 with SMTP id e9e14a558f8ab-3da5b271bb6mr61769445ab.8.1746438619338; Mon, 05 May 2025 02:50:19 -0700 (PDT) Received: from postal.iol.unh.edu (postal.iol.unh.edu. [132.177.123.84]) by smtp-relay.gmail.com with ESMTPS id 8926c6da1cb9f-4f88aa624c0sm1957759173.50.2025.05.05.02.50.19 (version=TLS1_2 cipher=ECDHE-ECDSA-AES128-GCM-SHA256 bits=128/128); Mon, 05 May 2025 02:50:19 -0700 (PDT) X-Relaying-Domain: iol.unh.edu Date: Mon, 05 May 2025 02:50:19 -0700 (PDT) Message-ID: <681889db.050a0220.126ece.2bfaSMTPIN_ADDED_MISSING@mx.google.com> Received: from [172.17.0.2] (unknown [172.18.0.74]) by postal.iol.unh.edu (Postfix) with ESMTP id E1BE46052471; Mon, 5 May 2025 05:50:18 -0400 (EDT) Subject: |SUCCESS| pw153231-153230 [PATCH] [v5,2/2] drivers: add support for From: dpdklab@iol.unh.edu To: Test Report Cc: dpdk-test-reports@iol.unh.edu In-Reply-To: <20250505053304.3288290-2-kirankumark@marvell.com> References: <20250505053304.3288290-2-kirankumark@marvell.com> Content-Type: text/plain X-BeenThere: test-report@dpdk.org X-Mailman-Version: 2.1.29 Precedence: list List-Id: automatic DPDK test reports List-Unsubscribe: , List-Archive: List-Post: List-Help: List-Subscribe: , Errors-To: test-report-bounces@dpdk.org Test-Label: iol-compile-arm64-testing Test-Status: SUCCESS http://dpdk.org/patch/153230 _Testing PASS_ Submitter: Kiran Kumar Kokkilagadda Date: Monday, May 05 2025 05:33:04 DPDK git baseline: Repo:dpdk Branch: master CommitID:ca1690ebd224f148268285b15b97441ccdbdd07e 153231-153230 --> testing pass Upstream job id: Generic-DPDK-Compile-Meson#384959 Test environment and result as below: +----------------------------------------+--------------------+ | Environment | dpdk_meson_compile | +========================================+====================+ | RHEL9 (ARM) | PASS | +----------------------------------------+--------------------+ | Ubuntu 20.04 ARM GCC Cross Compile | PASS | +----------------------------------------+--------------------+ | Ubuntu 20.04 ARM SVE | PASS | +----------------------------------------+--------------------+ | Debian 12 with MUSDK | PASS | +----------------------------------------+--------------------+ | Fedora 40 (ARM) | PASS | +----------------------------------------+--------------------+ | Fedora 40 (ARM Clang) | PASS | +----------------------------------------+--------------------+ | Fedora 41 (ARM) | PASS | +----------------------------------------+--------------------+ | Fedora 41 (ARM Clang) | PASS | +----------------------------------------+--------------------+ | Ubuntu 20.04 (ARM) | PASS | +----------------------------------------+--------------------+ | Ubuntu 22.04 (ARM) | PASS | +----------------------------------------+--------------------+ | Ubuntu 24.04 (ARM) | PASS | +----------------------------------------+--------------------+ | CentOS Stream 9 (ARM) | PASS | +----------------------------------------+--------------------+ | CentOS Stream 10 (ARM) | PASS | +----------------------------------------+--------------------+ | Debian 12 (arm) | PASS | +----------------------------------------+--------------------+ | Ubuntu 20.04 ARM Clang Cross Compile | PASS | +----------------------------------------+--------------------+ | Ubuntu 20.04 aarch32 GCC Cross Compile | PASS | +----------------------------------------+--------------------+ RHEL9 (ARM) Kernel: Depends on container host Compiler: gcc 11.5.0 20240719 (Red Hat 11.5.0-2) Ubuntu 20.04 ARM GCC Cross Compile Kernel: Depends on container host Compiler: aarch64-linux-gnu-gcc (Ubuntu 9.4.0-1ubuntu1~20.04.2) 9.4.0 Ubuntu 20.04 ARM SVE Kernel: Depends on container host Compiler: gcc (Ubuntu 10.5.0-1ubuntu1~20.04) 10.5.0 Debian 12 with MUSDK Kernel: Depends on container host Compiler: gcc (Debian 12.2.0-14) 12.2.0 Fedora 40 (ARM) Kernel: Depends on container host Compiler: gcc 14.2.1 20240912 (Red Hat 14.2.1-3) Fedora 40 (ARM Clang) Kernel: Depends on container host Compiler: clang 18.1.8 (Fedora 18.1.8-1.fc40) Fedora 41 (ARM) Kernel: Depends on container host Compiler: gcc 14.2.1 20240912 (Red Hat 14.2.1-3) Fedora 41 (ARM Clang) Kernel: Depends on container host Compiler: clang 19.1.5 (Fedora 19.1.5-1.fc41) Ubuntu 20.04 (ARM) Kernel: Depends on container host Compiler: gcc (Ubuntu 9.4.0-1ubuntu1~20.04.2) 9.4.0 Ubuntu 22.04 (ARM) Kernel: Depends on container host Compiler: gcc (Ubuntu 11.4.0-1ubuntu1~22.04) 11.4.0 Ubuntu 24.04 (ARM) Kernel: Depends on container host Compiler: gcc (Ubuntu 13.3.0-6ubuntu2~24.04) 13.3.0 CentOS Stream 9 (ARM) Kernel: Depends on container host Compiler: gcc 11.5.0 20240719 (Red Hat 11.5.0-2) CentOS Stream 10 (ARM) Kernel: Depends on container host Compiler: gcc 14.2.1 20241104 (Red Hat 14.2.1-6) Debian 12 (arm) Kernel: Depends on container host Compiler: gcc (Debian 12.2.0-14) 12.2.0 Ubuntu 20.04 ARM Clang Cross Compile Kernel: Depends on container host Compiler: clang 10.0.0-4ubuntu1 Ubuntu 20.04 aarch32 GCC Cross Compile Kernel: Depends on container host Compiler: gcc 9.4.0 To view detailed results, visit: https://lab.dpdk.org/results/dashboard/patchsets/33100/ UNH-IOL DPDK Community Lab To manage your email subscriptions, visit: https://lab.dpdk.org/results/dashboard/preferences/subscriptions/