From mboxrd@z Thu Jan 1 00:00:00 1970 Return-Path: Received: from mails.dpdk.org (mails.dpdk.org [217.70.189.124]) by inbox.dpdk.org (Postfix) with ESMTP id 9125F466CA for ; Mon, 5 May 2025 11:54:36 +0200 (CEST) Received: from mails.dpdk.org (localhost [127.0.0.1]) by mails.dpdk.org (Postfix) with ESMTP id 646954026C; Mon, 5 May 2025 11:54:36 +0200 (CEST) Received: from mail-il1-f225.google.com (mail-il1-f225.google.com [209.85.166.225]) by mails.dpdk.org (Postfix) with ESMTP id 65FCE4025D for ; Mon, 5 May 2025 11:54:35 +0200 (CEST) Received: by mail-il1-f225.google.com with SMTP id e9e14a558f8ab-3cfce97a3d9so20466435ab.2 for ; Mon, 05 May 2025 02:54:35 -0700 (PDT) DKIM-Signature: v=1; a=rsa-sha256; c=relaxed/relaxed; d=iol.unh.edu; s=unh-iol; t=1746438875; x=1747043675; darn=dpdk.org; h=cc:to:from:subject:message-id:date:from:to:cc:subject:date :message-id:reply-to; bh=5nlvcQV3qCI1npY41n1vcyxCFwAommepGu6AimVFd7I=; b=GshkER+fSfGt8xmQpxQHDUO8n0JCdRhSTeRsJ15UFXYhK6Ncr+DgG2D1YODmCq+rMh 3bKNRtd5oBkNKqRRZcvT9XC0OlkWjt2eWyOZ2OMqmFsGilgro9Ikt+TCF+V8JJDjxQaP xjFSF0nBW/IEvVCNKXnZkSv/w4R19cI+OAl5Y= X-Google-DKIM-Signature: v=1; a=rsa-sha256; c=relaxed/relaxed; d=1e100.net; s=20230601; t=1746438875; x=1747043675; h=cc:to:from:subject:message-id:date:x-gm-message-state:from:to:cc :subject:date:message-id:reply-to; bh=5nlvcQV3qCI1npY41n1vcyxCFwAommepGu6AimVFd7I=; b=Adft1psuqDemaGRoYdO7RA6oEMAXzVbag8i9Rq1GKxpHsNUIs+wukThMsxBNTvDKml vqU0lHKBOsvbz1EuBA6LyFm6MI4uI5TlfLYRgnUibcCC1Jz7WkBX2XtyS1hYpwNMeriG 9W24fvQuImKPHvH1fIHZzoswVC1BVyy6n5RSG4cV0elrkhBGFFkokwkBcmSReIa48ZXo +OwyjWJvRG3JO8KGEaVo5O3n/kJZaoB4j1I0Q1SDKG/8miS5025Fo/0Tw6vn85fS5PqM r9tJ5f/i7ZpSgPheUMNiTZnYQIRdcRwyqHk700BsYTIBZWW3TnbeAujCDxN82Q0KK2+E yIQw== X-Gm-Message-State: AOJu0YwHYOH6vK1Y1RN+iYas+EO0gK5rI3mQsGuwZIKQtU1BlwT//jRP jfmpZs9WbHDBTfLZW4meRrv6SCyaNa0anTbfd0NW+zxNKofvb78OVWeEF9ku8cvvVuX/qZ8rdcW 5xsUXB4x0JRGioMWlykWrXW1YYXzTxfqC X-Gm-Gg: ASbGnctRvhOdEjXXuxuTPxk5JS/i/N+XU2lBXW8wa4otQsAbVwI7pRwB1dVCn5JM1Ud mbggXpOW9cA+utQMMegg0p792jQcHRV1l7yzsfvAQ+C7fguJQysKZ8EZj8u9E5e8siIO/HOl6nK ppsfm8uCHHimewX1EKnphoCwjTKXZCPttwFvFKzkhyHLQSXJqS6grFZv4LzF4DPx6WYrmO+OX47 JsIsJjOmp3LTIr3jrc5wxWXOvVUhPmC3ZJIxvRam++BPHKr9LqK/lPjUwDYNPcQloqUSGkFu2sp exwdAWYeeCeGbU3iuRVl8qrVWe8udGqreKe+Mz2hk/ITROfkOBgAFuSIHCg= X-Google-Smtp-Source: AGHT+IG/K3xN76fCoCCJgjN4i4DyCE/5RjqtyEw0Q3k/6+UtKl8TTPtjPBbHdo8YT7kCjVSARqhIJ6O8EbJX X-Received: by 2002:a05:6e02:15c8:b0:3d5:890b:d9df with SMTP id e9e14a558f8ab-3da5b31bf1amr65890825ab.15.1746438874761; Mon, 05 May 2025 02:54:34 -0700 (PDT) Received: from postal.iol.unh.edu (postal.iol.unh.edu. [132.177.123.84]) by smtp-relay.gmail.com with ESMTPS id e9e14a558f8ab-3d975e814f7sm20579215ab.24.2025.05.05.02.54.34 (version=TLS1_2 cipher=ECDHE-ECDSA-AES128-GCM-SHA256 bits=128/128); Mon, 05 May 2025 02:54:34 -0700 (PDT) X-Relaying-Domain: iol.unh.edu Date: Mon, 05 May 2025 02:54:34 -0700 (PDT) Message-ID: <68188ada.050a0220.37b4ab.1c48SMTPIN_ADDED_MISSING@mx.google.com> Received: from [172.17.0.2] (unknown [172.18.0.74]) by postal.iol.unh.edu (Postfix) with ESMTP id 249B86052471; Mon, 5 May 2025 05:54:34 -0400 (EDT) Subject: |SUCCESS| [GIT MASTER] 83a7a648344674c0269fcaeb71d8d16468421a0e From: dpdklab@iol.unh.edu To: Test Report Cc: dpdk-test-reports@iol.unh.edu, Xueming Li , Christian Ehrhardt , Kevin Traynor , Luca Boccassi Content-Type: text/plain X-BeenThere: test-report@dpdk.org X-Mailman-Version: 2.1.29 Precedence: list List-Id: automatic DPDK test reports List-Unsubscribe: , List-Archive: List-Post: List-Help: List-Subscribe: , Errors-To: test-report-bounces@dpdk.org _Testing PASS_ Branch: tags/v23.11 83a7a648344674c0269fcaeb71d8d16468421a0e --> testing pass Upstream job id: ACVP-FIPS-testing#9707 Test environment and result as below: +--------------------+----------------------+----------------------+ | Environment | compressdev_zlib_pmd | dpdk_fips_validation | +====================+======================+======================+ | Ubuntu 22.04 (ARM) | PASS | SKIPPED | +--------------------+----------------------+----------------------+ | Ubuntu 22.04 | PASS | SKIPPED | +--------------------+----------------------+----------------------+ | Ubuntu 20.04 | SKIPPED | PASS | +--------------------+----------------------+----------------------+ Ubuntu 22.04 (ARM) Kernel: 5.15.0-97-generic Compiler: gcc gcc (Ubuntu 11.4.0-1ubuntu1~22.04) 11.4.0 Ubuntu 22.04 Kernel: 5.15.0-100-generic Compiler: gcc gcc (Ubuntu 11.4.0-1ubuntu1~22.04) 11.4.0 Ubuntu 20.04 Kernel: Depends on container host Compiler: gcc (Ubuntu 9.4.0-1ubuntu1~20.04.2) 9.4.0 To view detailed results, visit: https://lab.dpdk.org/results/dashboard/tarballs/33427/ UNH-IOL DPDK Community Lab To manage your email subscriptions, visit: https://lab.dpdk.org/results/dashboard/preferences/subscriptions/