From mboxrd@z Thu Jan 1 00:00:00 1970 Return-Path: Received: from mails.dpdk.org (mails.dpdk.org [217.70.189.124]) by inbox.dpdk.org (Postfix) with ESMTP id 1BB8E466CB for ; Mon, 5 May 2025 12:25:46 +0200 (CEST) Received: from mails.dpdk.org (localhost [127.0.0.1]) by mails.dpdk.org (Postfix) with ESMTP id E57744026C; Mon, 5 May 2025 12:25:45 +0200 (CEST) Received: from mail-pj1-f99.google.com (mail-pj1-f99.google.com [209.85.216.99]) by mails.dpdk.org (Postfix) with ESMTP id 0C67D4025D for ; Mon, 5 May 2025 12:25:45 +0200 (CEST) Received: by mail-pj1-f99.google.com with SMTP id 98e67ed59e1d1-3031354f134so3292268a91.3 for ; Mon, 05 May 2025 03:25:44 -0700 (PDT) DKIM-Signature: v=1; a=rsa-sha256; c=relaxed/relaxed; d=iol.unh.edu; s=unh-iol; t=1746440744; x=1747045544; darn=dpdk.org; h=references:in-reply-to:cc:to:from:subject:message-id:date:from:to :cc:subject:date:message-id:reply-to; bh=DEuaEt8wfMwGrbjEYt9M1uvws06KkxwAqsoa4087W5U=; b=fQ4HGzPwPRc1sdIsieFNmgzlxeuu94TrqxvKop8JQHDwgPbSgJOqdHyTcWYtuBc3qH D/JRlmQi8DL03uPApdKstOaR/e96VvcoQ8JjPxurr86yW7/UGgL9M9s+GT2DXJsLNf2O bddS3m5T7yhFToZ1FGvZL7Qbl/Y4i0wBBvkyI= X-Google-DKIM-Signature: v=1; a=rsa-sha256; c=relaxed/relaxed; d=1e100.net; s=20230601; t=1746440744; x=1747045544; h=references:in-reply-to:cc:to:from:subject:message-id:date :x-gm-message-state:from:to:cc:subject:date:message-id:reply-to; bh=DEuaEt8wfMwGrbjEYt9M1uvws06KkxwAqsoa4087W5U=; b=juFz8w+IAgtamsycmnOPRgyHzOK580Cwlh50J8cHyF6NPS0Kz2oHYjvvSNQUNSxkvv dczO0G/gJwSHhDe1ScR6K8+0DAhxBzKSsOac/h4w7NCEIX5YgMxCZDGjihw8GKHv9YhC VckPsFAI4iIpZkgkeXqlqe8II0/wW7fMp9DK2pt2p5iPa6aoFCM9XJ6kHkMRmDbFVEmk U/mJYGe/w1eBomBvqZuceCfCvBfs5fud2JXscJFsc28iS6j5oPZmtiW/lbxz3kkKG39R PQATGFWV6QgCXmZEzrn7+h45YNqiRbQkKfBjnQ1ArOKX6dQ5Lq88bF+X0MX0tiOenYwC paUQ== X-Gm-Message-State: AOJu0YwcFRq8QhArtWcPBVWw+geE8qkEjGsv/E6lb6XQMARmuxzoSHTM axmVHqh2th0TlK2c1EJF9+9im23bNepjbXJBYlyFQjoNsxfYcX6tEriJlr9HpcjlrLM/fzu03qd QKfXj+amS9t242QmuzXQVseA7kf7LbKtSuHhULnQVGhWZmd2K0M6ptT7M X-Gm-Gg: ASbGncvzhNyeLZA0P/REtOWgvai4cHAAwNJ6wEAcAkfMNX/vqda6Zut4E+YYAwrdVyW zLOwiVp1qHvz9j+PVbldZS0I+HnJUlSNoPVOepLF6Nkaio4knS3mpp6wiC+G7XSu2HO+VqOqIvE dbd0XnPk7qc75g1xxmXdD00LsYnjYKPpQAk0Kh/e2H6xsqI3YgWADzxzr/v7AbIAc+ZaOjK1LFZ gW1sKhxhnnrIyAZ0dflEw9cM9skY5wP5GGh738vYqu2pjvjsvuIqHJAZmovL8xm3vyZ45Ti+7kQ m4ZiXjlsozoinal6gXeIeC35eiavoTC1BfEU X-Google-Smtp-Source: AGHT+IGf+jV0tL9r+tKBbTmyqf+lNq2X1Vdapvo5CwQJTJSKfW7A5Ks7jcFgcj4gee+OusVONxAoA/x1lDUp X-Received: by 2002:a17:90b:2743:b0:2ee:db8a:2a01 with SMTP id 98e67ed59e1d1-30a61a6f6f3mr10188780a91.30.1746440743797; Mon, 05 May 2025 03:25:43 -0700 (PDT) Received: from postal.iol.unh.edu (postal.iol.unh.edu. [2606:4100:3880:1234::84]) by smtp-relay.gmail.com with ESMTPS id 98e67ed59e1d1-30a4765c4ddsm2554667a91.15.2025.05.05.03.25.43 (version=TLS1_2 cipher=ECDHE-ECDSA-AES128-GCM-SHA256 bits=128/128); Mon, 05 May 2025 03:25:43 -0700 (PDT) X-Relaying-Domain: iol.unh.edu Date: Mon, 05 May 2025 03:25:43 -0700 (PDT) Message-ID: <68189227.170a0220.1dcc6c.8de4SMTPIN_ADDED_MISSING@mx.google.com> Received: from [172.17.0.2] (unknown [172.18.0.74]) by postal.iol.unh.edu (Postfix) with ESMTP id C93256052471; Mon, 5 May 2025 06:25:42 -0400 (EDT) Subject: |SUCCESS| pw153231-153230 [PATCH] [v5,2/2] drivers: add support for From: dpdklab@iol.unh.edu To: Test Report Cc: dpdk-test-reports@iol.unh.edu In-Reply-To: <20250505053304.3288290-2-kirankumark@marvell.com> References: <20250505053304.3288290-2-kirankumark@marvell.com> Content-Type: text/plain X-BeenThere: test-report@dpdk.org X-Mailman-Version: 2.1.29 Precedence: list List-Id: automatic DPDK test reports List-Unsubscribe: , List-Archive: List-Post: List-Help: List-Subscribe: , Errors-To: test-report-bounces@dpdk.org Test-Label: iol-sample-apps-testing Test-Status: SUCCESS http://dpdk.org/patch/153230 _Testing PASS_ Submitter: Kiran Kumar Kokkilagadda Date: Monday, May 05 2025 05:33:04 DPDK git baseline: Repo:dpdk Branch: master CommitID:ca1690ebd224f148268285b15b97441ccdbdd07e 153231-153230 --> testing pass Upstream job id: ACVP-FIPS-testing#9708 Test environment and result as below: +--------------------+----------------------+----------------------+ | Environment | compressdev_zlib_pmd | dpdk_fips_validation | +====================+======================+======================+ | Ubuntu 22.04 (ARM) | PASS | SKIPPED | +--------------------+----------------------+----------------------+ | Ubuntu 22.04 | PASS | SKIPPED | +--------------------+----------------------+----------------------+ | Ubuntu 20.04 | SKIPPED | PASS | +--------------------+----------------------+----------------------+ Ubuntu 22.04 (ARM) Kernel: 5.15.0-97-generic Compiler: gcc gcc (Ubuntu 11.4.0-1ubuntu1~22.04) 11.4.0 Ubuntu 22.04 Kernel: 5.15.0-100-generic Compiler: gcc gcc (Ubuntu 11.4.0-1ubuntu1~22.04) 11.4.0 Ubuntu 20.04 Kernel: Depends on container host Compiler: gcc (Ubuntu 9.4.0-1ubuntu1~20.04.2) 9.4.0 To view detailed results, visit: https://lab.dpdk.org/results/dashboard/patchsets/33100/ UNH-IOL DPDK Community Lab To manage your email subscriptions, visit: https://lab.dpdk.org/results/dashboard/preferences/subscriptions/