From mboxrd@z Thu Jan 1 00:00:00 1970 Return-Path: Received: from mails.dpdk.org (mails.dpdk.org [217.70.189.124]) by inbox.dpdk.org (Postfix) with ESMTP id 2EC48466CD for ; Mon, 5 May 2025 16:14:04 +0200 (CEST) Received: from mails.dpdk.org (localhost [127.0.0.1]) by mails.dpdk.org (Postfix) with ESMTP id 26A454025D; Mon, 5 May 2025 16:14:04 +0200 (CEST) Received: from mail-qv1-f97.google.com (mail-qv1-f97.google.com [209.85.219.97]) by mails.dpdk.org (Postfix) with ESMTP id 3D54F40156 for ; Mon, 5 May 2025 16:14:03 +0200 (CEST) Received: by mail-qv1-f97.google.com with SMTP id 6a1803df08f44-6e8fd49b85eso76618506d6.0 for ; Mon, 05 May 2025 07:14:03 -0700 (PDT) DKIM-Signature: v=1; a=rsa-sha256; c=relaxed/relaxed; d=iol.unh.edu; s=unh-iol; t=1746454442; x=1747059242; darn=dpdk.org; h=references:in-reply-to:cc:to:from:subject:message-id:date:from:to :cc:subject:date:message-id:reply-to; bh=5iiV1XGL5Txrxsb3yZ91lD9b0rrk+bi0UOKNPihKyGc=; b=gT8hetHfKvw4s/pD2uRRChIiI9kE91AZ4ZYHIZnn7H4CKd2mykRFSnrQVucpSNgACB asElMPpPOuAGvnqZy0tAmFzn+6xRfKssoQJZBXfsmFFBu+ldi7e/9sh6Ip3CN3o8k7yD 8UymZ6fTR38lblkoO4Ue3sFGyvMmVIKeTbFoQ= X-Google-DKIM-Signature: v=1; a=rsa-sha256; c=relaxed/relaxed; d=1e100.net; s=20230601; t=1746454442; x=1747059242; h=references:in-reply-to:cc:to:from:subject:message-id:date :x-gm-message-state:from:to:cc:subject:date:message-id:reply-to; bh=5iiV1XGL5Txrxsb3yZ91lD9b0rrk+bi0UOKNPihKyGc=; b=LYyvMISi7WrnQ0F1nHQY/2wgyDGfW0bLyYjE6HYoYIRn8CKYMs8P3y81TLER2ehGrd N5jRCprBXm1JHEzYtYoibEgUDSs/X3y9zkfm/F6zbKLzV74ABodmi4bHKXF1Sulzta0p 3Ui15fCKhp9smD0o1MKljw/r+mTgRaUh67SpH+83AGzCB1x6gVEPyh5/ixgceOznc1Xh SnGkaoAk3X2fzKkzREp7lsL8DZUsghO8o/M6puzBHQqF5XNX4+eM2FxiIJUMqJJu055b xYxHSD7dNPLs9Oo+Moq7VD8MLqEFyVWe+Tg4xCO/41kULQd8FvYr9G5TXemvw/Wiklta YO5g== X-Gm-Message-State: AOJu0YwUcgFGkp/fOXwQN+G9RI0687p/at/npkFn4vvW+h12DP260oTA CSuCNyAwdr5KMQsfLiB/M4ILnVisUJsRsHb1lPdukay0dQn2ojwfW/r/Ay7VRWMF/VMxY8iIWc4 DQtY5OxJubLO0iugxH04PvEEF9b8trezJIiqzo6QD X-Gm-Gg: ASbGncuFzPVI4ZFOXCSx5ZG3hH8m2anzir5CYpJZYQfDXD3vn/XPx8j70PKclAQj1Gl n75HPl5Wg6ULKvrX9PZIwG8o3ljfI8D1ClIOMofDEY3xJZw+Ma4yEmAsVvjVdulbF37Np2LyaTE eQEH4EPSkABjblhd/PakhThBdSNN+fAUKZ/1WR3Pj7du8rdY9Tzi8tIZ/L55fVC3pV3vgB3QdCw RXsSQKYz4NuAzZ91t1rP1rDQ5rFE26aU3FzPLOHx4L3frDkwNjVqM5lY967xfvtTXHsCPOffJRV rVxzBAKWuaRKQq9/ufKmBBOfv6shQH5ViMWXRRJtPq5g3KuduinN4V/bhg8= X-Google-Smtp-Source: AGHT+IF7q23KEaNdJPNO2N6U7LCUqA6q5uv/DS3E5hKYwLW24DHw2tKk4PGVtYhJhAmprzgbB7ZFPECyoEkA X-Received: by 2002:a05:6214:3016:b0:6f5:f4a:a3f6 with SMTP id 6a1803df08f44-6f528c778d1mr104191086d6.27.1746454442612; Mon, 05 May 2025 07:14:02 -0700 (PDT) Received: from postal.iol.unh.edu (postal.iol.unh.edu. [132.177.123.84]) by smtp-relay.gmail.com with ESMTPS id 6a1803df08f44-6f50f48f55fsm22625306d6.63.2025.05.05.07.14.02 (version=TLS1_2 cipher=ECDHE-ECDSA-AES128-GCM-SHA256 bits=128/128); Mon, 05 May 2025 07:14:02 -0700 (PDT) X-Relaying-Domain: iol.unh.edu Date: Mon, 05 May 2025 07:14:02 -0700 (PDT) Message-ID: <6818c7aa.050a0220.2e2c5e.6591SMTPIN_ADDED_MISSING@mx.google.com> Received: from [172.21.0.7] (unknown [172.18.0.240]) by postal.iol.unh.edu (Postfix) with ESMTP id 4D5FD6052471; Mon, 5 May 2025 10:14:02 -0400 (EDT) Subject: |SUCCESS| pw153240-153254 [PATCH] [v2,26/26] net/ntnic: fix operatio From: dpdklab@iol.unh.edu To: Test Report Cc: dpdk-test-reports@iol.unh.edu In-Reply-To: <20250505071309.586015-27-okl-plv@napatech.com> References: <20250505071309.586015-27-okl-plv@napatech.com> Content-Type: text/plain X-BeenThere: test-report@dpdk.org X-Mailman-Version: 2.1.29 Precedence: list List-Id: automatic DPDK test reports List-Unsubscribe: , List-Archive: List-Post: List-Help: List-Subscribe: , Errors-To: test-report-bounces@dpdk.org Test-Label: iol-sample-apps-testing Test-Status: SUCCESS http://dpdk.org/patch/153254 _Testing PASS_ Submitter: Oleksandr Kolomeiets Date: Monday, May 05 2025 07:13:06 DPDK git baseline: Repo:dpdk Branch: master CommitID:ff05ee3e3f8fb4ce958a2ce6461e8141aea959c6 153240-153254 --> testing pass Upstream job id: Template-DTS-Pipeline#224210 Test environment and result as below: +--------------------+----------------------+----------------------+ | Environment | dpdk_fips_validation | compressdev_zlib_pmd | +====================+======================+======================+ | Ubuntu 20.04 | PASS | SKIPPED | +--------------------+----------------------+----------------------+ | Ubuntu 22.04 (ARM) | SKIPPED | PASS | +--------------------+----------------------+----------------------+ | Ubuntu 22.04 | SKIPPED | PASS | +--------------------+----------------------+----------------------+ Ubuntu 20.04 Kernel: Depends on container host Compiler: gcc (Ubuntu 9.4.0-1ubuntu1~20.04.2) 9.4.0 Ubuntu 22.04 (ARM) Kernel: 5.15.0-97-generic Compiler: gcc gcc (Ubuntu 11.4.0-1ubuntu1~22.04) 11.4.0 Ubuntu 22.04 Kernel: 5.15.0-100-generic Compiler: gcc gcc (Ubuntu 11.4.0-1ubuntu1~22.04) 11.4.0 To view detailed results, visit: https://lab.dpdk.org/results/dashboard/patchsets/33104/ UNH-IOL DPDK Community Lab To manage your email subscriptions, visit: https://lab.dpdk.org/results/dashboard/preferences/subscriptions/