From mboxrd@z Thu Jan 1 00:00:00 1970 Return-Path: Received: from mails.dpdk.org (mails.dpdk.org [217.70.189.124]) by inbox.dpdk.org (Postfix) with ESMTP id 0975C466CD for ; Mon, 5 May 2025 16:50:15 +0200 (CEST) Received: from mails.dpdk.org (localhost [127.0.0.1]) by mails.dpdk.org (Postfix) with ESMTP id 033024025D; Mon, 5 May 2025 16:50:15 +0200 (CEST) Received: from mail-oo1-f100.google.com (mail-oo1-f100.google.com [209.85.161.100]) by mails.dpdk.org (Postfix) with ESMTP id CC6D84003C for ; Mon, 5 May 2025 16:50:13 +0200 (CEST) Received: by mail-oo1-f100.google.com with SMTP id 006d021491bc7-6062e41916dso2196820eaf.1 for ; Mon, 05 May 2025 07:50:13 -0700 (PDT) DKIM-Signature: v=1; a=rsa-sha256; c=relaxed/relaxed; d=iol.unh.edu; s=unh-iol; t=1746456613; x=1747061413; darn=dpdk.org; h=references:in-reply-to:cc:to:from:subject:message-id:date:from:to :cc:subject:date:message-id:reply-to; bh=5j3dI0rUpiBq34wef9BNmVOOrxvwA+evW5yozPU/YNI=; b=ZB/z6ZtDb4QTNenEo7TJQ9K4Tc/CGmpHtkyHzNlgg4bsPa+Fn3WF/QG8UMM0+SRMst waZuQeUdET9nDoRgW3E2548iNZ5JMJnQB01bCpQ4nIhUJj6/VLYkKnJxXGMLja5r42jk m5/VbMxpDp0py6/ucE+W+EhwpSGJv7i+8X8po= X-Google-DKIM-Signature: v=1; a=rsa-sha256; c=relaxed/relaxed; d=1e100.net; s=20230601; t=1746456613; x=1747061413; h=references:in-reply-to:cc:to:from:subject:message-id:date :x-gm-message-state:from:to:cc:subject:date:message-id:reply-to; bh=5j3dI0rUpiBq34wef9BNmVOOrxvwA+evW5yozPU/YNI=; b=iDt2npOnJDlMHqMf0EvS9Y5PGhrwhX21Siyc94KAfJIkPWwSOcG2G52lqn6FcEEGIS ECaQwjDyXClkryVburHQsEKSnZQNVx2hYBmZcfX7SshQAui7WvGFDrzYzioINkfEP/QX b1W8b56oICMbfkQOiBg3TsDj8z1TO1xLL1X/VXN93g6Gu21E3FwtSAqcN4yhwfqYqTUi /5kwwRSRX9JX3D+TZwhsFeOHDl/6Ipl1Kug7VGmvCQeoaO+DVaQG9X1rg9NnNKcnJTIN 3VVpIRYRK+mAF4xOcnGORM6qdwOV/BNcPjGQiXbdJ/p0O0xgTMoRvwziaksHds/kemSb Kztg== X-Gm-Message-State: AOJu0Yx/62d9goBYPeTkOTYuHr52cTQIBFM2lagaax+Q+zgE3J/RpTCF omdmbomGQZeYsEIXeaIzh70RiHz9Ae8KSZ45Tz87ClWLsRCLKIDeg14X+C5PaoeNOtsOvAKtVlf urU3Lr4adOBC6OTvDeEAwX6VG1vkIi69vMyK3Pj6gmm3V8IoVwciIpT1n X-Gm-Gg: ASbGncvVrojKz/IRbakkXsUoYZmfUFqP/y1n7dCJsrVV8d2+U6vSPdZzP6E2B8xw/OJ JaOOuCEOBbzlOa6QTlua7tg7acdsltZWgJLh6cmLrtYy8pgSiyLYguBDAUPuLnijscIt0bmGFJp m/hBldfn+41mdpYAA1S5y+lDSpTn9Vu5jNZdzCxs/FZ9/lY/nuBx3Y6MJfwSKNtooMlbl/7+vkD 8gwml7P8c04neANLUErESuXI2JVG5uLMaLDdEB8vbddA57AoxtXXqX1KFUIWHJt7MhsooYtXhJC umFXy0hL/U4rdCkYu9/nsHzcJul+TzwQZZ2g X-Google-Smtp-Source: AGHT+IFY6b1eqJaGRJLWhVK60ckG9eXbpjJtzsrb17CerAf03ATCkikyovAumv8hW8lwJkuuropNxCFomTvo X-Received: by 2002:a05:6820:208:b0:606:293f:d2da with SMTP id 006d021491bc7-6080030736cmr4736066eaf.8.1746456611937; Mon, 05 May 2025 07:50:11 -0700 (PDT) Received: from postal.iol.unh.edu (postal.iol.unh.edu. [2606:4100:3880:1234::84]) by smtp-relay.gmail.com with ESMTPS id 006d021491bc7-607e7cbe0eesm1519898eaf.3.2025.05.05.07.50.11 (version=TLS1_2 cipher=ECDHE-ECDSA-AES128-GCM-SHA256 bits=128/128); Mon, 05 May 2025 07:50:11 -0700 (PDT) X-Relaying-Domain: iol.unh.edu Date: Mon, 05 May 2025 07:50:11 -0700 (PDT) Message-ID: <6818d023.050a0220.342367.efd6SMTPIN_ADDED_MISSING@mx.google.com> Received: from [172.21.0.8] (unknown [172.18.0.240]) by postal.iol.unh.edu (Postfix) with ESMTP id 641796052471; Mon, 5 May 2025 10:50:11 -0400 (EDT) Subject: |SUCCESS| pw153240-153254 [PATCH] [v2,26/26] net/ntnic: fix operatio From: dpdklab@iol.unh.edu To: Test Report Cc: dpdk-test-reports@iol.unh.edu In-Reply-To: <20250505071309.586015-27-okl-plv@napatech.com> References: <20250505071309.586015-27-okl-plv@napatech.com> Content-Type: text/plain X-BeenThere: test-report@dpdk.org X-Mailman-Version: 2.1.29 Precedence: list List-Id: automatic DPDK test reports List-Unsubscribe: , List-Archive: List-Post: List-Help: List-Subscribe: , Errors-To: test-report-bounces@dpdk.org Test-Label: iol-unit-arm64-testing Test-Status: SUCCESS http://dpdk.org/patch/153254 _Testing PASS_ Submitter: Oleksandr Kolomeiets Date: Monday, May 05 2025 07:13:06 DPDK git baseline: Repo:dpdk Branch: master CommitID:ff05ee3e3f8fb4ce958a2ce6461e8141aea959c6 153240-153254 --> testing pass Upstream job id: Generic-Unit-Test-DPDK#335242 Test environment and result as below: +-----------------------------+----------------+---------------------------+--------------+------------------------------+ | Environment | dpdk_unit_test | cryptodev_sw_zuc_autotest | lpm_autotest | cryptodev_sw_snow3g_autotest | +=============================+================+===========================+==============+==============================+ | Fedora 40 (ARM) | PASS | SKIPPED | SKIPPED | SKIPPED | +-----------------------------+----------------+---------------------------+--------------+------------------------------+ | Ubuntu 20.04 (ARM) | PASS | SKIPPED | SKIPPED | SKIPPED | +-----------------------------+----------------+---------------------------+--------------+------------------------------+ | Debian 12 (arm) | PASS | PASS | SKIPPED | PASS | +-----------------------------+----------------+---------------------------+--------------+------------------------------+ | CentOS Stream 9 (ARM) | PASS | SKIPPED | SKIPPED | SKIPPED | +-----------------------------+----------------+---------------------------+--------------+------------------------------+ | RHEL9 (ARM) | PASS | SKIPPED | SKIPPED | SKIPPED | +-----------------------------+----------------+---------------------------+--------------+------------------------------+ | CentOS Stream 10 (ARM) | PASS | SKIPPED | SKIPPED | SKIPPED | +-----------------------------+----------------+---------------------------+--------------+------------------------------+ | Fedora 40 (ARM Clang) | PASS | SKIPPED | SKIPPED | SKIPPED | +-----------------------------+----------------+---------------------------+--------------+------------------------------+ | Fedora 41 (ARM Clang) | PASS | SKIPPED | SKIPPED | SKIPPED | +-----------------------------+----------------+---------------------------+--------------+------------------------------+ | Fedora 41 (ARM) | PASS | SKIPPED | SKIPPED | SKIPPED | +-----------------------------+----------------+---------------------------+--------------+------------------------------+ | Ubuntu 22.04 (ARM) | PASS | SKIPPED | SKIPPED | SKIPPED | +-----------------------------+----------------+---------------------------+--------------+------------------------------+ | Ubuntu 24.04 (ARM) | PASS | SKIPPED | SKIPPED | SKIPPED | +-----------------------------+----------------+---------------------------+--------------+------------------------------+ | 32-bit Ubuntu 22.04.4 (ARM) | PASS | SKIPPED | SKIPPED | SKIPPED | +-----------------------------+----------------+---------------------------+--------------+------------------------------+ | Ubuntu 20.04 ARM SVE | SKIPPED | SKIPPED | PASS | SKIPPED | +-----------------------------+----------------+---------------------------+--------------+------------------------------+ Fedora 40 (ARM) Kernel: Depends on container host Compiler: gcc 14.2.1 20240912 (Red Hat 14.2.1-3) Ubuntu 20.04 (ARM) Kernel: Depends on container host Compiler: gcc (Ubuntu 9.4.0-1ubuntu1~20.04.2) 9.4.0 Debian 12 (arm) Kernel: Depends on container host Compiler: gcc (Debian 12.2.0-14) 12.2.0 CentOS Stream 9 (ARM) Kernel: Depends on container host Compiler: gcc 11.5.0 20240719 (Red Hat 11.5.0-2) RHEL9 (ARM) Kernel: Depends on container host Compiler: gcc 11.5.0 20240719 (Red Hat 11.5.0-2) CentOS Stream 10 (ARM) Kernel: Depends on container host Compiler: gcc 14.2.1 20241104 (Red Hat 14.2.1-6) Fedora 40 (ARM Clang) Kernel: Depends on container host Compiler: clang 18.1.8 (Fedora 18.1.8-1.fc40) Fedora 41 (ARM Clang) Kernel: Depends on container host Compiler: clang 19.1.5 (Fedora 19.1.5-1.fc41) Fedora 41 (ARM) Kernel: Depends on container host Compiler: gcc 14.2.1 20240912 (Red Hat 14.2.1-3) Ubuntu 22.04 (ARM) Kernel: Depends on container host Compiler: gcc (Ubuntu 11.4.0-1ubuntu1~22.04) 11.4.0 Ubuntu 24.04 (ARM) Kernel: Depends on container host Compiler: gcc (Ubuntu 13.3.0-6ubuntu2~24.04) 13.3.0 32-bit Ubuntu 22.04.4 (ARM) Kernel: 5.15.83+ aarch64 Compiler: gcc (Ubuntu 11.4.0-1ubuntu1~22.04) 11.4.0 Ubuntu 20.04 ARM SVE Kernel: Depends on container host Compiler: gcc (Ubuntu 10.5.0-1ubuntu1~20.04) 10.5.0 To view detailed results, visit: https://lab.dpdk.org/results/dashboard/patchsets/33104/ UNH-IOL DPDK Community Lab To manage your email subscriptions, visit: https://lab.dpdk.org/results/dashboard/preferences/subscriptions/