From mboxrd@z Thu Jan 1 00:00:00 1970 Return-Path: Received: from mails.dpdk.org (mails.dpdk.org [217.70.189.124]) by inbox.dpdk.org (Postfix) with ESMTP id 6D813466CD for ; Mon, 5 May 2025 16:53:25 +0200 (CEST) Received: from mails.dpdk.org (localhost [127.0.0.1]) by mails.dpdk.org (Postfix) with ESMTP id 63DC14025D; Mon, 5 May 2025 16:53:25 +0200 (CEST) Received: from mail-il1-f227.google.com (mail-il1-f227.google.com [209.85.166.227]) by mails.dpdk.org (Postfix) with ESMTP id 56E454003C for ; Mon, 5 May 2025 16:53:24 +0200 (CEST) Received: by mail-il1-f227.google.com with SMTP id e9e14a558f8ab-3d96d16b375so24170425ab.1 for ; Mon, 05 May 2025 07:53:24 -0700 (PDT) DKIM-Signature: v=1; a=rsa-sha256; c=relaxed/relaxed; d=iol.unh.edu; s=unh-iol; t=1746456803; x=1747061603; darn=dpdk.org; h=references:in-reply-to:cc:to:from:subject:message-id:date:from:to :cc:subject:date:message-id:reply-to; bh=j8D52du7skEjqFsiAoiWjG9dN839VGAjejrgR6pXBmQ=; b=FkpYHcHfw5XH8EMhruRAB8XMkx8ajY5f+6pGPdrgZZJ1Q6SwI98ss8t/Bs4eOK9T5B gSVOOINCVWrHTl5glu2DvEZFecbliVER1fXL6yM1HCmiZy7qBBhfmM7LDmGEUCJ6kGyK HuUl6srX76s5ZaZlDQia/V0vtlMQBjtgMOPx4= X-Google-DKIM-Signature: v=1; a=rsa-sha256; c=relaxed/relaxed; d=1e100.net; s=20230601; t=1746456803; x=1747061603; h=references:in-reply-to:cc:to:from:subject:message-id:date :x-gm-message-state:from:to:cc:subject:date:message-id:reply-to; bh=j8D52du7skEjqFsiAoiWjG9dN839VGAjejrgR6pXBmQ=; b=VEF9GYmWwt8yLfu1rOeLJynoMqZltVTgDQC00Npjva/WRxpRs3WFVyHtST7vPEcxxi 7ZtGrwmE5RTrEJ4TZTA8Pm53O/tPxkHUqbppdwr2t8JebFWHbKarN3OiuyojMfA4Bdze XmEfUCL9x3RCNXj/m7TNxAzyk07q7Jn6uUpGmcoiEXE4LqCL7Cn/QglR2K3aGXMpN2sP xMS8Ibg/qpzs4yeEMkay2btOUZZxGX0QF88vhtYKD5mzlzyMj/0HVm+okP5R/SwWMaVe ddjK5OM7uPNAqgI8jJZ3bO8RAG0+MkIVYJ2szGXxBDpoU4dF5fHVonrB2J+dDPAj2xvZ lbvw== X-Gm-Message-State: AOJu0YyZ5KQuyh4vUQpWYhYyFXJKm2qJ5q7bR6nA9S8X/kwPKMMpvvUE xL1OJRqakEi2/QqC8rQ4lUhiVEPk/20hAoyv3TlfLiRnMGSv35BjmyxaGFgzJLY8lASOMwdwhBW zJhXpC+eguusSd5h9dFgsFFkCdI+UtGcR6uQ9j+RuXf8G25hqDplHv2cK X-Gm-Gg: ASbGnctn0OFmI2Lu+Jk+Vlz50VWXK8LdU9HRIxg6y7d6qQAZ5WP/lm2uRf36RKCvWxh eaK6tulfGPMtINzr4q/+bOT5RmJKsLw2fcn7T6YkNz1i9Qh3JxuFNxdVvf7OPkiPn/WHNysSxmd 2NDwHEqNDCwLL9mwXUdK9QRaXYg4xLBtEFnHxLhMK7zOdQldpWTZmdI7SWsLy3wOduLadAMQBgD msPTDxt56Fwuv0WcWUq36DzC9naHxQF6IcDSteVKkjskqfGnOqc44Q8WeQp2HcuYl8AEYpOyUPQ L0Z3/yBBZUOYw/QyaivbwFp8p4gXW2wu3erR X-Google-Smtp-Source: AGHT+IGuwdeEe/NL4JbyzjPKPMpJYXG9snW0N4BmyhGBu7ojBzrs2xnvQdvRejyNsxIj/R6jtJ2RcHPioYaP X-Received: by 2002:a05:6e02:1c07:b0:3d8:2178:5c63 with SMTP id e9e14a558f8ab-3da5b23b51amr70896735ab.4.1746456803613; Mon, 05 May 2025 07:53:23 -0700 (PDT) Received: from postal.iol.unh.edu (postal.iol.unh.edu. [2606:4100:3880:1234::84]) by smtp-relay.gmail.com with ESMTPS id e9e14a558f8ab-3d975e83b5dsm21373775ab.27.2025.05.05.07.53.23 (version=TLS1_2 cipher=ECDHE-ECDSA-AES128-GCM-SHA256 bits=128/128); Mon, 05 May 2025 07:53:23 -0700 (PDT) X-Relaying-Domain: iol.unh.edu Date: Mon, 05 May 2025 07:53:23 -0700 (PDT) Message-ID: <6818d0e3.050a0220.17c594.4e30SMTPIN_ADDED_MISSING@mx.google.com> Received: from [172.21.0.6] (unknown [172.18.0.240]) by postal.iol.unh.edu (Postfix) with ESMTP id 456A16052477; Mon, 5 May 2025 10:53:23 -0400 (EDT) Subject: |SUCCESS| pw153240-153254 [PATCH] [v2,26/26] net/ntnic: fix operatio From: dpdklab@iol.unh.edu To: Test Report Cc: dpdk-test-reports@iol.unh.edu In-Reply-To: <20250505071309.586015-27-okl-plv@napatech.com> References: <20250505071309.586015-27-okl-plv@napatech.com> Content-Type: text/plain X-BeenThere: test-report@dpdk.org X-Mailman-Version: 2.1.29 Precedence: list List-Id: automatic DPDK test reports List-Unsubscribe: , List-Archive: List-Post: List-Help: List-Subscribe: , Errors-To: test-report-bounces@dpdk.org Test-Label: iol-unit-amd64-testing Test-Status: SUCCESS http://dpdk.org/patch/153254 _Testing PASS_ Submitter: Oleksandr Kolomeiets Date: Monday, May 05 2025 07:13:06 DPDK git baseline: Repo:dpdk Branch: master CommitID:ff05ee3e3f8fb4ce958a2ce6461e8141aea959c6 153240-153254 --> testing pass Upstream job id: Generic-VM-Unit-Test-DPDK#28318 Test environment and result as below: +---------------------+----------------+ | Environment | dpdk_unit_test | +=====================+================+ | Fedora 40 | PASS | +---------------------+----------------+ | Fedora 41 | PASS | +---------------------+----------------+ | CentOS Stream 9 | PASS | +---------------------+----------------+ | Fedora 40 (Clang) | PASS | +---------------------+----------------+ | CentOS Stream 10 | PASS | +---------------------+----------------+ | Debian 12 | PASS | +---------------------+----------------+ | RHEL9 | PASS | +---------------------+----------------+ | Ubuntu 20.04 | PASS | +---------------------+----------------+ | Ubuntu 22.04 | PASS | +---------------------+----------------+ | RHEL8 | PASS | +---------------------+----------------+ | Fedora 41 (Clang) | PASS | +---------------------+----------------+ | Ubuntu 24.04 | PASS | +---------------------+----------------+ | Windows Server 2022 | PASS | +---------------------+----------------+ Fedora 40 Kernel: Depends on container host Compiler: gcc 14.2.1 20240912 (Red Hat 14.2.1-3) Fedora 41 Kernel: Depends on container host Compiler: gcc 14.2.1 20240912 (Red Hat 14.2.1-3) CentOS Stream 9 Kernel: Depends on container host Compiler: gcc 11.5.0 20240719 (Red Hat 11.5.0-2) Fedora 40 (Clang) Kernel: Depends on container host Compiler: clang 18.1.8 (Fedora 18.1.8-1.fc40) CentOS Stream 10 Kernel: Depends on container host Compiler: gcc 14.2.1 20241104 (Red Hat 14.2.1-6) Debian 12 Kernel: Depends on container host Compiler: gcc (Debian 12.2.0-14) 12.2.0 RHEL9 Kernel: Depends on container host Compiler: gcc 11.5.0 20240719 (Red Hat 11.5.0-2) Ubuntu 20.04 Kernel: Depends on container host Compiler: gcc (Ubuntu 9.4.0-1ubuntu1~20.04.2) 9.4.0 Ubuntu 22.04 Kernel: Depends on container host Compiler: gcc (Ubuntu 11.4.0-1ubuntu1~22.04) 11.4.0 RHEL8 Kernel: Depends on container host Compiler: gcc 8.5.0 20210514 (Red Hat 8.5.0-22) Fedora 41 (Clang) Kernel: Depends on container host Compiler: clang 19.1.5 (Fedora 19.1.5-1.fc41) Ubuntu 24.04 Kernel: Depends on container host Compiler: gcc (Ubuntu 13.3.0-6ubuntu2~24.04) 13.3.0 Windows Server 2022 Kernel: 10.0.20348.2031 Compiler: clang 15.0.7, gcc 14.1.0 (MinGW), and MSVC VS 19.39.33521 To view detailed results, visit: https://lab.dpdk.org/results/dashboard/patchsets/33104/ UNH-IOL DPDK Community Lab To manage your email subscriptions, visit: https://lab.dpdk.org/results/dashboard/preferences/subscriptions/