From mboxrd@z Thu Jan 1 00:00:00 1970 Return-Path: Received: from mails.dpdk.org (mails.dpdk.org [217.70.189.124]) by inbox.dpdk.org (Postfix) with ESMTP id 2E8F2466CD for ; Mon, 5 May 2025 17:22:43 +0200 (CEST) Received: from mails.dpdk.org (localhost [127.0.0.1]) by mails.dpdk.org (Postfix) with ESMTP id 289A44025D; Mon, 5 May 2025 17:22:43 +0200 (CEST) Received: from mail-qt1-f225.google.com (mail-qt1-f225.google.com [209.85.160.225]) by mails.dpdk.org (Postfix) with ESMTP id 8A8314003C for ; Mon, 5 May 2025 17:22:41 +0200 (CEST) Received: by mail-qt1-f225.google.com with SMTP id d75a77b69052e-4769f3e19a9so32972021cf.0 for ; Mon, 05 May 2025 08:22:41 -0700 (PDT) DKIM-Signature: v=1; a=rsa-sha256; c=relaxed/relaxed; d=iol.unh.edu; s=unh-iol; t=1746458561; x=1747063361; darn=dpdk.org; h=references:in-reply-to:cc:to:from:subject:message-id:date:from:to :cc:subject:date:message-id:reply-to; bh=skb+DIZSg3tUMuVIpNe3qBxk+vUofmuZD8DjU65Uxv0=; b=fOLwNzYZlMOY5MIIhKUB8nsmcroEVPt5dYhM7ZUwSgSEchiJNbA9HO/4UCJIhDQq7m ReCC0yCNSAwyYbx2QUBi/38UvDqZoZc3ndDlMJfeJ8c6975yQQo8Wm1y99+YPVhWA2VR eyZeQB4lI2jLtoa2DP7bW7z6CyRnjDblxYXy8= X-Google-DKIM-Signature: v=1; a=rsa-sha256; c=relaxed/relaxed; d=1e100.net; s=20230601; t=1746458561; x=1747063361; h=references:in-reply-to:cc:to:from:subject:message-id:date :x-gm-message-state:from:to:cc:subject:date:message-id:reply-to; bh=skb+DIZSg3tUMuVIpNe3qBxk+vUofmuZD8DjU65Uxv0=; b=EypYMEFVJ/h/eGGpyxf83DYGR+0u/6Mynmg3XCrxmgfgdWog5otjopunJ3tclZOiVJ caRJMm5hhxmR7ARz3jdtK/wQt6qHik/0bPxVBEhHZBVjBjxJn97nTqFV/L1cJMs2ZVDx 8RyNvkOGarwI072o+wpXiKu7qRu/p5zrVLYMaCT+NX1ik+kVA5Ja9EvcCJu55+WOj0Ue TckhG0shYnGU5RyhWv/5OTZ7fb64HpwGUnKp/8SxY4S4K+x0vUdfS9TQDhgAq9OXGpUE 85pA8rUVX3gotimw4S7IuT5PMf6V+rt1UVkhczPSmIUtI8ee7023nhkH67Z/h4B2Y4aF B9Mg== X-Gm-Message-State: AOJu0YwnR5hk5W/OnDOWZ8f8v59/8AtCG+fHQQ8wArGgyq0iq9JJitcg ieY+L7RB3Um4jepENrkX9/afh7TKIAr1n8Ptu7zsUlVGlBhChkL8YqDKW3MrMMlo1wke+tdZ8uz 95jSbrYoT2U74+IB7f1/Z5CwN6FtG13dlf0M0TcM9kpB4SB8ozqMIneqH X-Gm-Gg: ASbGncuOlKBTN9UuO5akO8QN44Npt5QB1VMYoeStyt6DRU21Vyb3gbRF9lpaWQf6rgr 2x4pMgZx3b5hXK0VNcQvMyN8S0CgDfg8FJCUE4hcyOd7vda0WVEQ/7CPsDalIj33oRW3NlFyu08 rytQmqTL7CuV8gkgvqMoTf847MXH29xn1XvgJQ1xdR7I1FrP5LgRozJdeCK+SdD3+lWagMyvQzn tIvtUCHkJVi98RIfIvvNtQYi0YJ3r/lNf96eCWo2xvenyLiyBTIfjcXPyEuHcK20njjHmSz7fu+ jg0632uOj2nlQ1zJIq+XrAh87JZ5xcDfuv7E X-Google-Smtp-Source: AGHT+IE+XP55QYFB9T/l2692ulqMZP3RnoslNhe30xfz/NApzYR4UZmNIL3i7jWWNsMWwzYqzx3eIp2NDgtH X-Received: by 2002:ac8:574c:0:b0:476:639e:ede0 with SMTP id d75a77b69052e-48dffdbf5e6mr111809861cf.26.1746458560861; Mon, 05 May 2025 08:22:40 -0700 (PDT) Received: from postal.iol.unh.edu (postal.iol.unh.edu. [2606:4100:3880:1234::84]) by smtp-relay.gmail.com with ESMTPS id d75a77b69052e-48b960cf0c0sm17423081cf.4.2025.05.05.08.22.40 (version=TLS1_2 cipher=ECDHE-ECDSA-AES128-GCM-SHA256 bits=128/128); Mon, 05 May 2025 08:22:40 -0700 (PDT) X-Relaying-Domain: iol.unh.edu Date: Mon, 05 May 2025 08:22:40 -0700 (PDT) Message-ID: <6818d7c0.c80a0220.265f01.1beeSMTPIN_ADDED_MISSING@mx.google.com> Received: from [172.21.0.9] (unknown [172.18.0.240]) by postal.iol.unh.edu (Postfix) with ESMTP id 57D076052471; Mon, 5 May 2025 11:22:40 -0400 (EDT) Subject: |SUCCESS| pw153237-153239 [PATCH] [v7,3/3] test/graph: fix graph aut From: dpdklab@iol.unh.edu To: Test Report Cc: dpdk-test-reports@iol.unh.edu In-Reply-To: <20250505062422.588450-3-kirankumark@marvell.com> References: <20250505062422.588450-3-kirankumark@marvell.com> Content-Type: text/plain X-BeenThere: test-report@dpdk.org X-Mailman-Version: 2.1.29 Precedence: list List-Id: automatic DPDK test reports List-Unsubscribe: , List-Archive: List-Post: List-Help: List-Subscribe: , Errors-To: test-report-bounces@dpdk.org Test-Label: iol-unit-arm64-testing Test-Status: SUCCESS http://dpdk.org/patch/153239 _Testing PASS_ Submitter: Kiran Kumar Kokkilagadda Date: Monday, May 05 2025 06:24:21 DPDK git baseline: Repo:dpdk Branch: master CommitID:ca1690ebd224f148268285b15b97441ccdbdd07e 153237-153239 --> testing pass Upstream job id: Generic-Unit-Test-DPDK#335266 Test environment and result as below: +-----------------------------+------------------------------+--------------+---------------------------+----------------+ | Environment | cryptodev_sw_snow3g_autotest | lpm_autotest | cryptodev_sw_zuc_autotest | dpdk_unit_test | +=============================+==============================+==============+===========================+================+ | Debian 12 (arm) | PASS | SKIPPED | PASS | PASS | +-----------------------------+------------------------------+--------------+---------------------------+----------------+ | Ubuntu 20.04 ARM SVE | SKIPPED | PASS | SKIPPED | SKIPPED | +-----------------------------+------------------------------+--------------+---------------------------+----------------+ | CentOS Stream 9 (ARM) | SKIPPED | SKIPPED | SKIPPED | PASS | +-----------------------------+------------------------------+--------------+---------------------------+----------------+ | Fedora 41 (ARM) | SKIPPED | SKIPPED | SKIPPED | PASS | +-----------------------------+------------------------------+--------------+---------------------------+----------------+ | Fedora 41 (ARM Clang) | SKIPPED | SKIPPED | SKIPPED | PASS | +-----------------------------+------------------------------+--------------+---------------------------+----------------+ | RHEL9 (ARM) | SKIPPED | SKIPPED | SKIPPED | PASS | +-----------------------------+------------------------------+--------------+---------------------------+----------------+ | CentOS Stream 10 (ARM) | SKIPPED | SKIPPED | SKIPPED | PASS | +-----------------------------+------------------------------+--------------+---------------------------+----------------+ | Fedora 40 (ARM) | SKIPPED | SKIPPED | SKIPPED | PASS | +-----------------------------+------------------------------+--------------+---------------------------+----------------+ | Fedora 40 (ARM Clang) | SKIPPED | SKIPPED | SKIPPED | PASS | +-----------------------------+------------------------------+--------------+---------------------------+----------------+ | Ubuntu 20.04 (ARM) | SKIPPED | SKIPPED | SKIPPED | PASS | +-----------------------------+------------------------------+--------------+---------------------------+----------------+ | Ubuntu 22.04 (ARM) | SKIPPED | SKIPPED | SKIPPED | PASS | +-----------------------------+------------------------------+--------------+---------------------------+----------------+ | Ubuntu 24.04 (ARM) | SKIPPED | SKIPPED | SKIPPED | PASS | +-----------------------------+------------------------------+--------------+---------------------------+----------------+ | 32-bit Ubuntu 22.04.4 (ARM) | SKIPPED | SKIPPED | SKIPPED | PASS | +-----------------------------+------------------------------+--------------+---------------------------+----------------+ Debian 12 (arm) Kernel: Depends on container host Compiler: gcc (Debian 12.2.0-14) 12.2.0 Ubuntu 20.04 ARM SVE Kernel: Depends on container host Compiler: gcc (Ubuntu 10.5.0-1ubuntu1~20.04) 10.5.0 CentOS Stream 9 (ARM) Kernel: Depends on container host Compiler: gcc 11.5.0 20240719 (Red Hat 11.5.0-2) Fedora 41 (ARM) Kernel: Depends on container host Compiler: gcc 14.2.1 20240912 (Red Hat 14.2.1-3) Fedora 41 (ARM Clang) Kernel: Depends on container host Compiler: clang 19.1.5 (Fedora 19.1.5-1.fc41) RHEL9 (ARM) Kernel: Depends on container host Compiler: gcc 11.5.0 20240719 (Red Hat 11.5.0-2) CentOS Stream 10 (ARM) Kernel: Depends on container host Compiler: gcc 14.2.1 20241104 (Red Hat 14.2.1-6) Fedora 40 (ARM) Kernel: Depends on container host Compiler: gcc 14.2.1 20240912 (Red Hat 14.2.1-3) Fedora 40 (ARM Clang) Kernel: Depends on container host Compiler: clang 18.1.8 (Fedora 18.1.8-1.fc40) Ubuntu 20.04 (ARM) Kernel: Depends on container host Compiler: gcc (Ubuntu 9.4.0-1ubuntu1~20.04.2) 9.4.0 Ubuntu 22.04 (ARM) Kernel: Depends on container host Compiler: gcc (Ubuntu 11.4.0-1ubuntu1~22.04) 11.4.0 Ubuntu 24.04 (ARM) Kernel: Depends on container host Compiler: gcc (Ubuntu 13.3.0-6ubuntu2~24.04) 13.3.0 32-bit Ubuntu 22.04.4 (ARM) Kernel: 5.15.83+ aarch64 Compiler: gcc (Ubuntu 11.4.0-1ubuntu1~22.04) 11.4.0 To view detailed results, visit: https://lab.dpdk.org/results/dashboard/patchsets/33103/ UNH-IOL DPDK Community Lab To manage your email subscriptions, visit: https://lab.dpdk.org/results/dashboard/preferences/subscriptions/