From mboxrd@z Thu Jan 1 00:00:00 1970 Return-Path: Received: from mails.dpdk.org (mails.dpdk.org [217.70.189.124]) by inbox.dpdk.org (Postfix) with ESMTP id 51E5E466CD for ; Mon, 5 May 2025 17:22:56 +0200 (CEST) Received: from mails.dpdk.org (localhost [127.0.0.1]) by mails.dpdk.org (Postfix) with ESMTP id 4D522402E7; Mon, 5 May 2025 17:22:56 +0200 (CEST) Received: from mail-pj1-f100.google.com (mail-pj1-f100.google.com [209.85.216.100]) by mails.dpdk.org (Postfix) with ESMTP id EECC74003C for ; Mon, 5 May 2025 17:22:54 +0200 (CEST) Received: by mail-pj1-f100.google.com with SMTP id 98e67ed59e1d1-306b6ae4fb3so4884975a91.1 for ; Mon, 05 May 2025 08:22:54 -0700 (PDT) DKIM-Signature: v=1; a=rsa-sha256; c=relaxed/relaxed; d=iol.unh.edu; s=unh-iol; t=1746458574; x=1747063374; darn=dpdk.org; h=references:in-reply-to:cc:to:from:subject:message-id:date:from:to :cc:subject:date:message-id:reply-to; bh=OruKJn1IxLUBIO5xt3I7yeL19fTAWejLaqdpExQt3K0=; b=GO+pqlYyzhEsqVV1xFNylk8uimxGYD+APRlaR5i4mIFbc4CjryI0HLBpB1LMizklkA JFFKGClYRUwUFEa9JEtdpqLK28xrum4r1BEwTKF6GqOIyGJwFTP/nfEebnCMsXYfQK05 ugi3Jb5w92EE5Womjpn690AqGUuFRq3reEDTg= X-Google-DKIM-Signature: v=1; a=rsa-sha256; c=relaxed/relaxed; d=1e100.net; s=20230601; t=1746458574; x=1747063374; h=references:in-reply-to:cc:to:from:subject:message-id:date :x-gm-message-state:from:to:cc:subject:date:message-id:reply-to; bh=OruKJn1IxLUBIO5xt3I7yeL19fTAWejLaqdpExQt3K0=; b=Te2DT4vv6hmK34R5WlRXgkyT9BMiJI7caBK9AFg+YdD2LHM5yMcv51nEfaLz6sGI+r zS3hxM4D2vt6g2hIZgsIiGfRAqHeu3hakBcN4jV7pnCgs5PyTb1cRzclDbPkXb43q82c MKosgeTHkT0TqRS4rXB2kYvqFzjfRaln0vkrtd/hH0qB9buPIsd+9OKdRTNkRL44MPMK qun5xrVkCeDRAoKKMxnaO2NCXq73/7LS54P4hvUolUzwRI/pfv4zBAol45r2Y88H5h3c 50WUhFJk9/NMepsi5o6ty6e/3nE0JICii+Nj2zV0zVUck4PhDCG6SvnDUWsQ9PdxB67q 4K6w== X-Gm-Message-State: AOJu0YzRsxQXVCAbC4clB+ns+akIaBbjSScv62fAYcW8SpctEwQDMFm/ LAjrQu0TMdWX2Noie4DwV/5K4zMqqGbUUFTAnxVpugTKYLTtdi/1Q8l1mYkLTgs2PyuS2Boav+D IedYeU89ISY2v4bTaLWhtF3uDs62HGQ2b3veOsOqJ X-Gm-Gg: ASbGncvevq70+txBegvV7vLhCwlFK3fnpNJElNI9Fq7pJgHYWTxUs60iOlXbSdn2qGe L6ExonVmvsIjW5OMqU7TC9wo4guxH9Zs2Q5PLzCYW+L2BBgGA3GXFBIYGV1gKByCR9OFaX8rA6/ J/IGV+XRMHVRFlzlD9kGXQhDoguU+IFYXKnrLlW8wCboxqYpDaBuQzN1hbxtg9vKPmDgUgBuru2 xCTAelv7v3q2sr/UDTt4vir8gkoka+thjz+y96Thd3nCc7HL+yEio4pPzb4d8G9wh4vP+Fw3mvz 2CS99pkKU/5A0pnbvb1ZusVTnswn7Fj0LtUNun0tlAVIS315bYuOIu+9Ymk= X-Google-Smtp-Source: AGHT+IGD4aRZAaMbSA0lZPrzyuUotznBYWUE1KQpJeihZIfNKbHU4r3+I2LJCeUTWu2oXx8r1mXltIDdmx/1 X-Received: by 2002:a17:90b:53c3:b0:2ee:9d49:3ae6 with SMTP id 98e67ed59e1d1-30a619769f6mr13407553a91.10.1746458574005; Mon, 05 May 2025 08:22:54 -0700 (PDT) Received: from postal.iol.unh.edu (postal.iol.unh.edu. [132.177.123.84]) by smtp-relay.gmail.com with ESMTPS id 98e67ed59e1d1-30a47460844sm2613401a91.1.2025.05.05.08.22.53 (version=TLS1_2 cipher=ECDHE-ECDSA-AES128-GCM-SHA256 bits=128/128); Mon, 05 May 2025 08:22:53 -0700 (PDT) X-Relaying-Domain: iol.unh.edu Date: Mon, 05 May 2025 08:22:53 -0700 (PDT) Message-ID: <6818d7cd.170a0220.ae4bb.a733SMTPIN_ADDED_MISSING@mx.google.com> Received: from [172.21.0.7] (unknown [172.18.0.240]) by postal.iol.unh.edu (Postfix) with ESMTP id 014B26052472; Mon, 5 May 2025 11:22:53 -0400 (EDT) Subject: |SUCCESS| pw153237-153239 [PATCH] [v7,3/3] test/graph: fix graph aut From: dpdklab@iol.unh.edu To: Test Report Cc: dpdk-test-reports@iol.unh.edu In-Reply-To: <20250505062422.588450-3-kirankumark@marvell.com> References: <20250505062422.588450-3-kirankumark@marvell.com> Content-Type: text/plain X-BeenThere: test-report@dpdk.org X-Mailman-Version: 2.1.29 Precedence: list List-Id: automatic DPDK test reports List-Unsubscribe: , List-Archive: List-Post: List-Help: List-Subscribe: , Errors-To: test-report-bounces@dpdk.org Test-Label: iol-unit-arm64-testing Test-Status: SUCCESS http://dpdk.org/patch/153239 _Testing PASS_ Submitter: Kiran Kumar Kokkilagadda Date: Monday, May 05 2025 06:24:21 DPDK git baseline: Repo:dpdk Branch: master CommitID:ca1690ebd224f148268285b15b97441ccdbdd07e 153237-153239 --> testing pass Upstream job id: Generic-Unit-Test-DPDK#335254 Test environment and result as below: +-----------------------------+------------------------------+--------------+---------------------------+----------------+ | Environment | cryptodev_sw_snow3g_autotest | lpm_autotest | cryptodev_sw_zuc_autotest | dpdk_unit_test | +=============================+==============================+==============+===========================+================+ | Debian 12 (arm) | PASS | SKIPPED | PASS | PASS | +-----------------------------+------------------------------+--------------+---------------------------+----------------+ | Ubuntu 20.04 ARM SVE | SKIPPED | PASS | SKIPPED | SKIPPED | +-----------------------------+------------------------------+--------------+---------------------------+----------------+ | CentOS Stream 9 (ARM) | SKIPPED | SKIPPED | SKIPPED | PASS | +-----------------------------+------------------------------+--------------+---------------------------+----------------+ | Fedora 41 (ARM) | SKIPPED | SKIPPED | SKIPPED | PASS | +-----------------------------+------------------------------+--------------+---------------------------+----------------+ | Fedora 41 (ARM Clang) | SKIPPED | SKIPPED | SKIPPED | PASS | +-----------------------------+------------------------------+--------------+---------------------------+----------------+ | RHEL9 (ARM) | SKIPPED | SKIPPED | SKIPPED | PASS | +-----------------------------+------------------------------+--------------+---------------------------+----------------+ | CentOS Stream 10 (ARM) | SKIPPED | SKIPPED | SKIPPED | PASS | +-----------------------------+------------------------------+--------------+---------------------------+----------------+ | Fedora 40 (ARM) | SKIPPED | SKIPPED | SKIPPED | PASS | +-----------------------------+------------------------------+--------------+---------------------------+----------------+ | Fedora 40 (ARM Clang) | SKIPPED | SKIPPED | SKIPPED | PASS | +-----------------------------+------------------------------+--------------+---------------------------+----------------+ | Ubuntu 20.04 (ARM) | SKIPPED | SKIPPED | SKIPPED | PASS | +-----------------------------+------------------------------+--------------+---------------------------+----------------+ | Ubuntu 22.04 (ARM) | SKIPPED | SKIPPED | SKIPPED | PASS | +-----------------------------+------------------------------+--------------+---------------------------+----------------+ | Ubuntu 24.04 (ARM) | SKIPPED | SKIPPED | SKIPPED | PASS | +-----------------------------+------------------------------+--------------+---------------------------+----------------+ | 32-bit Ubuntu 22.04.4 (ARM) | SKIPPED | SKIPPED | SKIPPED | PASS | +-----------------------------+------------------------------+--------------+---------------------------+----------------+ Debian 12 (arm) Kernel: Depends on container host Compiler: gcc (Debian 12.2.0-14) 12.2.0 Ubuntu 20.04 ARM SVE Kernel: Depends on container host Compiler: gcc (Ubuntu 10.5.0-1ubuntu1~20.04) 10.5.0 CentOS Stream 9 (ARM) Kernel: Depends on container host Compiler: gcc 11.5.0 20240719 (Red Hat 11.5.0-2) Fedora 41 (ARM) Kernel: Depends on container host Compiler: gcc 14.2.1 20240912 (Red Hat 14.2.1-3) Fedora 41 (ARM Clang) Kernel: Depends on container host Compiler: clang 19.1.5 (Fedora 19.1.5-1.fc41) RHEL9 (ARM) Kernel: Depends on container host Compiler: gcc 11.5.0 20240719 (Red Hat 11.5.0-2) CentOS Stream 10 (ARM) Kernel: Depends on container host Compiler: gcc 14.2.1 20241104 (Red Hat 14.2.1-6) Fedora 40 (ARM) Kernel: Depends on container host Compiler: gcc 14.2.1 20240912 (Red Hat 14.2.1-3) Fedora 40 (ARM Clang) Kernel: Depends on container host Compiler: clang 18.1.8 (Fedora 18.1.8-1.fc40) Ubuntu 20.04 (ARM) Kernel: Depends on container host Compiler: gcc (Ubuntu 9.4.0-1ubuntu1~20.04.2) 9.4.0 Ubuntu 22.04 (ARM) Kernel: Depends on container host Compiler: gcc (Ubuntu 11.4.0-1ubuntu1~22.04) 11.4.0 Ubuntu 24.04 (ARM) Kernel: Depends on container host Compiler: gcc (Ubuntu 13.3.0-6ubuntu2~24.04) 13.3.0 32-bit Ubuntu 22.04.4 (ARM) Kernel: 5.15.83+ aarch64 Compiler: gcc (Ubuntu 11.4.0-1ubuntu1~22.04) 11.4.0 To view detailed results, visit: https://lab.dpdk.org/results/dashboard/patchsets/33103/ UNH-IOL DPDK Community Lab To manage your email subscriptions, visit: https://lab.dpdk.org/results/dashboard/preferences/subscriptions/