From mboxrd@z Thu Jan 1 00:00:00 1970 Return-Path: Received: from mails.dpdk.org (mails.dpdk.org [217.70.189.124]) by inbox.dpdk.org (Postfix) with ESMTP id 53526466CE for ; Mon, 5 May 2025 17:35:22 +0200 (CEST) Received: from mails.dpdk.org (localhost [127.0.0.1]) by mails.dpdk.org (Postfix) with ESMTP id 4EC5F4025D; Mon, 5 May 2025 17:35:22 +0200 (CEST) Received: from mail-pl1-f227.google.com (mail-pl1-f227.google.com [209.85.214.227]) by mails.dpdk.org (Postfix) with ESMTP id C4C034003C for ; Mon, 5 May 2025 17:35:20 +0200 (CEST) Received: by mail-pl1-f227.google.com with SMTP id d9443c01a7336-22928d629faso42526975ad.3 for ; Mon, 05 May 2025 08:35:20 -0700 (PDT) DKIM-Signature: v=1; a=rsa-sha256; c=relaxed/relaxed; d=iol.unh.edu; s=unh-iol; t=1746459320; x=1747064120; darn=dpdk.org; h=references:in-reply-to:cc:to:from:subject:message-id:date:from:to :cc:subject:date:message-id:reply-to; bh=cp4Xt74PnJEn1QNCE8ZBkJKSU3xArOOqi3BAJ3IkVVo=; b=YoiEGKWC7+8YAe9fQxx+HMNDmqz08Yk8uQ9eDEg5gR+HuDnRUWODHOha7qMOEl2WcA uCIZAWqNQT/5GMPD3hkIhCS5S5KnYEWq2TGBnRJgHuObI/UKjVjD/z42FswP/o3AfYEx sowI/b4OjqZZ/PWIbEKHwhYjRMzoXcFHx8eko= X-Google-DKIM-Signature: v=1; a=rsa-sha256; c=relaxed/relaxed; d=1e100.net; s=20230601; t=1746459320; x=1747064120; h=references:in-reply-to:cc:to:from:subject:message-id:date :x-gm-message-state:from:to:cc:subject:date:message-id:reply-to; bh=cp4Xt74PnJEn1QNCE8ZBkJKSU3xArOOqi3BAJ3IkVVo=; b=B7Cr3g0reAwR4W2KoaJ5LHK9zG/xgeGt6XCHOfKi7XUIy2QbeNyOGIEW6hd1rs7OOV ITCJbnBB4aFgBcHAUVZow/dl0J+CoREVTehWdUdQ+adwq8ZA5zrnIVj2nkRlvfbTYheK vc9fEEYKv+lPpciINoN8gbChvXEsMNiQ/FlCEABq1T+7CHSMPfibrBNj0FkIYAZqI8F+ ShIQE1CgTntACVuAJR1nd/4fjpU4H+Q54T2/BfltCaS0gEoe4UFNsojLL3O+krIHNm6C UyOebnvugfWrhTCb8WpeZ2haFUE+iM1x7BLzZsVmPH/ORIy/vHkiISEORF1jF5oL7pM+ CzdA== X-Gm-Message-State: AOJu0YxBABDinFaTyrJcAy7VqPBGfu3kRGmPeB9Ex8/gs1r7VhuyoX9S c8+Bdf9Wa6zHCCiHamhu5o3rvg0pbgA7m6Z2WiN6vLu0GKmbYD49OckH/yDq/amzruHpxNwYFNY C4ni0Z+fB1HWlKGjSHWfViCecz7RfzZP2+sN9LIXcX/bYEpNyb6Y4z4ue X-Gm-Gg: ASbGncvnjrPbU/OlwW8B794obzLISk0ByRwZ/1uE3S5H3DCJ0OVjOK0tA+XJMGLk+nH IJtX6pDRrJUiBdDJ56xfHt5w0Dblh1WRvjFSVqmm/C8nC9ofPnCmu83Xomv5b6CaAkzD1I2bTCb xHUxLdQF/7pObThOiQ+A5rpxb3kgQJWHTBFLHMg5aPbwUDJ+mELP9AQpfET59hNbihqzS1mmKcl TseIRmWhq/BWzqflffH50wM4a4s4FEGcDzztHlTT8e5+mZMZcPTPsGMuP708e/es2R9ruEQj3dv cUJYrH12z/tKSl6wrgL7pD9ORkDdgQ41wA/Q X-Google-Smtp-Source: AGHT+IFvE/zmcltTFTAIpooURG5oLm2uYAPw84Sg6JZ68P7xV2aMuZcp3XGCxUwcVOIOQu7uHVsaunN4fnrt X-Received: by 2002:a17:903:990:b0:224:2715:bf44 with SMTP id d9443c01a7336-22e1e8ebb8cmr117890195ad.19.1746459319676; Mon, 05 May 2025 08:35:19 -0700 (PDT) Received: from postal.iol.unh.edu (postal.iol.unh.edu. [2606:4100:3880:1234::84]) by smtp-relay.gmail.com with ESMTPS id d9443c01a7336-22e16cb23e2sm16079335ad.30.2025.05.05.08.35.19 (version=TLS1_2 cipher=ECDHE-ECDSA-AES128-GCM-SHA256 bits=128/128); Mon, 05 May 2025 08:35:19 -0700 (PDT) X-Relaying-Domain: iol.unh.edu Date: Mon, 05 May 2025 08:35:19 -0700 (PDT) Message-ID: <6818dab7.170a0220.333789.0899SMTPIN_ADDED_MISSING@mx.google.com> Received: from [172.21.0.7] (unknown [172.18.0.240]) by postal.iol.unh.edu (Postfix) with ESMTP id 193506052471; Mon, 5 May 2025 11:35:19 -0400 (EDT) Subject: |SUCCESS| pw153240-153254 [PATCH] [v2,26/26] net/ntnic: fix operatio From: dpdklab@iol.unh.edu To: Test Report Cc: dpdk-test-reports@iol.unh.edu In-Reply-To: <20250505071309.586015-27-okl-plv@napatech.com> References: <20250505071309.586015-27-okl-plv@napatech.com> Content-Type: text/plain X-BeenThere: test-report@dpdk.org X-Mailman-Version: 2.1.29 Precedence: list List-Id: automatic DPDK test reports List-Unsubscribe: , List-Archive: List-Post: List-Help: List-Subscribe: , Errors-To: test-report-bounces@dpdk.org Test-Label: iol-compile-amd64-testing Test-Status: SUCCESS http://dpdk.org/patch/153254 _Testing PASS_ Submitter: Oleksandr Kolomeiets Date: Monday, May 05 2025 07:13:06 DPDK git baseline: Repo:dpdk Branch: master CommitID:ff05ee3e3f8fb4ce958a2ce6461e8141aea959c6 153240-153254 --> testing pass Upstream job id: Generic-DPDK-Compile-Meson#384986 Test environment and result as below: +-----------------------------------+--------------------+-------------------+------------------+-------------------------+-------------------+----------------------+ | Environment | dpdk_meson_compile | dpdk_compile_spdk | dpdk_compile_ovs | dpdk_llvm_clang_compile | dpdk_msvc_compile | dpdk_mingw64_compile | +===================================+====================+===================+==================+=========================+===================+======================+ | CentOS Stream 9 | PASS | PASS | SKIPPED | SKIPPED | SKIPPED | SKIPPED | +-----------------------------------+--------------------+-------------------+------------------+-------------------------+-------------------+----------------------+ | Debian 12 | PASS | PASS | SKIPPED | SKIPPED | SKIPPED | SKIPPED | +-----------------------------------+--------------------+-------------------+------------------+-------------------------+-------------------+----------------------+ | Fedora 40 (Clang) | PASS | PASS | SKIPPED | SKIPPED | SKIPPED | SKIPPED | +-----------------------------------+--------------------+-------------------+------------------+-------------------------+-------------------+----------------------+ | Fedora 40 | PASS | PASS | SKIPPED | SKIPPED | SKIPPED | SKIPPED | +-----------------------------------+--------------------+-------------------+------------------+-------------------------+-------------------+----------------------+ | CentOS Stream 10 | PASS | SKIPPED | SKIPPED | SKIPPED | SKIPPED | SKIPPED | +-----------------------------------+--------------------+-------------------+------------------+-------------------------+-------------------+----------------------+ | Fedora 41 (Clang) | PASS | PASS | PASS | SKIPPED | SKIPPED | SKIPPED | +-----------------------------------+--------------------+-------------------+------------------+-------------------------+-------------------+----------------------+ | Fedora 41 | PASS | PASS | PASS | SKIPPED | SKIPPED | SKIPPED | +-----------------------------------+--------------------+-------------------+------------------+-------------------------+-------------------+----------------------+ | openSUSE Leap 15 | PASS | SKIPPED | SKIPPED | SKIPPED | SKIPPED | SKIPPED | +-----------------------------------+--------------------+-------------------+------------------+-------------------------+-------------------+----------------------+ | RHEL8 | PASS | SKIPPED | SKIPPED | SKIPPED | SKIPPED | SKIPPED | +-----------------------------------+--------------------+-------------------+------------------+-------------------------+-------------------+----------------------+ | RHEL9 | PASS | SKIPPED | SKIPPED | SKIPPED | SKIPPED | SKIPPED | +-----------------------------------+--------------------+-------------------+------------------+-------------------------+-------------------+----------------------+ | Ubuntu 20.04 | PASS | SKIPPED | SKIPPED | SKIPPED | SKIPPED | SKIPPED | +-----------------------------------+--------------------+-------------------+------------------+-------------------------+-------------------+----------------------+ | Ubuntu 22.04 | PASS | PASS | SKIPPED | SKIPPED | SKIPPED | SKIPPED | +-----------------------------------+--------------------+-------------------+------------------+-------------------------+-------------------+----------------------+ | Ubuntu 24.04 | PASS | PASS | PASS | SKIPPED | SKIPPED | SKIPPED | +-----------------------------------+--------------------+-------------------+------------------+-------------------------+-------------------+----------------------+ | Ubuntu 24.04 32 Bit Cross Compile | PASS | SKIPPED | SKIPPED | SKIPPED | SKIPPED | SKIPPED | +-----------------------------------+--------------------+-------------------+------------------+-------------------------+-------------------+----------------------+ | Alpine | PASS | SKIPPED | SKIPPED | SKIPPED | SKIPPED | SKIPPED | +-----------------------------------+--------------------+-------------------+------------------+-------------------------+-------------------+----------------------+ | FreeBSD 13.5 | PASS | SKIPPED | SKIPPED | SKIPPED | SKIPPED | SKIPPED | +-----------------------------------+--------------------+-------------------+------------------+-------------------------+-------------------+----------------------+ | FreeBSD 14.2 | PASS | SKIPPED | SKIPPED | SKIPPED | SKIPPED | SKIPPED | +-----------------------------------+--------------------+-------------------+------------------+-------------------------+-------------------+----------------------+ | Windows Server 2022 | SKIPPED | SKIPPED | SKIPPED | PASS | PASS | PASS | +-----------------------------------+--------------------+-------------------+------------------+-------------------------+-------------------+----------------------+ CentOS Stream 9 Kernel: Depends on container host Compiler: gcc 11.5.0 20240719 (Red Hat 11.5.0-2) Debian 12 Kernel: Depends on container host Compiler: gcc (Debian 12.2.0-14) 12.2.0 Fedora 40 (Clang) Kernel: Depends on container host Compiler: clang 18.1.8 (Fedora 18.1.8-1.fc40) Fedora 40 Kernel: Depends on container host Compiler: gcc 14.2.1 20240912 (Red Hat 14.2.1-3) CentOS Stream 10 Kernel: Depends on container host Compiler: gcc 14.2.1 20241104 (Red Hat 14.2.1-6) Fedora 41 (Clang) Kernel: Depends on container host Compiler: clang 19.1.5 (Fedora 19.1.5-1.fc41) Fedora 41 Kernel: Depends on container host Compiler: gcc 14.2.1 20240912 (Red Hat 14.2.1-3) openSUSE Leap 15 Kernel: Depends on container host Compiler: gcc (SUSE Linux) 7.5.0 RHEL8 Kernel: Depends on container host Compiler: gcc 8.5.0 20210514 (Red Hat 8.5.0-22) RHEL9 Kernel: Depends on container host Compiler: gcc 11.5.0 20240719 (Red Hat 11.5.0-2) Ubuntu 20.04 Kernel: Depends on container host Compiler: gcc (Ubuntu 9.4.0-1ubuntu1~20.04.2) 9.4.0 Ubuntu 22.04 Kernel: Depends on container host Compiler: gcc (Ubuntu 11.4.0-1ubuntu1~22.04) 11.4.0 Ubuntu 24.04 Kernel: Depends on container host Compiler: gcc (Ubuntu 13.3.0-6ubuntu2~24.04) 13.3.0 Ubuntu 24.04 32 Bit Cross Compile Kernel: Depends on container host Compiler: gcc (Ubuntu 13.3.0-6ubuntu2~24.04) 13.3.0 Alpine Kernel: Depends on container host Compiler: gcc (Alpine 14.2.0) 14.2.0 FreeBSD 13.5 Kernel: 13.5-RELEASE Compiler: clang 19.1.7 FreeBSD 14.2 Kernel: 14.2-RELEASE Compiler: clang 18.1.6 Windows Server 2022 Kernel: 10.0.20348.2031 Compiler: clang 15.0.7, gcc 14.1.0 (MinGW), and MSVC VS 19.39.33521 To view detailed results, visit: https://lab.dpdk.org/results/dashboard/patchsets/33104/ UNH-IOL DPDK Community Lab To manage your email subscriptions, visit: https://lab.dpdk.org/results/dashboard/preferences/subscriptions/