From mboxrd@z Thu Jan 1 00:00:00 1970 Return-Path: Received: from mails.dpdk.org (mails.dpdk.org [217.70.189.124]) by inbox.dpdk.org (Postfix) with ESMTP id A4CE5466CD for ; Mon, 5 May 2025 17:56:54 +0200 (CEST) Received: from mails.dpdk.org (localhost [127.0.0.1]) by mails.dpdk.org (Postfix) with ESMTP id 9E1024025D; Mon, 5 May 2025 17:56:54 +0200 (CEST) Received: from mail-pf1-f227.google.com (mail-pf1-f227.google.com [209.85.210.227]) by mails.dpdk.org (Postfix) with ESMTP id D638A4003C for ; Mon, 5 May 2025 17:56:52 +0200 (CEST) Received: by mail-pf1-f227.google.com with SMTP id d2e1a72fcca58-736a72220edso5142540b3a.3 for ; Mon, 05 May 2025 08:56:52 -0700 (PDT) DKIM-Signature: v=1; a=rsa-sha256; c=relaxed/relaxed; d=iol.unh.edu; s=unh-iol; t=1746460612; x=1747065412; darn=dpdk.org; h=references:in-reply-to:cc:to:from:subject:message-id:date:from:to :cc:subject:date:message-id:reply-to; bh=Fq1TKxpxv4kLANw89uMqOy0uLh8BoB2gfHeWAq8XNJg=; b=bwgnQG3cGuJhJbrJdvg2dipcbeZl54qPDyfN3rkrla9Cly3yuX5N74mGHXeklqbDeB sy+TIBZN6BMVffGdmLPM2yX+Pp41J9+lqbIn5fd2Z3rG/xGTcCqpp1xjJi88iyHMjcrq fEUizcmOV7CUr9h9llOHOY7hakIfcP5A2Lupo= X-Google-DKIM-Signature: v=1; a=rsa-sha256; c=relaxed/relaxed; d=1e100.net; s=20230601; t=1746460612; x=1747065412; h=references:in-reply-to:cc:to:from:subject:message-id:date :x-gm-message-state:from:to:cc:subject:date:message-id:reply-to; bh=Fq1TKxpxv4kLANw89uMqOy0uLh8BoB2gfHeWAq8XNJg=; b=Sru/h36p+/+x8Vwa0t0otUPkHeP0ka9s9TuYqY7wO2Xw04nKM4hNCOB59v5hGsfStm xkCXaH9ZFclwYQvmswU751wQev9WTxuJ1Zl7ntLZW2CIT0+WaMpIV8l3Stz6WSNNPowt DbvBIufM4RMb01UT5iEpXbl7P2QchUVpTTNaW04NnGINS/p2WE7XgsfTJFpZySpL8Ao6 DHPhs4U+OHNjJeAGi09wXYjcwEoYOeNCiqUywCJqPlBZbQ3kTgte4RA46gp9T1PUE5Tn ZMcc6KPPHo62sntPOlz2f6xasGeNaK+59KV6shNCU1bpFWn9EzcOY0JgrrebbezmKHO+ rE0w== X-Gm-Message-State: AOJu0YyucaHhHQsV2xO7/Yr5Wp+QTsUIpG2HqjtnOBAzzpOfEMLMi3NA 8Rwl09EYPc0CRlfUEGC1JPJ+FMLpBC0Mv7HRgdTcKs47Tpc8Jba3GMR5TpU1eF5WN7hb72j/ki9 i9f8VQ6UqX+9OQXfoujzd+iUNp9ZxKbq/GqfViP6zmAVIr6o5GJykWYTI X-Gm-Gg: ASbGncu742TaNIphXucWF2wKz2hX102RAq7Bxdxyp5xb6F1vBGJNMsN6SnlR5GeMWip 0AsCGZ+lCzjWQ+Nsc1OkMxiFA7DoKKQBtuA2pgrviBzXlkGM5NBdRBugn1VR5Bj6+98dS6Z6J7j J3ufAZRKknFwzVceC4Ry7SN3IxVQnWRGK5rMj6rytqhnONqxnIHBPS4LTZIDRGfa00SZj9dUpPG OovSJ1H6lOZUxejNl/pbJSdj/FmEg9vVvVtSqSF5zJ0AkQ7tjxTteCT5uh1ZVKYLUUPld8Ds62j MMk0hRvmtsMcnjgxuveGJ5/zomi1BKKuDvDo X-Google-Smtp-Source: AGHT+IFOQzsuazjNIjzjrECUSWbpJG1lqNCZAvpCfB3FTOzUmYxBuMk766/XieFSDDlAtpxZGujrJVGDz8FJ X-Received: by 2002:a05:6a21:31c7:b0:1f5:889c:3cbd with SMTP id adf61e73a8af0-20e078fc982mr15658009637.35.1746460611855; Mon, 05 May 2025 08:56:51 -0700 (PDT) Received: from postal.iol.unh.edu (postal.iol.unh.edu. [2606:4100:3880:1234::84]) by smtp-relay.gmail.com with ESMTPS id 41be03b00d2f7-b1fb3c72445sm1118406a12.22.2025.05.05.08.56.51 (version=TLS1_2 cipher=ECDHE-ECDSA-AES128-GCM-SHA256 bits=128/128); Mon, 05 May 2025 08:56:51 -0700 (PDT) X-Relaying-Domain: iol.unh.edu Date: Mon, 05 May 2025 08:56:51 -0700 (PDT) Message-ID: <6818dfc3.050a0220.1a21e9.8852SMTPIN_ADDED_MISSING@mx.google.com> Received: from [172.21.0.6] (unknown [172.18.0.240]) by postal.iol.unh.edu (Postfix) with ESMTP id 164ED6052471; Mon, 5 May 2025 11:56:51 -0400 (EDT) Subject: |SUCCESS| pw153237-153239 [PATCH] [v7,3/3] test/graph: fix graph aut From: dpdklab@iol.unh.edu To: Test Report Cc: dpdk-test-reports@iol.unh.edu In-Reply-To: <20250505062422.588450-3-kirankumark@marvell.com> References: <20250505062422.588450-3-kirankumark@marvell.com> Content-Type: text/plain X-BeenThere: test-report@dpdk.org X-Mailman-Version: 2.1.29 Precedence: list List-Id: automatic DPDK test reports List-Unsubscribe: , List-Archive: List-Post: List-Help: List-Subscribe: , Errors-To: test-report-bounces@dpdk.org Test-Label: iol-abi-testing Test-Status: SUCCESS http://dpdk.org/patch/153239 _Testing PASS_ Submitter: Kiran Kumar Kokkilagadda Date: Monday, May 05 2025 06:24:21 DPDK git baseline: Repo:dpdk Branch: master CommitID:ca1690ebd224f148268285b15b97441ccdbdd07e 153237-153239 --> testing pass Upstream job id: Generic-DPDK-Compile-ABI#125230 Test environment and result as below: +-------------------+----------+ | Environment | abi_test | +===================+==========+ | CentOS Stream 9 | PASS | +-------------------+----------+ | Fedora 40 (Clang) | PASS | +-------------------+----------+ | CentOS Stream 10 | PASS | +-------------------+----------+ | Debian 12 | PASS | +-------------------+----------+ | Fedora 40 | PASS | +-------------------+----------+ | RHEL8 | PASS | +-------------------+----------+ | Ubuntu 22.04 | PASS | +-------------------+----------+ | Fedora 41 (Clang) | PASS | +-------------------+----------+ | Ubuntu 24.04 | PASS | +-------------------+----------+ | Fedora 41 | PASS | +-------------------+----------+ | openSUSE Leap 15 | PASS | +-------------------+----------+ | RHEL9 | PASS | +-------------------+----------+ CentOS Stream 9 Kernel: Depends on container host Compiler: gcc 11.5.0 20240719 (Red Hat 11.5.0-2) Fedora 40 (Clang) Kernel: Depends on container host Compiler: clang 18.1.8 (Fedora 18.1.8-1.fc40) CentOS Stream 10 Kernel: Depends on container host Compiler: gcc 14.2.1 20241104 (Red Hat 14.2.1-6) Debian 12 Kernel: Depends on container host Compiler: gcc (Debian 12.2.0-14) 12.2.0 Fedora 40 Kernel: Depends on container host Compiler: gcc 14.2.1 20240912 (Red Hat 14.2.1-3) RHEL8 Kernel: Depends on container host Compiler: gcc 8.5.0 20210514 (Red Hat 8.5.0-22) Ubuntu 22.04 Kernel: Depends on container host Compiler: gcc (Ubuntu 11.4.0-1ubuntu1~22.04) 11.4.0 Fedora 41 (Clang) Kernel: Depends on container host Compiler: clang 19.1.5 (Fedora 19.1.5-1.fc41) Ubuntu 24.04 Kernel: Depends on container host Compiler: gcc (Ubuntu 13.3.0-6ubuntu2~24.04) 13.3.0 Fedora 41 Kernel: Depends on container host Compiler: gcc 14.2.1 20240912 (Red Hat 14.2.1-3) openSUSE Leap 15 Kernel: Depends on container host Compiler: gcc (SUSE Linux) 7.5.0 RHEL9 Kernel: Depends on container host Compiler: gcc 11.5.0 20240719 (Red Hat 11.5.0-2) To view detailed results, visit: https://lab.dpdk.org/results/dashboard/patchsets/33103/ UNH-IOL DPDK Community Lab To manage your email subscriptions, visit: https://lab.dpdk.org/results/dashboard/preferences/subscriptions/