From mboxrd@z Thu Jan 1 00:00:00 1970 Return-Path: Received: from mails.dpdk.org (mails.dpdk.org [217.70.189.124]) by inbox.dpdk.org (Postfix) with ESMTP id 0AC43466CD for ; Mon, 5 May 2025 17:58:40 +0200 (CEST) Received: from mails.dpdk.org (localhost [127.0.0.1]) by mails.dpdk.org (Postfix) with ESMTP id 02B9A4025D; Mon, 5 May 2025 17:58:40 +0200 (CEST) Received: from mail-qv1-f100.google.com (mail-qv1-f100.google.com [209.85.219.100]) by mails.dpdk.org (Postfix) with ESMTP id 709AB4003C for ; Mon, 5 May 2025 17:58:39 +0200 (CEST) Received: by mail-qv1-f100.google.com with SMTP id 6a1803df08f44-6ecfa716ec1so56249076d6.2 for ; Mon, 05 May 2025 08:58:39 -0700 (PDT) DKIM-Signature: v=1; a=rsa-sha256; c=relaxed/relaxed; d=iol.unh.edu; s=unh-iol; t=1746460719; x=1747065519; darn=dpdk.org; h=references:in-reply-to:cc:to:from:subject:message-id:date:from:to :cc:subject:date:message-id:reply-to; bh=1d8gujvx+F3QFK9pxgXE5WKtzAceIkf0LrmGv55eMfI=; b=WxOgYS3Cf9jqCe7LUDMc2cG34saHfeM3bTldsSYAXMBXfhiTJ9ggTlIT0JRIcPSmT7 ilPeFH8sdYPUUHLaDpg5rCNoFNXN/cNOibYWbW1HdRT6oF1RR7zeg0nqPcM8hb8fD0JH ybypNZgzgunzCBaz7hkKaU0SuHfs90oaCBRoY= X-Google-DKIM-Signature: v=1; a=rsa-sha256; c=relaxed/relaxed; d=1e100.net; s=20230601; t=1746460719; x=1747065519; h=references:in-reply-to:cc:to:from:subject:message-id:date :x-gm-message-state:from:to:cc:subject:date:message-id:reply-to; bh=1d8gujvx+F3QFK9pxgXE5WKtzAceIkf0LrmGv55eMfI=; b=fyXkGrsELaAJMADLtkcHkr4XTtE1k4c4LDHaDVj/1oPGAlxyEOAhHuFVJJocsQWIOS NjDTa45hJY8Z0nizN06VZYZIrZTFD5CksuzXY3tNMOQ7PcRP1ZAiFzKiqXRdHT+Los6Z VXhvjOyQxVoPBspYZkzGbLXHU5dNT2Lyt0J1T84Ndh2cv+8IcwcOf8f1oR1rCKlCyy62 jYhOC5LCjCpbRtthaGgKH/M1r0v5Kt0ZcF7Tenl4XN/sVX2jDePGcamnfTiQeeujL0Tr Gfd0BLpH2DdB2Y7N8lsqt7jZqEmnf0RghRtbffvoJ0BtnDn5ENaYD1t+76++hF4+DUx7 NpOQ== X-Gm-Message-State: AOJu0YzdnEnGMRcAKKfGIEdTFPbX+xmMx/E/TFxD2OBwRPwKRfc/5qhl sOXkhN4+BvAbTNUM/AvpQQVIO8R0rJodPlfJLtvtKWjcdQFwNDI0ZRQaMQu4zXdqNGZ8sAqdN6P IzAziFnV9+xCMIIQWrPAJ8bepTkMMNEE/H30vZd4jVD1yLr74hccG4GSJ X-Gm-Gg: ASbGncv0+bOSyfGVHUmTYDfR5lAN9K8jQFL+tpuObscqwXNwg3DSriDGqJT0K5nMvvG BKbm1VUxbFLUyKM/RCLcDODGQFV9d3y2aiGdPVyq6ycPh+i9CuutyLEw94K0lRqdKP0S/+6hnKN ZZpTr8uCiRst5xynMw/uzjlQWPgOG3QPgU0PU5UQYK7WAalQbhV+m+AQIuNGg6nPmU30d2ATxxB LSLkkmd40e1DYkxSBXCoarXo9rWYDZ4il2KNHymIquJxr68IZAak4Y5ajO2MuyLAkI99ifE9ime j4MwTGzIxaFRwGWmpwaXX+KuFysMhFduVhzx X-Google-Smtp-Source: AGHT+IGlWCQnSmWtClUp7RcdtHnRQlDfQ7NGZdm7gN2aqDeYAeKfa9zjwSGW59I73SMjzPnN/LwiLM4dIkzA X-Received: by 2002:ad4:5aeb:0:b0:6e6:6103:f708 with SMTP id 6a1803df08f44-6f528d1e3demr128144696d6.38.1746460718850; Mon, 05 May 2025 08:58:38 -0700 (PDT) Received: from postal.iol.unh.edu (postal.iol.unh.edu. [2606:4100:3880:1234::84]) by smtp-relay.gmail.com with ESMTPS id 6a1803df08f44-6f50f3cf61csm22071646d6.35.2025.05.05.08.58.38 (version=TLS1_2 cipher=ECDHE-ECDSA-AES128-GCM-SHA256 bits=128/128); Mon, 05 May 2025 08:58:38 -0700 (PDT) X-Relaying-Domain: iol.unh.edu Date: Mon, 05 May 2025 08:58:38 -0700 (PDT) Message-ID: <6818e02e.d40a0220.51aa6.685eSMTPIN_ADDED_MISSING@mx.google.com> Received: from [172.21.0.5] (unknown [172.18.0.240]) by postal.iol.unh.edu (Postfix) with ESMTP id 9BCF16052471; Mon, 5 May 2025 11:58:38 -0400 (EDT) Subject: |SUCCESS| pw153237-153239 [PATCH] [v7,3/3] test/graph: fix graph aut From: dpdklab@iol.unh.edu To: Test Report Cc: dpdk-test-reports@iol.unh.edu In-Reply-To: <20250505062422.588450-3-kirankumark@marvell.com> References: <20250505062422.588450-3-kirankumark@marvell.com> Content-Type: text/plain X-BeenThere: test-report@dpdk.org X-Mailman-Version: 2.1.29 Precedence: list List-Id: automatic DPDK test reports List-Unsubscribe: , List-Archive: List-Post: List-Help: List-Subscribe: , Errors-To: test-report-bounces@dpdk.org Test-Label: iol-abi-testing Test-Status: SUCCESS http://dpdk.org/patch/153239 _Testing PASS_ Submitter: Kiran Kumar Kokkilagadda Date: Monday, May 05 2025 06:24:21 DPDK git baseline: Repo:dpdk Branch: master CommitID:ca1690ebd224f148268285b15b97441ccdbdd07e 153237-153239 --> testing pass Upstream job id: Generic-DPDK-Compile-ABI#125225 Test environment and result as below: +-------------------+----------+ | Environment | abi_test | +===================+==========+ | CentOS Stream 9 | PASS | +-------------------+----------+ | Fedora 40 (Clang) | PASS | +-------------------+----------+ | CentOS Stream 10 | PASS | +-------------------+----------+ | Debian 12 | PASS | +-------------------+----------+ | Fedora 40 | PASS | +-------------------+----------+ | RHEL8 | PASS | +-------------------+----------+ | Ubuntu 22.04 | PASS | +-------------------+----------+ | Fedora 41 (Clang) | PASS | +-------------------+----------+ | Ubuntu 24.04 | PASS | +-------------------+----------+ | Fedora 41 | PASS | +-------------------+----------+ | openSUSE Leap 15 | PASS | +-------------------+----------+ | RHEL9 | PASS | +-------------------+----------+ CentOS Stream 9 Kernel: Depends on container host Compiler: gcc 11.5.0 20240719 (Red Hat 11.5.0-2) Fedora 40 (Clang) Kernel: Depends on container host Compiler: clang 18.1.8 (Fedora 18.1.8-1.fc40) CentOS Stream 10 Kernel: Depends on container host Compiler: gcc 14.2.1 20241104 (Red Hat 14.2.1-6) Debian 12 Kernel: Depends on container host Compiler: gcc (Debian 12.2.0-14) 12.2.0 Fedora 40 Kernel: Depends on container host Compiler: gcc 14.2.1 20240912 (Red Hat 14.2.1-3) RHEL8 Kernel: Depends on container host Compiler: gcc 8.5.0 20210514 (Red Hat 8.5.0-22) Ubuntu 22.04 Kernel: Depends on container host Compiler: gcc (Ubuntu 11.4.0-1ubuntu1~22.04) 11.4.0 Fedora 41 (Clang) Kernel: Depends on container host Compiler: clang 19.1.5 (Fedora 19.1.5-1.fc41) Ubuntu 24.04 Kernel: Depends on container host Compiler: gcc (Ubuntu 13.3.0-6ubuntu2~24.04) 13.3.0 Fedora 41 Kernel: Depends on container host Compiler: gcc 14.2.1 20240912 (Red Hat 14.2.1-3) openSUSE Leap 15 Kernel: Depends on container host Compiler: gcc (SUSE Linux) 7.5.0 RHEL9 Kernel: Depends on container host Compiler: gcc 11.5.0 20240719 (Red Hat 11.5.0-2) To view detailed results, visit: https://lab.dpdk.org/results/dashboard/patchsets/33103/ UNH-IOL DPDK Community Lab To manage your email subscriptions, visit: https://lab.dpdk.org/results/dashboard/preferences/subscriptions/