From mboxrd@z Thu Jan 1 00:00:00 1970 Return-Path: Received: from mails.dpdk.org (mails.dpdk.org [217.70.189.124]) by inbox.dpdk.org (Postfix) with ESMTP id 459AC466CE for ; Mon, 5 May 2025 18:18:59 +0200 (CEST) Received: from mails.dpdk.org (localhost [127.0.0.1]) by mails.dpdk.org (Postfix) with ESMTP id 1C2B14025D; Mon, 5 May 2025 18:18:59 +0200 (CEST) Received: from mail-io1-f98.google.com (mail-io1-f98.google.com [209.85.166.98]) by mails.dpdk.org (Postfix) with ESMTP id D4D5F4003C for ; Mon, 5 May 2025 18:18:57 +0200 (CEST) Received: by mail-io1-f98.google.com with SMTP id ca18e2360f4ac-85e15dc8035so137451639f.0 for ; Mon, 05 May 2025 09:18:57 -0700 (PDT) DKIM-Signature: v=1; a=rsa-sha256; c=relaxed/relaxed; d=iol.unh.edu; s=unh-iol; t=1746461937; x=1747066737; darn=dpdk.org; h=references:in-reply-to:cc:to:from:subject:message-id:date:from:to :cc:subject:date:message-id:reply-to; bh=Kps27HDLT49QwUTbF+s31vvoEcknQe7LM/DifBL0pA4=; b=ClSPojDsD56dQUSePj8M68VrMKjBnrxE3Vve1XpWwhFmpNHSDMkxAEMGoSiJ7gBeHl fGxITIn7sZk6+/pmcY2z6TmdAtNrXZgPs6cutbqsegvvEdtBizUbsOpGZUd8uYCpmykf m2INayZwPxb5sS720dKFZig2OnHGWmXJHgzHw= X-Google-DKIM-Signature: v=1; a=rsa-sha256; c=relaxed/relaxed; d=1e100.net; s=20230601; t=1746461937; x=1747066737; h=references:in-reply-to:cc:to:from:subject:message-id:date :x-gm-message-state:from:to:cc:subject:date:message-id:reply-to; bh=Kps27HDLT49QwUTbF+s31vvoEcknQe7LM/DifBL0pA4=; b=rAj1NQpvjaoOMHioPzfoPyB0sb6pmFbclks9/lllR4rsLgGkhOS0By7db+X6aVzhSS PIelIhiM+9np7BtrS8NeB1Exoi8cwKxdf50vWWeGk0ZZfCj7G16P8cqmGLNvzUQz39wy E/kur20vMsvwtU3Jso9oEMOYmSSqeHfaymEk88vH9vtumkhIaEuDAe7PFhWUqLFewj3B q9JV0s0gp96gz9oarIqOQLmMW/223A3DTwXWYfnGOgfQVB0CCFZ9yu2uj7EKVuRvbaTo x3im/tHPDPVU/pQAbsjdFTDgk5FEarn0mxLU584iqQzAXzKrVT2NC+lcUyguSYaPU1SZ LbbQ== X-Gm-Message-State: AOJu0YzCj9IjBLhs7HQtYLUBoCbyXq03YvSitdbjj++a13GDgD1yDvzz hJQX47OuX+GJxbXxV+m+bdzOePdSfvICSZLjErukC/w9jbSYM8USv7FJOw/6UD5rGKrjO/Cf9sD qGNH7BZxVZmUnpH1ltLedN3SGnh4bbG/YybkLWWer X-Gm-Gg: ASbGnctqi9ZEe22zYg6wp0p8XKDfEjvkWZ74Pc4vtd12T5QpoO8y194c3Khuh9u5s9c eCxLJwJh5C5BqZ7jmbuXu+uFkfQsLzRe1HnqahZq21VY2ktPr/fMHv31dJwyBPKu0RHuc1F8mtz FJZlQL4dWXLYvvzBCd3b+IouS5OOyAGRjLV2fd+fJu5o2ZheJ3q2HusKw7jhO6IU4viN7kY4LUW UyDdW4sB0cdNREAltdR4dDZefBbZ6HQjJSPM1NRY54b99HVGy/Kks88KhohyjqtHhMJ3s+bmA0j SVzxH/7QZ1vhIvzJVlO3xKhs2bQGcUf53WMbzQ2cWyRhoq5Rkl5DqXUKzgU= X-Google-Smtp-Source: AGHT+IFHvtWRFAh8j6zzPpx6j62TvFwz66+oWxSK/Z5thOh5s2cA89OUHLiB2roG5ANvzL7XAtWcxIWiRtm6 X-Received: by 2002:a05:6e02:198e:b0:3d9:6ec2:a0e9 with SMTP id e9e14a558f8ab-3da5b343a0cmr78862545ab.22.1746461936960; Mon, 05 May 2025 09:18:56 -0700 (PDT) Received: from postal.iol.unh.edu (postal.iol.unh.edu. [132.177.123.84]) by smtp-relay.gmail.com with ESMTPS id e9e14a558f8ab-3d975f6d480sm20954065ab.51.2025.05.05.09.18.56 (version=TLS1_2 cipher=ECDHE-ECDSA-AES128-GCM-SHA256 bits=128/128); Mon, 05 May 2025 09:18:56 -0700 (PDT) X-Relaying-Domain: iol.unh.edu Date: Mon, 05 May 2025 09:18:56 -0700 (PDT) Message-ID: <6818e4f0.050a0220.1a21fc.4c97SMTPIN_ADDED_MISSING@mx.google.com> Received: from [172.21.0.6] (unknown [172.18.0.240]) by postal.iol.unh.edu (Postfix) with ESMTP id 8CBCA6052471; Mon, 5 May 2025 12:18:56 -0400 (EDT) Subject: |SUCCESS| pw153237-153239 [PATCH] [v7,3/3] test/graph: fix graph aut From: dpdklab@iol.unh.edu To: Test Report Cc: dpdk-test-reports@iol.unh.edu In-Reply-To: <20250505062422.588450-3-kirankumark@marvell.com> References: <20250505062422.588450-3-kirankumark@marvell.com> Content-Type: text/plain X-BeenThere: test-report@dpdk.org X-Mailman-Version: 2.1.29 Precedence: list List-Id: automatic DPDK test reports List-Unsubscribe: , List-Archive: List-Post: List-Help: List-Subscribe: , Errors-To: test-report-bounces@dpdk.org Test-Label: iol-sample-apps-testing Test-Status: SUCCESS http://dpdk.org/patch/153239 _Testing PASS_ Submitter: Kiran Kumar Kokkilagadda Date: Monday, May 05 2025 06:24:21 DPDK git baseline: Repo:dpdk Branch: master CommitID:ca1690ebd224f148268285b15b97441ccdbdd07e 153237-153239 --> testing pass Upstream job id: ACVP-FIPS-testing#9710 Test environment and result as below: +--------------------+----------------------+----------------------+ | Environment | compressdev_zlib_pmd | dpdk_fips_validation | +====================+======================+======================+ | Ubuntu 22.04 (ARM) | PASS | SKIPPED | +--------------------+----------------------+----------------------+ | Ubuntu 22.04 | PASS | SKIPPED | +--------------------+----------------------+----------------------+ | Ubuntu 20.04 | SKIPPED | PASS | +--------------------+----------------------+----------------------+ Ubuntu 22.04 (ARM) Kernel: 5.15.0-97-generic Compiler: gcc gcc (Ubuntu 11.4.0-1ubuntu1~22.04) 11.4.0 Ubuntu 22.04 Kernel: 5.15.0-100-generic Compiler: gcc gcc (Ubuntu 11.4.0-1ubuntu1~22.04) 11.4.0 Ubuntu 20.04 Kernel: Depends on container host Compiler: gcc (Ubuntu 9.4.0-1ubuntu1~20.04.2) 9.4.0 To view detailed results, visit: https://lab.dpdk.org/results/dashboard/patchsets/33103/ UNH-IOL DPDK Community Lab To manage your email subscriptions, visit: https://lab.dpdk.org/results/dashboard/preferences/subscriptions/