From mboxrd@z Thu Jan 1 00:00:00 1970 Return-Path: Received: from mails.dpdk.org (mails.dpdk.org [217.70.189.124]) by inbox.dpdk.org (Postfix) with ESMTP id 5324B466CE for ; Mon, 5 May 2025 18:20:06 +0200 (CEST) Received: from mails.dpdk.org (localhost [127.0.0.1]) by mails.dpdk.org (Postfix) with ESMTP id 45EC34025D; Mon, 5 May 2025 18:20:06 +0200 (CEST) Received: from mail-ot1-f98.google.com (mail-ot1-f98.google.com [209.85.210.98]) by mails.dpdk.org (Postfix) with ESMTP id B2D604003C for ; Mon, 5 May 2025 18:20:04 +0200 (CEST) Received: by mail-ot1-f98.google.com with SMTP id 46e09a7af769-7306482f958so3024891a34.0 for ; Mon, 05 May 2025 09:20:04 -0700 (PDT) DKIM-Signature: v=1; a=rsa-sha256; c=relaxed/relaxed; d=iol.unh.edu; s=unh-iol; t=1746462004; x=1747066804; darn=dpdk.org; h=references:in-reply-to:cc:to:from:subject:message-id:date:from:to :cc:subject:date:message-id:reply-to; bh=DvmFR8fSpyUmXmQiRut4b/bGXTqDS7ENsxho7833BtQ=; b=WTrA3UEL/xVE+kOi2wkytFlCewyFkM/sAe2J4uP1eEblEXQ5eGuFBy1Otn3NweY/Xe QeHtBEc1oGisUgARuucHfwp3ifrUFTpluJ2B9dUTr7lnO0jscDJY5PCNAeiVn3BWKGfH tcshq7zmqUNONZ/H7DP+B8rU9dU/3UwpDHsYg= X-Google-DKIM-Signature: v=1; a=rsa-sha256; c=relaxed/relaxed; d=1e100.net; s=20230601; t=1746462004; x=1747066804; h=references:in-reply-to:cc:to:from:subject:message-id:date :x-gm-message-state:from:to:cc:subject:date:message-id:reply-to; bh=DvmFR8fSpyUmXmQiRut4b/bGXTqDS7ENsxho7833BtQ=; b=lZMlss5krcud101W/tl7Ryl+AehUxFUh4j5eqr5nVch/kjR0q1e2Vtu5QJro/FyuZ4 /g/yfB2kt0d2KE9BNFUFH+07CbxvtrgHxVd0+kjJr8t/imHYK+9tsyQtXAZezkOkNY/i 2PX9dI7prUNRQBBzk0N6w/70vvvL7SRCTKZ2VhNSjcpSLMPMyPJjrF2XkQrojN+0UvUj xurhDU101drsO68m4SSjB512v51Ivip5khP1LACcHEij+RGEQ6JyqAckabfDm413pp1E IZ1Az90uqIglbY/Jcx4ndwikaQiOU2/gIZsUg13JcTnXIBgEI8q+bdoIe5YN1rok+s9L LfJw== X-Gm-Message-State: AOJu0YzIRSFnKWI0UjOlFMcs0aCTPaGwbISwxXXAqd/VCotaAhMzSd5K vYg2/58LOu6VuV7Ko11B5uQJgVpzkswi9gxl16Z4br7glNVwx4jl0NY5xau81SbLrHkfkk76Rx1 /sKXFL7hoT2f57SKTQszbZQa7aam64PIVhvqZfwwq X-Gm-Gg: ASbGnctd4jgu5PqcClkIvDXl85EcxIKBR5DNhodnxAjfU3BDnbX3GK+FwtHcVlwHgEW hf5dKzeRv7mjg7QbfCvhdxbUq8V20YDDARNujGR3l57GTytvOEB3vtABWuqxg1D75lje0zTp1j8 k1IG1a9GznEecEZCjKSw+QxGZaBei4E0Cj1tvIj9hsBCfxLT4yCsTK3TIFM2ddylgDTSULW71S7 q0ewG/3o3bvyJB9nNs6GcWKrR3MOaYBBlvDKKN6tyrWjJTBuO/W+hVqhYZIdpaAO2IMnB9h6s3y IkFOqkKB8r/t8N/GOzD18X0UWFaquy3TbvbEAFQ4QSnizk9iuHVl2jE/rJE= X-Google-Smtp-Source: AGHT+IEc5I//C8a5dH+OOWTSpNdgRhtAGVU3IU2jmNFvObd99vtT2AK1EKlKsIQidqCBOlCl8DPxzptYu7oR X-Received: by 2002:a05:6870:818c:b0:2d5:ba2d:80df with SMTP id 586e51a60fabf-2db38b53249mr17659fac.8.1746462003838; Mon, 05 May 2025 09:20:03 -0700 (PDT) Received: from postal.iol.unh.edu (postal.iol.unh.edu. [132.177.123.84]) by smtp-relay.gmail.com with ESMTPS id 586e51a60fabf-2daa12054bbsm2129933fac.34.2025.05.05.09.20.03 (version=TLS1_2 cipher=ECDHE-ECDSA-AES128-GCM-SHA256 bits=128/128); Mon, 05 May 2025 09:20:03 -0700 (PDT) X-Relaying-Domain: iol.unh.edu Date: Mon, 05 May 2025 09:20:03 -0700 (PDT) Message-ID: <6818e533.050a0220.277a97.579aSMTPIN_ADDED_MISSING@mx.google.com> Received: from [172.21.0.7] (unknown [172.18.0.240]) by postal.iol.unh.edu (Postfix) with ESMTP id 4BC6D6052471; Mon, 5 May 2025 12:20:03 -0400 (EDT) Subject: |SUCCESS| pw153240-153254 [PATCH] [v2,26/26] net/ntnic: fix operatio From: dpdklab@iol.unh.edu To: Test Report Cc: dpdk-test-reports@iol.unh.edu In-Reply-To: <20250505071309.586015-27-okl-plv@napatech.com> References: <20250505071309.586015-27-okl-plv@napatech.com> Content-Type: text/plain X-BeenThere: test-report@dpdk.org X-Mailman-Version: 2.1.29 Precedence: list List-Id: automatic DPDK test reports List-Unsubscribe: , List-Archive: List-Post: List-Help: List-Subscribe: , Errors-To: test-report-bounces@dpdk.org Test-Label: iol-compile-arm64-testing Test-Status: SUCCESS http://dpdk.org/patch/153254 _Testing PASS_ Submitter: Oleksandr Kolomeiets Date: Monday, May 05 2025 07:13:06 DPDK git baseline: Repo:dpdk Branch: master CommitID:ff05ee3e3f8fb4ce958a2ce6461e8141aea959c6 153240-153254 --> testing pass Upstream job id: Generic-DPDK-Compile-Meson#385002 Test environment and result as below: +----------------------------------------+--------------------+ | Environment | dpdk_meson_compile | +========================================+====================+ | RHEL9 (ARM) | PASS | +----------------------------------------+--------------------+ | Debian 12 with MUSDK | PASS | +----------------------------------------+--------------------+ | Debian 12 (arm) | PASS | +----------------------------------------+--------------------+ | Fedora 40 (ARM) | PASS | +----------------------------------------+--------------------+ | Fedora 41 (ARM) | PASS | +----------------------------------------+--------------------+ | Ubuntu 20.04 ARM GCC Cross Compile | PASS | +----------------------------------------+--------------------+ | Fedora 40 (ARM Clang) | PASS | +----------------------------------------+--------------------+ | Ubuntu 20.04 ARM SVE | PASS | +----------------------------------------+--------------------+ | Ubuntu 20.04 (ARM) | PASS | +----------------------------------------+--------------------+ | Ubuntu 22.04 (ARM) | PASS | +----------------------------------------+--------------------+ | CentOS Stream 10 (ARM) | PASS | +----------------------------------------+--------------------+ | Fedora 41 (ARM Clang) | PASS | +----------------------------------------+--------------------+ | CentOS Stream 9 (ARM) | PASS | +----------------------------------------+--------------------+ | Ubuntu 20.04 ARM Clang Cross Compile | PASS | +----------------------------------------+--------------------+ | Ubuntu 20.04 aarch32 GCC Cross Compile | PASS | +----------------------------------------+--------------------+ | Ubuntu 24.04 (ARM) | PASS | +----------------------------------------+--------------------+ RHEL9 (ARM) Kernel: Depends on container host Compiler: gcc 11.5.0 20240719 (Red Hat 11.5.0-2) Debian 12 with MUSDK Kernel: Depends on container host Compiler: gcc (Debian 12.2.0-14) 12.2.0 Debian 12 (arm) Kernel: Depends on container host Compiler: gcc (Debian 12.2.0-14) 12.2.0 Fedora 40 (ARM) Kernel: Depends on container host Compiler: gcc 14.2.1 20240912 (Red Hat 14.2.1-3) Fedora 41 (ARM) Kernel: Depends on container host Compiler: gcc 14.2.1 20240912 (Red Hat 14.2.1-3) Ubuntu 20.04 ARM GCC Cross Compile Kernel: Depends on container host Compiler: aarch64-linux-gnu-gcc (Ubuntu 9.4.0-1ubuntu1~20.04.2) 9.4.0 Fedora 40 (ARM Clang) Kernel: Depends on container host Compiler: clang 18.1.8 (Fedora 18.1.8-1.fc40) Ubuntu 20.04 ARM SVE Kernel: Depends on container host Compiler: gcc (Ubuntu 10.5.0-1ubuntu1~20.04) 10.5.0 Ubuntu 20.04 (ARM) Kernel: Depends on container host Compiler: gcc (Ubuntu 9.4.0-1ubuntu1~20.04.2) 9.4.0 Ubuntu 22.04 (ARM) Kernel: Depends on container host Compiler: gcc (Ubuntu 11.4.0-1ubuntu1~22.04) 11.4.0 CentOS Stream 10 (ARM) Kernel: Depends on container host Compiler: gcc 14.2.1 20241104 (Red Hat 14.2.1-6) Fedora 41 (ARM Clang) Kernel: Depends on container host Compiler: clang 19.1.5 (Fedora 19.1.5-1.fc41) CentOS Stream 9 (ARM) Kernel: Depends on container host Compiler: gcc 11.5.0 20240719 (Red Hat 11.5.0-2) Ubuntu 20.04 ARM Clang Cross Compile Kernel: Depends on container host Compiler: clang 10.0.0-4ubuntu1 Ubuntu 20.04 aarch32 GCC Cross Compile Kernel: Depends on container host Compiler: gcc 9.4.0 Ubuntu 24.04 (ARM) Kernel: Depends on container host Compiler: gcc (Ubuntu 13.3.0-6ubuntu2~24.04) 13.3.0 To view detailed results, visit: https://lab.dpdk.org/results/dashboard/patchsets/33104/ UNH-IOL DPDK Community Lab To manage your email subscriptions, visit: https://lab.dpdk.org/results/dashboard/preferences/subscriptions/