From: dpdklab@iol.unh.edu
To: Test Report <test-report@dpdk.org>
Cc: dpdk-test-reports@iol.unh.edu
Subject: |PENDING| pw153294 [PATCH] [1/1] net/nbl add doc and minimun nbl bui
Date: Mon, 05 May 2025 09:30:44 -0700 (PDT) [thread overview]
Message-ID: <6818e7b4.050a0220.c87e0.54cdSMTPIN_ADDED_MISSING@mx.google.com> (raw)
In-Reply-To: <20250424114919.10349-1-kyo.liu@nebula-matrix.com>
Test-Label: iol-compile-arm64-testing
Test-Status: PENDING
http://dpdk.org/patch/153294
_Testing pending_
Submitter: Kyo Liu <kyo.liu@nebula-matrix.com>
Date: Thursday, April 24 2025 11:49:19
DPDK git baseline: Repo:dpdk
Branch: master
CommitID:ff05ee3e3f8fb4ce958a2ce6461e8141aea959c6
153294 --> testing pending
Upstream job id: Generic-DPDK-Compile-Meson#385084
Test environment and result as below:
+------------------------------------+--------------------+
| Environment | dpdk_meson_compile |
+====================================+====================+
| RHEL9 (ARM) | PEND |
+------------------------------------+--------------------+
| Ubuntu 20.04 ARM GCC Cross Compile | PEND |
+------------------------------------+--------------------+
| Ubuntu 20.04 ARM SVE | PASS |
+------------------------------------+--------------------+
| Debian 12 with MUSDK | PEND |
+------------------------------------+--------------------+
| Fedora 40 (ARM) | PEND |
+------------------------------------+--------------------+
| Fedora 40 (ARM Clang) | PEND |
+------------------------------------+--------------------+
| Fedora 41 (ARM) | PEND |
+------------------------------------+--------------------+
| Fedora 41 (ARM Clang) | PEND |
+------------------------------------+--------------------+
| Ubuntu 20.04 (ARM) | PEND |
+------------------------------------+--------------------+
| Ubuntu 22.04 (ARM) | PEND |
+------------------------------------+--------------------+
| Ubuntu 24.04 (ARM) | PEND |
+------------------------------------+--------------------+
| CentOS Stream 9 (ARM) | PEND |
+------------------------------------+--------------------+
| CentOS Stream 10 (ARM) | PEND |
+------------------------------------+--------------------+
| Debian 12 (arm) | PEND |
+------------------------------------+--------------------+
RHEL9 (ARM)
Kernel: Depends on container host
Compiler: gcc 11.5.0 20240719 (Red Hat 11.5.0-2)
Ubuntu 20.04 ARM GCC Cross Compile
Kernel: Depends on container host
Compiler: aarch64-linux-gnu-gcc (Ubuntu 9.4.0-1ubuntu1~20.04.2) 9.4.0
Ubuntu 20.04 ARM SVE
Kernel: Depends on container host
Compiler: gcc (Ubuntu 10.5.0-1ubuntu1~20.04) 10.5.0
Debian 12 with MUSDK
Kernel: Depends on container host
Compiler: gcc (Debian 12.2.0-14) 12.2.0
Fedora 40 (ARM)
Kernel: Depends on container host
Compiler: gcc 14.2.1 20240912 (Red Hat 14.2.1-3)
Fedora 40 (ARM Clang)
Kernel: Depends on container host
Compiler: clang 18.1.8 (Fedora 18.1.8-1.fc40)
Fedora 41 (ARM)
Kernel: Depends on container host
Compiler: gcc 14.2.1 20240912 (Red Hat 14.2.1-3)
Fedora 41 (ARM Clang)
Kernel: Depends on container host
Compiler: clang 19.1.5 (Fedora 19.1.5-1.fc41)
Ubuntu 20.04 (ARM)
Kernel: Depends on container host
Compiler: gcc (Ubuntu 9.4.0-1ubuntu1~20.04.2) 9.4.0
Ubuntu 22.04 (ARM)
Kernel: Depends on container host
Compiler: gcc (Ubuntu 11.4.0-1ubuntu1~22.04) 11.4.0
Ubuntu 24.04 (ARM)
Kernel: Depends on container host
Compiler: gcc (Ubuntu 13.3.0-6ubuntu2~24.04) 13.3.0
CentOS Stream 9 (ARM)
Kernel: Depends on container host
Compiler: gcc 11.5.0 20240719 (Red Hat 11.5.0-2)
CentOS Stream 10 (ARM)
Kernel: Depends on container host
Compiler: gcc 14.2.1 20241104 (Red Hat 14.2.1-6)
Debian 12 (arm)
Kernel: Depends on container host
Compiler: gcc (Debian 12.2.0-14) 12.2.0
To view detailed results, visit:
https://lab.dpdk.org/results/dashboard/patchsets/33107/
UNH-IOL DPDK Community Lab
To manage your email subscriptions, visit:
https://lab.dpdk.org/results/dashboard/preferences/subscriptions/
next prev parent reply other threads:[~2025-05-05 16:30 UTC|newest]
Thread overview: 41+ messages / expand[flat|nested] mbox.gz Atom feed top
[not found] <20250424114919.10349-1-kyo.liu@nebula-matrix.com>
2025-05-05 12:26 ` |SUCCESS| pw153294 [PATCH 1/1] net/nbl add doc and minimun nbl build framework qemudev
2025-05-05 12:31 ` qemudev
2025-05-05 13:00 ` |WARNING| " checkpatch
2025-05-05 15:30 ` |SUCCESS| pw153294 [PATCH] [1/1] net/nbl add doc and minimun nbl bui dpdklab
2025-05-05 15:32 ` dpdklab
2025-05-05 15:34 ` dpdklab
2025-05-05 15:36 ` dpdklab
2025-05-05 15:42 ` dpdklab
2025-05-05 15:56 ` dpdklab
2025-05-05 15:58 ` dpdklab
2025-05-05 15:59 ` dpdklab
2025-05-05 16:07 ` dpdklab
2025-05-05 16:19 ` |PENDING| " dpdklab
2025-05-05 16:21 ` |SUCCESS| " dpdklab
2025-05-05 16:30 ` dpdklab [this message]
2025-05-05 16:32 ` dpdklab
2025-05-05 16:33 ` dpdklab
2025-05-05 16:34 ` |PENDING| " dpdklab
2025-05-05 16:36 ` |SUCCESS| " dpdklab
2025-05-05 16:43 ` dpdklab
2025-05-05 17:04 ` |PENDING| " dpdklab
2025-05-05 17:15 ` |SUCCESS| " dpdklab
2025-05-05 17:18 ` dpdklab
2025-05-05 17:20 ` dpdklab
2025-05-05 17:28 ` dpdklab
2025-05-05 17:37 ` |PENDING| " dpdklab
2025-05-05 17:52 ` |SUCCESS| " dpdklab
2025-05-05 17:53 ` |WARNING| " dpdklab
2025-05-05 18:06 ` |PENDING| " dpdklab
2025-05-05 18:15 ` |SUCCESS| " dpdklab
2025-05-05 18:15 ` |WARNING| " dpdklab
2025-05-05 18:16 ` |SUCCESS| " dpdklab
2025-05-05 18:29 ` dpdklab
2025-05-05 18:56 ` dpdklab
2025-05-05 19:03 ` |WARNING| " dpdklab
2025-05-05 19:06 ` |SUCCESS| " dpdklab
2025-05-05 19:23 ` dpdklab
2025-05-05 19:32 ` dpdklab
2025-05-05 19:56 ` dpdklab
2025-05-05 20:05 ` dpdklab
2025-05-05 20:28 ` dpdklab
Reply instructions:
You may reply publicly to this message via plain-text email
using any one of the following methods:
* Save the following mbox file, import it into your mail client,
and reply-to-all from there: mbox
Avoid top-posting and favor interleaved quoting:
https://en.wikipedia.org/wiki/Posting_style#Interleaved_style
* Reply using the --to, --cc, and --in-reply-to
switches of git-send-email(1):
git send-email \
--in-reply-to=6818e7b4.050a0220.c87e0.54cdSMTPIN_ADDED_MISSING@mx.google.com \
--to=dpdklab@iol.unh.edu \
--cc=dpdk-test-reports@iol.unh.edu \
--cc=test-report@dpdk.org \
/path/to/YOUR_REPLY
https://kernel.org/pub/software/scm/git/docs/git-send-email.html
* If your mail client supports setting the In-Reply-To header
via mailto: links, try the mailto: link
Be sure your reply has a Subject: header at the top and a blank line
before the message body.
This is a public inbox, see mirroring instructions
for how to clone and mirror all data and code used for this inbox;
as well as URLs for NNTP newsgroup(s).