From mboxrd@z Thu Jan 1 00:00:00 1970 Return-Path: Received: from mails.dpdk.org (mails.dpdk.org [217.70.189.124]) by inbox.dpdk.org (Postfix) with ESMTP id 92C56466CE for ; Mon, 5 May 2025 18:38:20 +0200 (CEST) Received: from mails.dpdk.org (localhost [127.0.0.1]) by mails.dpdk.org (Postfix) with ESMTP id 74B624025D; Mon, 5 May 2025 18:38:20 +0200 (CEST) Received: from mail-qv1-f99.google.com (mail-qv1-f99.google.com [209.85.219.99]) by mails.dpdk.org (Postfix) with ESMTP id 546634003C for ; Mon, 5 May 2025 18:38:19 +0200 (CEST) Received: by mail-qv1-f99.google.com with SMTP id 6a1803df08f44-6ecfc2cb1aaso54973986d6.3 for ; Mon, 05 May 2025 09:38:19 -0700 (PDT) DKIM-Signature: v=1; a=rsa-sha256; c=relaxed/relaxed; d=iol.unh.edu; s=unh-iol; t=1746463098; x=1747067898; darn=dpdk.org; h=references:in-reply-to:cc:to:from:subject:message-id:date:from:to :cc:subject:date:message-id:reply-to; bh=c+GrkCFvnAGkdf5xDO1w0Zr1OMLlaWzbuQ+Ew4vcmAo=; b=OAIeb3z9I3niHPdlq8offYBDaqNSQCheam44ZrffBwB8LNOmvZ2b655izflBMr4x6p nldL0edBld1CG8/Kt4g9EiamrqnjMOcl8a2T+7W72m1weIfdeJNcUDaFQq6qxHhje4u2 7gl5Xw3Lc0/gcnAwTMWpqO3RenXuUfqQZkZtE= X-Google-DKIM-Signature: v=1; a=rsa-sha256; c=relaxed/relaxed; d=1e100.net; s=20230601; t=1746463098; x=1747067898; h=references:in-reply-to:cc:to:from:subject:message-id:date :x-gm-message-state:from:to:cc:subject:date:message-id:reply-to; bh=c+GrkCFvnAGkdf5xDO1w0Zr1OMLlaWzbuQ+Ew4vcmAo=; b=vfbed9xW3hq6sVm6hXHfcH8g/cPvXwV+nA4qVRpExkJxldjnVKk7rwddK14lGPHruo EGtNjdmye5Z88YLPtVMIdDxFlHk26794fATWz/Qk37ep0HXNjP+GHOqSwA8OV+goT+08 SQZWGhu//QbACQmOyiPsXzYiNAaKXPlbdIq66EtJ5PnMjWVPX7M7eO6Z8FVByP/V4APa BbDuJZo5qUdyx7LcKXLBCq3bn0FILi4nntFymhrvMtukKodPC34W/LiMtiKw7UWKVcyx ecS8CmDm0cYsS9TAiN550APk2J2+oR/tHS/Y7Ta2gKRsFiHtwoKf+eRts51dZ3Jj5p/Z X2sQ== X-Gm-Message-State: AOJu0YwnN9gjIRnMbidsaSRNjQ+BlgZp1HNfNFRan9RPobMK+qgLvTUI bz27SanX0ieMmKESophNGQND2H3bGpKURGPMg8qRlT0x4J0d9ewxJgCqKZwZwk1IF+x1/X5IIG8 F13tBFBPuZt9yZ0OpMXO/DlCPPhV4Iy5YqUaz+QG0 X-Gm-Gg: ASbGncvezOhMBr6Pc8J8Fj6qfpMiTekkwXv7Muju04mTVGyOtrS4B1ESBTxkxiaNtFp N3CR+Yoxhh7wFA7GuE2dJHIqPjbmc3G75nPuASouAHDxuTWQGjriSLxo9046Prbf30ZMTCJimfY S3APXU8ixUjnX19NoJFH67YnB4syrNuFcfO4xYgr4WaC4jFfScwZyzIyRFj/lmfd7J0aJqtMq2K cCa+2B0CAhCOG66zf1nx/E/+3xzEjrnPiLglHgcZnIP79mIitHspA3HPkV3ENzeEcAIcAoCLfyf TbuOdDdvOZrp0Kp7BCh9iMewNK4Mb1NCKFTTySQH0shZlHqfX9ICLyZg5h0= X-Google-Smtp-Source: AGHT+IEUxa20eLyyviPV5enLhW+Gw9dZmBb9PKGQdJ5WB8C72nFXiM5uVMeaGo7pke7COcTqkEmdduQLfvDg X-Received: by 2002:ad4:5aeb:0:b0:6f4:f621:bc with SMTP id 6a1803df08f44-6f528d1ec6dmr116252856d6.33.1746463098510; Mon, 05 May 2025 09:38:18 -0700 (PDT) Received: from postal.iol.unh.edu (postal.iol.unh.edu. [132.177.123.84]) by smtp-relay.gmail.com with ESMTPS id 6a1803df08f44-6f50f3bf3fcsm22163366d6.22.2025.05.05.09.38.18 (version=TLS1_2 cipher=ECDHE-ECDSA-AES128-GCM-SHA256 bits=128/128); Mon, 05 May 2025 09:38:18 -0700 (PDT) X-Relaying-Domain: iol.unh.edu Date: Mon, 05 May 2025 09:38:18 -0700 (PDT) Message-ID: <6818e97a.050a0220.7ad64.5cc8SMTPIN_ADDED_MISSING@mx.google.com> Received: from [172.21.0.5] (unknown [172.18.0.240]) by postal.iol.unh.edu (Postfix) with ESMTP id 317E06052471; Mon, 5 May 2025 12:38:18 -0400 (EDT) Subject: |SUCCESS| pw153232-153233 [PATCH] [v6,2/2] drivers: add support for From: dpdklab@iol.unh.edu To: Test Report Cc: dpdk-test-reports@iol.unh.edu In-Reply-To: <20250505055717.3697335-2-kirankumark@marvell.com> References: <20250505055717.3697335-2-kirankumark@marvell.com> Content-Type: text/plain X-BeenThere: test-report@dpdk.org X-Mailman-Version: 2.1.29 Precedence: list List-Id: automatic DPDK test reports List-Unsubscribe: , List-Archive: List-Post: List-Help: List-Subscribe: , Errors-To: test-report-bounces@dpdk.org Test-Label: iol-unit-arm64-testing Test-Status: SUCCESS http://dpdk.org/patch/153233 _Testing PASS_ Submitter: Kiran Kumar Kokkilagadda Date: Monday, May 05 2025 05:57:16 DPDK git baseline: Repo:dpdk Branch: master CommitID:ca1690ebd224f148268285b15b97441ccdbdd07e 153232-153233 --> testing pass Upstream job id: Generic-Unit-Test-DPDK#335303 Test environment and result as below: +-----------------------------+--------------+---------------------------+------------------------------+----------------+ | Environment | lpm_autotest | cryptodev_sw_zuc_autotest | cryptodev_sw_snow3g_autotest | dpdk_unit_test | +=============================+==============+===========================+==============================+================+ | Ubuntu 20.04 ARM SVE | PASS | SKIPPED | SKIPPED | SKIPPED | +-----------------------------+--------------+---------------------------+------------------------------+----------------+ | Debian 12 (arm) | SKIPPED | PASS | PASS | PASS | +-----------------------------+--------------+---------------------------+------------------------------+----------------+ | CentOS Stream 10 (ARM) | SKIPPED | SKIPPED | SKIPPED | PASS | +-----------------------------+--------------+---------------------------+------------------------------+----------------+ | CentOS Stream 9 (ARM) | SKIPPED | SKIPPED | SKIPPED | PASS | +-----------------------------+--------------+---------------------------+------------------------------+----------------+ | Fedora 40 (ARM Clang) | SKIPPED | SKIPPED | SKIPPED | PASS | +-----------------------------+--------------+---------------------------+------------------------------+----------------+ | Fedora 40 (ARM) | SKIPPED | SKIPPED | SKIPPED | PASS | +-----------------------------+--------------+---------------------------+------------------------------+----------------+ | Fedora 41 (ARM) | SKIPPED | SKIPPED | SKIPPED | PASS | +-----------------------------+--------------+---------------------------+------------------------------+----------------+ | Ubuntu 24.04 (ARM) | SKIPPED | SKIPPED | SKIPPED | PASS | +-----------------------------+--------------+---------------------------+------------------------------+----------------+ | RHEL9 (ARM) | SKIPPED | SKIPPED | SKIPPED | PASS | +-----------------------------+--------------+---------------------------+------------------------------+----------------+ | Ubuntu 20.04 (ARM) | SKIPPED | SKIPPED | SKIPPED | PASS | +-----------------------------+--------------+---------------------------+------------------------------+----------------+ | Fedora 41 (ARM Clang) | SKIPPED | SKIPPED | SKIPPED | PASS | +-----------------------------+--------------+---------------------------+------------------------------+----------------+ | Ubuntu 22.04 (ARM) | SKIPPED | SKIPPED | SKIPPED | PASS | +-----------------------------+--------------+---------------------------+------------------------------+----------------+ | 32-bit Ubuntu 22.04.4 (ARM) | SKIPPED | SKIPPED | SKIPPED | PASS | +-----------------------------+--------------+---------------------------+------------------------------+----------------+ Ubuntu 20.04 ARM SVE Kernel: Depends on container host Compiler: gcc (Ubuntu 10.5.0-1ubuntu1~20.04) 10.5.0 Debian 12 (arm) Kernel: Depends on container host Compiler: gcc (Debian 12.2.0-14) 12.2.0 CentOS Stream 10 (ARM) Kernel: Depends on container host Compiler: gcc 14.2.1 20241104 (Red Hat 14.2.1-6) CentOS Stream 9 (ARM) Kernel: Depends on container host Compiler: gcc 11.5.0 20240719 (Red Hat 11.5.0-2) Fedora 40 (ARM Clang) Kernel: Depends on container host Compiler: clang 18.1.8 (Fedora 18.1.8-1.fc40) Fedora 40 (ARM) Kernel: Depends on container host Compiler: gcc 14.2.1 20240912 (Red Hat 14.2.1-3) Fedora 41 (ARM) Kernel: Depends on container host Compiler: gcc 14.2.1 20240912 (Red Hat 14.2.1-3) Ubuntu 24.04 (ARM) Kernel: Depends on container host Compiler: gcc (Ubuntu 13.3.0-6ubuntu2~24.04) 13.3.0 RHEL9 (ARM) Kernel: Depends on container host Compiler: gcc 11.5.0 20240719 (Red Hat 11.5.0-2) Ubuntu 20.04 (ARM) Kernel: Depends on container host Compiler: gcc (Ubuntu 9.4.0-1ubuntu1~20.04.2) 9.4.0 Fedora 41 (ARM Clang) Kernel: Depends on container host Compiler: clang 19.1.5 (Fedora 19.1.5-1.fc41) Ubuntu 22.04 (ARM) Kernel: Depends on container host Compiler: gcc (Ubuntu 11.4.0-1ubuntu1~22.04) 11.4.0 32-bit Ubuntu 22.04.4 (ARM) Kernel: 5.15.83+ aarch64 Compiler: gcc (Ubuntu 11.4.0-1ubuntu1~22.04) 11.4.0 To view detailed results, visit: https://lab.dpdk.org/results/dashboard/patchsets/33101/ UNH-IOL DPDK Community Lab To manage your email subscriptions, visit: https://lab.dpdk.org/results/dashboard/preferences/subscriptions/