From mboxrd@z Thu Jan 1 00:00:00 1970 Return-Path: Received: from mails.dpdk.org (mails.dpdk.org [217.70.189.124]) by inbox.dpdk.org (Postfix) with ESMTP id A823B466CE for ; Mon, 5 May 2025 19:11:49 +0200 (CEST) Received: from mails.dpdk.org (localhost [127.0.0.1]) by mails.dpdk.org (Postfix) with ESMTP id 9FBAD4025D; Mon, 5 May 2025 19:11:49 +0200 (CEST) Received: from mail-yb1-f225.google.com (mail-yb1-f225.google.com [209.85.219.225]) by mails.dpdk.org (Postfix) with ESMTP id B91CE4003C for ; Mon, 5 May 2025 19:11:48 +0200 (CEST) Received: by mail-yb1-f225.google.com with SMTP id 3f1490d57ef6-e7387d4a336so3800025276.2 for ; Mon, 05 May 2025 10:11:48 -0700 (PDT) DKIM-Signature: v=1; a=rsa-sha256; c=relaxed/relaxed; d=iol.unh.edu; s=unh-iol; t=1746465108; x=1747069908; darn=dpdk.org; h=references:in-reply-to:cc:to:from:subject:message-id:date:from:to :cc:subject:date:message-id:reply-to; bh=NGvUFZ3TjL0LFvvXTrNlW84KqJR572L+XbEYEoo38wM=; b=ESJjrs/8f15u0f3DAnq/0LqyIETeZwXEWEbUknfUvGejyAS+U1FHDN/gLgo+TaGW6c 93WRAmhU4o+dF8Io1LWCKugedzHfwS4WTRxexYGOqkbadarQoNtjdpo8uEIYQARSrD5f 2iWRchjvDnvoGl4Z64OYFMzzUDYv4AIIdU3Og= X-Google-DKIM-Signature: v=1; a=rsa-sha256; c=relaxed/relaxed; d=1e100.net; s=20230601; t=1746465108; x=1747069908; h=references:in-reply-to:cc:to:from:subject:message-id:date :x-gm-message-state:from:to:cc:subject:date:message-id:reply-to; bh=NGvUFZ3TjL0LFvvXTrNlW84KqJR572L+XbEYEoo38wM=; b=Z1IOpVNGQgZa9BaD8Ps2BehRts/9dALNQ6/16OcNkUV/w+swY5AGEWm1ERtYuhj4Rq DIq47iN09QFDUxFkPm3KPZaDZuWmSvnDtVr/pZvZ2UGE7bb3uV1wRG9n5Mw+9oncSGy+ gFAT2mCryDYg6H0qN9O0tsiVJLHdp44FS1cxURJGdlpUqceJYZq/WAjTnsBZB+MTn9v6 R7acszwweGTpV6LyyqZSRfT6HnatkkSR+KO6DukXlcNOR9NZw4YjCr67ypivYuD5FJz5 oR0rpIsviDyixITVKMUw8ucdlozDmlQg3M9OS2b9Q4oJTVfEBhrYgpJLcz3iIsF1reJv WGzQ== X-Gm-Message-State: AOJu0Yw5i2+ZmiNk4GP9g6X/QUaUu54QvH2USVJWKgtHbufEbe8snvbO BM77KkJDLdHc6vWxuGn9cwY2TEaMfxQlIIX3YdYzhkOF8/uDEOj8NvAytHsfaUQ2lRZEWgW+K1x izsZinBcyOEQ/00toxRXX1U8ZKCRpudrZArJSAGpZdtv128T3LoR1ZsrJ X-Gm-Gg: ASbGncufEprGEarD7Fdridf7ZQWMRObfPYNIUTflzUNsgzCXUn3cVPHo6JKuRDUdnnb QM5crwFV9SouGsSU59gXCAfsF2CzKKE+Bfg9Iicm1/jfrqu0x3aPtebvD3Op+ajvOPBnt4glZE9 LBMnuS+Vka7cK2AR2m3cqr4qApf5pcwwt29BgR21LOuu9BrLqM+dMwxf31i9UUtGY2ZjwBIAWga abZvd8HzDcvPMhqe5+gQd0mf/h5y4QmBxWF+7HLhFMaPBIZDrxWMCiuLeZ7fM/j7OJkV68mvKvo Q91zhNG4/hTiAanWiBwRf8qJ7cDWki9NcXa7 X-Google-Smtp-Source: AGHT+IE9ZZZFGgOssuSNanPaefYmdT09l54oojWgAiti8PIoxfhwlktF710HbtyN3+/e6SsFGOejxGk8COOO X-Received: by 2002:a05:6902:1709:b0:e74:2b67:51b3 with SMTP id 3f1490d57ef6-e757d2f8344mr10309486276.29.1746465108096; Mon, 05 May 2025 10:11:48 -0700 (PDT) Received: from postal.iol.unh.edu (postal.iol.unh.edu. [2606:4100:3880:1234::84]) by smtp-relay.gmail.com with ESMTPS id 3f1490d57ef6-e7587d4c354sm981752276.30.2025.05.05.10.11.48 (version=TLS1_2 cipher=ECDHE-ECDSA-AES128-GCM-SHA256 bits=128/128); Mon, 05 May 2025 10:11:48 -0700 (PDT) X-Relaying-Domain: iol.unh.edu Date: Mon, 05 May 2025 10:11:48 -0700 (PDT) Message-ID: <6818f154.250a0220.26ecd1.bb05SMTPIN_ADDED_MISSING@mx.google.com> Received: from [172.21.0.5] (unknown [172.18.0.240]) by postal.iol.unh.edu (Postfix) with ESMTP id B94AA6052471; Mon, 5 May 2025 13:11:47 -0400 (EDT) Subject: |SUCCESS| pw153237-153239 [PATCH] [v7,3/3] test/graph: fix graph aut From: dpdklab@iol.unh.edu To: Test Report Cc: dpdk-test-reports@iol.unh.edu In-Reply-To: <20250505062422.588450-3-kirankumark@marvell.com> References: <20250505062422.588450-3-kirankumark@marvell.com> Content-Type: text/plain X-BeenThere: test-report@dpdk.org X-Mailman-Version: 2.1.29 Precedence: list List-Id: automatic DPDK test reports List-Unsubscribe: , List-Archive: List-Post: List-Help: List-Subscribe: , Errors-To: test-report-bounces@dpdk.org Test-Label: iol-compile-arm64-testing Test-Status: SUCCESS http://dpdk.org/patch/153239 _Testing PASS_ Submitter: Kiran Kumar Kokkilagadda Date: Monday, May 05 2025 06:24:21 DPDK git baseline: Repo:dpdk Branch: master CommitID:ca1690ebd224f148268285b15b97441ccdbdd07e 153237-153239 --> testing pass Upstream job id: Generic-DPDK-Compile-Meson#385021 Test environment and result as below: +----------------------------------------+--------------------+ | Environment | dpdk_meson_compile | +========================================+====================+ | RHEL9 (ARM) | PASS | +----------------------------------------+--------------------+ | Ubuntu 20.04 ARM GCC Cross Compile | PASS | +----------------------------------------+--------------------+ | Ubuntu 20.04 ARM SVE | PASS | +----------------------------------------+--------------------+ | Debian 12 with MUSDK | PASS | +----------------------------------------+--------------------+ | Fedora 41 (ARM) | PASS | +----------------------------------------+--------------------+ | Fedora 40 (ARM) | PASS | +----------------------------------------+--------------------+ | Fedora 40 (ARM Clang) | PASS | +----------------------------------------+--------------------+ | Ubuntu 24.04 (ARM) | PASS | +----------------------------------------+--------------------+ | Ubuntu 20.04 ARM Clang Cross Compile | PASS | +----------------------------------------+--------------------+ | Ubuntu 22.04 (ARM) | PASS | +----------------------------------------+--------------------+ | Ubuntu 20.04 (ARM) | PASS | +----------------------------------------+--------------------+ | CentOS Stream 9 (ARM) | PASS | +----------------------------------------+--------------------+ | CentOS Stream 10 (ARM) | PASS | +----------------------------------------+--------------------+ | Debian 12 (arm) | PASS | +----------------------------------------+--------------------+ | Ubuntu 20.04 aarch32 GCC Cross Compile | PASS | +----------------------------------------+--------------------+ | Fedora 41 (ARM Clang) | PASS | +----------------------------------------+--------------------+ RHEL9 (ARM) Kernel: Depends on container host Compiler: gcc 11.5.0 20240719 (Red Hat 11.5.0-2) Ubuntu 20.04 ARM GCC Cross Compile Kernel: Depends on container host Compiler: aarch64-linux-gnu-gcc (Ubuntu 9.4.0-1ubuntu1~20.04.2) 9.4.0 Ubuntu 20.04 ARM SVE Kernel: Depends on container host Compiler: gcc (Ubuntu 10.5.0-1ubuntu1~20.04) 10.5.0 Debian 12 with MUSDK Kernel: Depends on container host Compiler: gcc (Debian 12.2.0-14) 12.2.0 Fedora 41 (ARM) Kernel: Depends on container host Compiler: gcc 14.2.1 20240912 (Red Hat 14.2.1-3) Fedora 40 (ARM) Kernel: Depends on container host Compiler: gcc 14.2.1 20240912 (Red Hat 14.2.1-3) Fedora 40 (ARM Clang) Kernel: Depends on container host Compiler: clang 18.1.8 (Fedora 18.1.8-1.fc40) Ubuntu 24.04 (ARM) Kernel: Depends on container host Compiler: gcc (Ubuntu 13.3.0-6ubuntu2~24.04) 13.3.0 Ubuntu 20.04 ARM Clang Cross Compile Kernel: Depends on container host Compiler: clang 10.0.0-4ubuntu1 Ubuntu 22.04 (ARM) Kernel: Depends on container host Compiler: gcc (Ubuntu 11.4.0-1ubuntu1~22.04) 11.4.0 Ubuntu 20.04 (ARM) Kernel: Depends on container host Compiler: gcc (Ubuntu 9.4.0-1ubuntu1~20.04.2) 9.4.0 CentOS Stream 9 (ARM) Kernel: Depends on container host Compiler: gcc 11.5.0 20240719 (Red Hat 11.5.0-2) CentOS Stream 10 (ARM) Kernel: Depends on container host Compiler: gcc 14.2.1 20241104 (Red Hat 14.2.1-6) Debian 12 (arm) Kernel: Depends on container host Compiler: gcc (Debian 12.2.0-14) 12.2.0 Ubuntu 20.04 aarch32 GCC Cross Compile Kernel: Depends on container host Compiler: gcc 9.4.0 Fedora 41 (ARM Clang) Kernel: Depends on container host Compiler: clang 19.1.5 (Fedora 19.1.5-1.fc41) To view detailed results, visit: https://lab.dpdk.org/results/dashboard/patchsets/33103/ UNH-IOL DPDK Community Lab To manage your email subscriptions, visit: https://lab.dpdk.org/results/dashboard/preferences/subscriptions/