From mboxrd@z Thu Jan 1 00:00:00 1970 Return-Path: Received: from mails.dpdk.org (mails.dpdk.org [217.70.189.124]) by inbox.dpdk.org (Postfix) with ESMTP id 9C8A7466CE for ; Mon, 5 May 2025 19:20:08 +0200 (CEST) Received: from mails.dpdk.org (localhost [127.0.0.1]) by mails.dpdk.org (Postfix) with ESMTP id 8F4094025D; Mon, 5 May 2025 19:20:08 +0200 (CEST) Received: from mail-qk1-f228.google.com (mail-qk1-f228.google.com [209.85.222.228]) by mails.dpdk.org (Postfix) with ESMTP id 0110E4003C for ; Mon, 5 May 2025 19:20:06 +0200 (CEST) Received: by mail-qk1-f228.google.com with SMTP id af79cd13be357-7c560c55bc1so559121785a.1 for ; Mon, 05 May 2025 10:20:06 -0700 (PDT) DKIM-Signature: v=1; a=rsa-sha256; c=relaxed/relaxed; d=iol.unh.edu; s=unh-iol; t=1746465606; x=1747070406; darn=dpdk.org; h=references:in-reply-to:cc:to:from:subject:message-id:date:from:to :cc:subject:date:message-id:reply-to; bh=22IjnGErkpO2bMJ3O3d6mq1KkDqAF029pDEdnOkw9PE=; b=M6NFE6cfMx5xh276QOgWtkgkNiHGPRgASq9dt3JMfxDl3DkRwwLvQf6erLduagnXsT y2Scz6KZVelRcLPe+soOcpDEoa9GdLPSOP4CpHlSQjqu0TZdffmvxWCYR2XALHDQwp0g 4q7dOQOyCN0eF1UxMm3dhvfRNbC0KSUhfYRO8= X-Google-DKIM-Signature: v=1; a=rsa-sha256; c=relaxed/relaxed; d=1e100.net; s=20230601; t=1746465606; x=1747070406; h=references:in-reply-to:cc:to:from:subject:message-id:date :x-gm-message-state:from:to:cc:subject:date:message-id:reply-to; bh=22IjnGErkpO2bMJ3O3d6mq1KkDqAF029pDEdnOkw9PE=; b=glJuHnSqOXzltgAlfZtNNSs5tDYAe1jTsvB7PgZKJXi0mw5CqUgBJdimcERGf58RUL /l8xPttIUqm/B9MEQLdMdZDumY7QcRLwjO3YgUyPq2Zj27aNaqR8GUOznQ9o/0OzpYQx pPO8k4AALJBfFf6y6RVhZlzNnzZLu0XzTHvKvzlDHoei3LQ+FjO4e8TEZirl4t+qphxz oW5gBZuxMIhPaz3v2MvrCYzHCnLN8pUGK4CcXy3chr9Mq1chClwSV8+iZE3t38mGvOHV gvIq+42bB0Noc8YwfFHT7zLNQ0LUdMZ5ILde7A2VYVvOuxlB55DWNEg4VwKuAP105Jfq ctXg== X-Gm-Message-State: AOJu0Yy2lh2SPibXkw0GepcKrOdHnF38w4j1AGd0P22PbRMFt3yTEPNI AeNNx2hlc4NRVo4STquftDOmBSaeBRfjjw0ei5X+sN6zeppYsElVSjrzpw1yZmXddNda5l7WlCT drjUYXGDYeTRhxBKznl5tbadSSBKh+Ieg0zELhTJUNJAxK5TXbP+BTIAs X-Gm-Gg: ASbGncugxqm70Pfe8sV3pI+EFIamRZo4f4fnigu9gEAZ9fPHaHg62xKMls+sWlyG04A b3pNzaAAg8q5iG8xWnkac+mvQZPJKycbcAvojbQLLGC7UPWqN5djJS4bEhgWQ03EiBksZkZgjYL /t6hm+buHJPyJs/qCQA2G8yHMEZuDfLPHvBTK1w70iRwyV/9a7PE+BeGZrgN/CrEQYrl98D5zL+ 3eMsTvLkXVpLxemnmsjEUkSodOBj0e5J3S1ArrzAi6wAVf4P0/QEt8jZ9H/clXK+crHcyYCKwfV 1TWkRMxvE0WuxRHacBOx1iEmNLFdXY6DJ1ns X-Google-Smtp-Source: AGHT+IFsbFloI+pE4kl1K6jJ5NNzLuuDd4xCVZv309jhIS9b8v2HdInVB6Wtya2qmu4ryVUh08YtgNXmhGTL X-Received: by 2002:ad4:5d63:0:b0:6e6:6c7f:1116 with SMTP id 6a1803df08f44-6f51578445fmr186446676d6.24.1746465606252; Mon, 05 May 2025 10:20:06 -0700 (PDT) Received: from postal.iol.unh.edu (postal.iol.unh.edu. [2606:4100:3880:1234::84]) by smtp-relay.gmail.com with ESMTPS id 6a1803df08f44-6f50f3acec3sm22672156d6.2.2025.05.05.10.20.06 (version=TLS1_2 cipher=ECDHE-ECDSA-AES128-GCM-SHA256 bits=128/128); Mon, 05 May 2025 10:20:06 -0700 (PDT) X-Relaying-Domain: iol.unh.edu Date: Mon, 05 May 2025 10:20:06 -0700 (PDT) Message-ID: <6818f346.d40a0220.12b649.845cSMTPIN_ADDED_MISSING@mx.google.com> Received: from [172.21.0.8] (unknown [172.18.0.240]) by postal.iol.unh.edu (Postfix) with ESMTP id ED8A86052471; Mon, 5 May 2025 13:20:05 -0400 (EDT) Subject: |SUCCESS| pw153232-153233 [PATCH] [v6,2/2] drivers: add support for From: dpdklab@iol.unh.edu To: Test Report Cc: dpdk-test-reports@iol.unh.edu In-Reply-To: <20250505055717.3697335-2-kirankumark@marvell.com> References: <20250505055717.3697335-2-kirankumark@marvell.com> Content-Type: text/plain X-BeenThere: test-report@dpdk.org X-Mailman-Version: 2.1.29 Precedence: list List-Id: automatic DPDK test reports List-Unsubscribe: , List-Archive: List-Post: List-Help: List-Subscribe: , Errors-To: test-report-bounces@dpdk.org Test-Label: iol-unit-amd64-testing Test-Status: SUCCESS http://dpdk.org/patch/153233 _Testing PASS_ Submitter: Kiran Kumar Kokkilagadda Date: Monday, May 05 2025 05:57:16 DPDK git baseline: Repo:dpdk Branch: master CommitID:ca1690ebd224f148268285b15b97441ccdbdd07e 153232-153233 --> testing pass Upstream job id: Generic-VM-Unit-Test-DPDK#28321 Test environment and result as below: +---------------------+----------------+ | Environment | dpdk_unit_test | +=====================+================+ | CentOS Stream 9 | PASS | +---------------------+----------------+ | Fedora 40 | PASS | +---------------------+----------------+ | CentOS Stream 10 | PASS | +---------------------+----------------+ | Debian 12 | PASS | +---------------------+----------------+ | Fedora 40 (Clang) | PASS | +---------------------+----------------+ | RHEL8 | PASS | +---------------------+----------------+ | Fedora 41 | PASS | +---------------------+----------------+ | Fedora 41 (Clang) | PASS | +---------------------+----------------+ | Ubuntu 20.04 | PASS | +---------------------+----------------+ | Ubuntu 22.04 | PASS | +---------------------+----------------+ | Ubuntu 24.04 | PASS | +---------------------+----------------+ | RHEL9 | PASS | +---------------------+----------------+ | Windows Server 2022 | PASS | +---------------------+----------------+ CentOS Stream 9 Kernel: Depends on container host Compiler: gcc 11.5.0 20240719 (Red Hat 11.5.0-2) Fedora 40 Kernel: Depends on container host Compiler: gcc 14.2.1 20240912 (Red Hat 14.2.1-3) CentOS Stream 10 Kernel: Depends on container host Compiler: gcc 14.2.1 20241104 (Red Hat 14.2.1-6) Debian 12 Kernel: Depends on container host Compiler: gcc (Debian 12.2.0-14) 12.2.0 Fedora 40 (Clang) Kernel: Depends on container host Compiler: clang 18.1.8 (Fedora 18.1.8-1.fc40) RHEL8 Kernel: Depends on container host Compiler: gcc 8.5.0 20210514 (Red Hat 8.5.0-22) Fedora 41 Kernel: Depends on container host Compiler: gcc 14.2.1 20240912 (Red Hat 14.2.1-3) Fedora 41 (Clang) Kernel: Depends on container host Compiler: clang 19.1.5 (Fedora 19.1.5-1.fc41) Ubuntu 20.04 Kernel: Depends on container host Compiler: gcc (Ubuntu 9.4.0-1ubuntu1~20.04.2) 9.4.0 Ubuntu 22.04 Kernel: Depends on container host Compiler: gcc (Ubuntu 11.4.0-1ubuntu1~22.04) 11.4.0 Ubuntu 24.04 Kernel: Depends on container host Compiler: gcc (Ubuntu 13.3.0-6ubuntu2~24.04) 13.3.0 RHEL9 Kernel: Depends on container host Compiler: gcc 11.5.0 20240719 (Red Hat 11.5.0-2) Windows Server 2022 Kernel: 10.0.20348.2031 Compiler: clang 15.0.7, gcc 14.1.0 (MinGW), and MSVC VS 19.39.33521 To view detailed results, visit: https://lab.dpdk.org/results/dashboard/patchsets/33101/ UNH-IOL DPDK Community Lab To manage your email subscriptions, visit: https://lab.dpdk.org/results/dashboard/preferences/subscriptions/