automatic DPDK test reports
 help / color / mirror / Atom feed
From: dpdklab@iol.unh.edu
To: Test Report <test-report@dpdk.org>
Cc: dpdk-test-reports@iol.unh.edu
Subject: |SUCCESS| pw153299 [PATCH] net/mlx5: declare size of rte_v128u32_t
Date: Mon, 05 May 2025 10:30:17 -0700 (PDT)	[thread overview]
Message-ID: <6818f5a9.050a0220.3d56c9.5681SMTPIN_ADDED_MISSING@mx.google.com> (raw)
In-Reply-To: <1746457823-11135-1-git-send-email-andremue@linux.microsoft.com>

Test-Label: iol-compile-amd64-testing
Test-Status: SUCCESS
http://dpdk.org/patch/153299

_Testing PASS_

Submitter: Andre Muezerie <andremue@linux.microsoft.com>
Date: Monday, May 05 2025 15:10:23 
DPDK git baseline: Repo:dpdk
  Branch: master
  CommitID:edd3f4b1265e6da707c46ca9b6c39d332647baea

153299 --> testing pass

Upstream job id: Generic-VM-DPDK-Compile-Meson#35135

Test environment and result as below:

+---------------------+--------------------+-------------------+
|     Environment     | dpdk_meson_compile | dpdk_msvc_compile |
+=====================+====================+===================+
| Ubuntu 20.04        | PASS               | SKIPPED           |
+---------------------+--------------------+-------------------+
| FreeBSD 13.5        | PASS               | SKIPPED           |
+---------------------+--------------------+-------------------+
| FreeBSD 14.2        | PASS               | SKIPPED           |
+---------------------+--------------------+-------------------+
| Windows Server 2022 | SKIPPED            | PASS              |
+---------------------+--------------------+-------------------+


Ubuntu 20.04
	Kernel: 4.19.325-0419325-generic
	Compiler: gcc (Ubuntu 9.4.0-1ubuntu1~20.04.2) 9.4.0

FreeBSD 13.5
	Kernel: 13.5-RELEASE
	Compiler: clang 19.1.7

FreeBSD 14.2
	Kernel: 14.2-RELEASE
	Compiler: clang 18.1.6

Windows Server 2022
	Kernel: 10.0.20348.2031
	Compiler: clang 15.0.7, gcc 14.1.0 (MinGW), and MSVC VS 19.39.33521

To view detailed results, visit:
https://lab.dpdk.org/results/dashboard/patchsets/33112/

UNH-IOL DPDK Community Lab

To manage your email subscriptions, visit: 
https://lab.dpdk.org/results/dashboard/preferences/subscriptions/

  parent reply	other threads:[~2025-05-05 17:30 UTC|newest]

Thread overview: 26+ messages / expand[flat|nested]  mbox.gz  Atom feed  top
     [not found] <1746457823-11135-1-git-send-email-andremue@linux.microsoft.com>
2025-05-05 14:40 ` qemudev
2025-05-05 14:45 ` qemudev
2025-05-05 15:11 ` checkpatch
2025-05-05 16:04 ` 0-day Robot
2025-05-05 16:54 ` dpdklab
2025-05-05 17:01 ` dpdklab
2025-05-05 17:05 ` dpdklab
2025-05-05 17:05 ` dpdklab
2025-05-05 17:12 ` dpdklab
2025-05-05 17:20 ` dpdklab
2025-05-05 17:26 ` dpdklab
2025-05-05 17:30 ` dpdklab [this message]
2025-05-05 17:30 ` dpdklab
2025-05-05 17:31 ` dpdklab
2025-05-05 17:36 ` |PENDING| " dpdklab
2025-05-05 17:48 ` dpdklab
2025-05-05 17:55 ` |SUCCESS| " dpdklab
2025-05-05 18:09 ` dpdklab
2025-05-05 18:20 ` dpdklab
2025-05-05 19:23 ` |PENDING| " dpdklab
2025-05-05 19:30 ` dpdklab
2025-05-05 20:06 ` |SUCCESS| " dpdklab
2025-05-05 20:11 ` dpdklab
2025-05-05 20:30 ` dpdklab
2025-05-05 20:55 ` dpdklab
2025-05-05 22:30 ` dpdklab

Reply instructions:

You may reply publicly to this message via plain-text email
using any one of the following methods:

* Save the following mbox file, import it into your mail client,
  and reply-to-all from there: mbox

  Avoid top-posting and favor interleaved quoting:
  https://en.wikipedia.org/wiki/Posting_style#Interleaved_style

* Reply using the --to, --cc, and --in-reply-to
  switches of git-send-email(1):

  git send-email \
    --in-reply-to=6818f5a9.050a0220.3d56c9.5681SMTPIN_ADDED_MISSING@mx.google.com \
    --to=dpdklab@iol.unh.edu \
    --cc=dpdk-test-reports@iol.unh.edu \
    --cc=test-report@dpdk.org \
    /path/to/YOUR_REPLY

  https://kernel.org/pub/software/scm/git/docs/git-send-email.html

* If your mail client supports setting the In-Reply-To header
  via mailto: links, try the mailto: link
Be sure your reply has a Subject: header at the top and a blank line before the message body.
This is a public inbox, see mirroring instructions
for how to clone and mirror all data and code used for this inbox;
as well as URLs for NNTP newsgroup(s).