From mboxrd@z Thu Jan 1 00:00:00 1970 Return-Path: Received: from mails.dpdk.org (mails.dpdk.org [217.70.189.124]) by inbox.dpdk.org (Postfix) with ESMTP id 0B25E466CE for ; Mon, 5 May 2025 19:30:19 +0200 (CEST) Received: from mails.dpdk.org (localhost [127.0.0.1]) by mails.dpdk.org (Postfix) with ESMTP id 05B7B4025D; Mon, 5 May 2025 19:30:19 +0200 (CEST) Received: from mail-io1-f97.google.com (mail-io1-f97.google.com [209.85.166.97]) by mails.dpdk.org (Postfix) with ESMTP id B34E34003C for ; Mon, 5 May 2025 19:30:17 +0200 (CEST) Received: by mail-io1-f97.google.com with SMTP id ca18e2360f4ac-86142446f3fso123786639f.2 for ; Mon, 05 May 2025 10:30:17 -0700 (PDT) DKIM-Signature: v=1; a=rsa-sha256; c=relaxed/relaxed; d=iol.unh.edu; s=unh-iol; t=1746466217; x=1747071017; darn=dpdk.org; h=references:in-reply-to:cc:to:from:subject:message-id:date:from:to :cc:subject:date:message-id:reply-to; bh=4WMYOhCZw8tArtUMiHW4nvGdSVtGcDQPEresaHfWLg4=; b=gdl/KMzBgQ5g+5J1rE0tDAJaaGPaNla5f2vwewQ/x+1Qc0+rPSgNc1kZVh7kynSpFq MyJe6+Xe90wZeedfaJlefTRm/oZNGWXfGId7oMUIFunnRZ1vIYRTRgwKOheuzzLVuZRY Jwa0lBaMN+lSlo0FJ3yRYMwmJ5xa/arpFx8pM= X-Google-DKIM-Signature: v=1; a=rsa-sha256; c=relaxed/relaxed; d=1e100.net; s=20230601; t=1746466217; x=1747071017; h=references:in-reply-to:cc:to:from:subject:message-id:date :x-gm-message-state:from:to:cc:subject:date:message-id:reply-to; bh=4WMYOhCZw8tArtUMiHW4nvGdSVtGcDQPEresaHfWLg4=; b=xUJjDjp4lEtlR4CvC2kOboFrqhaiq2PZ2O0bfnu1PSttYg4N/wZBOx7xGaIFDds0OM bb927icQ3doIsTpYaigcX4B3X0Tr05jHR363dOpSiaFOBxVPVtl6C6TWVaS08Vo/NBIX waL77aLNW+as38I98cM+HSpy2SiH2A1M5FOyt55C5/ySEAFxk3lZQ0fcDBznK+VWTPx8 DMs+4GamOOibmx3J934D3UmArUHS56l4hKGgUxRurF3PKrfN0VhwhHDuxGH1s2BVbTHC 9NeOrsyx50QSu3Ccyp8Sc+MCQzrPyq97GWhhQesH4o4/k2qSTtLnIPLUI3OpKNwVfPNG T+wA== X-Gm-Message-State: AOJu0YyOMNCw79xDrYpIMMjOd49I5NVNcZPdqFcaOaemg2RQEAGGAekL xO/ujjJ8ossMGBnQkLDPueqm7Tu00ezFF3gOQXM6KUXQxTgGlj40tT6ttpb937bYt5rt5eBgg1i 2bjxKTO7tVVCiijW6b0uzj3c7baQxeSQSLMmlJYiTTiToheHaOTkpGrm4 X-Gm-Gg: ASbGnct7RTLAIe+8V3Lh/HGiLCzLuE9CknZsiXbinfdkmGaPyzN/RPODe9esPcCIWAS EH9bHM1oavV/FolzcFHeBuJp5hi+K+hhggv8VHA3pTx71052Ueyp/oHSMyGApJ6bFW3ii0REB3g 2ICBNO5FF77LY7vXyxvUQ5QLaIg4xH4goAuXKB1uL/oOxnqZuqLwfKA6hZTu8+7JcPuqaBHoeGN SOMsTRjVi1WQB+RDXizF91+qQbW+5E0GG8oQfgRe/thWfFkll4xIQv7bqYyeI8v2OnMoXa4fYuI 5EN0F2UUIYqJ4+dyufNiKAxzOwWOsBieqkuO X-Google-Smtp-Source: AGHT+IEv5dR56qORuho7Ebc1Jx7xvJXV4HU86mEndurYMDdf1rvlFoQkkjxbDin7ExD4ir3yyfkz62OTEd7x X-Received: by 2002:a05:6602:2dd4:b0:861:7237:9021 with SMTP id ca18e2360f4ac-86713aad19bmr965086739f.3.1746466217026; Mon, 05 May 2025 10:30:17 -0700 (PDT) Received: from postal.iol.unh.edu (postal.iol.unh.edu. [2606:4100:3880:1234::84]) by smtp-relay.gmail.com with ESMTPS id 8926c6da1cb9f-4f88a8cd6f6sm2050635173.6.2025.05.05.10.30.16 (version=TLS1_2 cipher=ECDHE-ECDSA-AES128-GCM-SHA256 bits=128/128); Mon, 05 May 2025 10:30:17 -0700 (PDT) X-Relaying-Domain: iol.unh.edu Date: Mon, 05 May 2025 10:30:17 -0700 (PDT) Message-ID: <6818f5a9.050a0220.3d56c9.5681SMTPIN_ADDED_MISSING@mx.google.com> Received: from [172.21.0.10] (unknown [172.18.0.240]) by postal.iol.unh.edu (Postfix) with ESMTP id 8DA9F6052471; Mon, 5 May 2025 13:30:16 -0400 (EDT) Subject: |SUCCESS| pw153299 [PATCH] net/mlx5: declare size of rte_v128u32_t From: dpdklab@iol.unh.edu To: Test Report Cc: dpdk-test-reports@iol.unh.edu In-Reply-To: <1746457823-11135-1-git-send-email-andremue@linux.microsoft.com> References: <1746457823-11135-1-git-send-email-andremue@linux.microsoft.com> Content-Type: text/plain X-BeenThere: test-report@dpdk.org X-Mailman-Version: 2.1.29 Precedence: list List-Id: automatic DPDK test reports List-Unsubscribe: , List-Archive: List-Post: List-Help: List-Subscribe: , Errors-To: test-report-bounces@dpdk.org Test-Label: iol-compile-amd64-testing Test-Status: SUCCESS http://dpdk.org/patch/153299 _Testing PASS_ Submitter: Andre Muezerie Date: Monday, May 05 2025 15:10:23 DPDK git baseline: Repo:dpdk Branch: master CommitID:edd3f4b1265e6da707c46ca9b6c39d332647baea 153299 --> testing pass Upstream job id: Generic-VM-DPDK-Compile-Meson#35135 Test environment and result as below: +---------------------+--------------------+-------------------+ | Environment | dpdk_meson_compile | dpdk_msvc_compile | +=====================+====================+===================+ | Ubuntu 20.04 | PASS | SKIPPED | +---------------------+--------------------+-------------------+ | FreeBSD 13.5 | PASS | SKIPPED | +---------------------+--------------------+-------------------+ | FreeBSD 14.2 | PASS | SKIPPED | +---------------------+--------------------+-------------------+ | Windows Server 2022 | SKIPPED | PASS | +---------------------+--------------------+-------------------+ Ubuntu 20.04 Kernel: 4.19.325-0419325-generic Compiler: gcc (Ubuntu 9.4.0-1ubuntu1~20.04.2) 9.4.0 FreeBSD 13.5 Kernel: 13.5-RELEASE Compiler: clang 19.1.7 FreeBSD 14.2 Kernel: 14.2-RELEASE Compiler: clang 18.1.6 Windows Server 2022 Kernel: 10.0.20348.2031 Compiler: clang 15.0.7, gcc 14.1.0 (MinGW), and MSVC VS 19.39.33521 To view detailed results, visit: https://lab.dpdk.org/results/dashboard/patchsets/33112/ UNH-IOL DPDK Community Lab To manage your email subscriptions, visit: https://lab.dpdk.org/results/dashboard/preferences/subscriptions/