From mboxrd@z Thu Jan 1 00:00:00 1970 Return-Path: Received: from mails.dpdk.org (mails.dpdk.org [217.70.189.124]) by inbox.dpdk.org (Postfix) with ESMTP id 1FE7B466CE for ; Mon, 5 May 2025 19:30:50 +0200 (CEST) Received: from mails.dpdk.org (localhost [127.0.0.1]) by mails.dpdk.org (Postfix) with ESMTP id 1AAF44025D; Mon, 5 May 2025 19:30:50 +0200 (CEST) Received: from mail-pf1-f226.google.com (mail-pf1-f226.google.com [209.85.210.226]) by mails.dpdk.org (Postfix) with ESMTP id AE7E24003C for ; Mon, 5 May 2025 19:30:48 +0200 (CEST) Received: by mail-pf1-f226.google.com with SMTP id d2e1a72fcca58-736c277331eso5258506b3a.1 for ; Mon, 05 May 2025 10:30:48 -0700 (PDT) DKIM-Signature: v=1; a=rsa-sha256; c=relaxed/relaxed; d=iol.unh.edu; s=unh-iol; t=1746466248; x=1747071048; darn=dpdk.org; h=references:in-reply-to:cc:to:from:subject:message-id:date:from:to :cc:subject:date:message-id:reply-to; bh=KYCxDXmOdvtW8bHC0X+z9TsCWGh1sVo9kWK2LBjflwQ=; b=Qiw0Tbiqoc9k+9jgO+thu19hQftMQOPfF8ph3ONnXaq3eScPl1IBn/eNB5Tdy9ezjY emIdBVIf89vgVD6e69+RdF2f10Inoh8Sc6A/YhugeZObPp0DHXPWVB5xPCGhILW02+a8 AEhq8UI7hUJDXZ7ZUjQYnZkKmjgOTJnlcrf+k= X-Google-DKIM-Signature: v=1; a=rsa-sha256; c=relaxed/relaxed; d=1e100.net; s=20230601; t=1746466248; x=1747071048; h=references:in-reply-to:cc:to:from:subject:message-id:date :x-gm-message-state:from:to:cc:subject:date:message-id:reply-to; bh=KYCxDXmOdvtW8bHC0X+z9TsCWGh1sVo9kWK2LBjflwQ=; b=ZDGxs6ZNo9LIAe46ByVH2CFvmYLV5ZvMzmUWvRyc7gV0Lel10M8/ANljrHIAbyspVR nKqmW5vCEwypqn3Aay6y8BbSyJyiVbRFTVr/o8iRKipetXJ33Uvyovu7PPDso3+7t0o/ uxx1NBLqVLa6lYfrXxGOk9lR3ArsdF3GLkGWi5C8VqncCGU11pBEujkFWsrXAFrNZDuM RT7LUbyRBG68Jw6gZ0YaOD8QW82S9GM5uJF2lCj6n2l+qbM97OBJvkNFegNr3aKdlhhv ilAZJnEJK9B4pxwH/Pz+FqL7gitzXsVMR771LI/BXD5K8WiF+ZdPHh8+1tH3bVoL86+Z rUAg== X-Gm-Message-State: AOJu0YwuETlcsloKSR9M5geZMIBHJEAfVOqq7mzcVAOSjfKceRqWxno0 f40JPLMTaupsPtMH1GHTrAxdMt8Dlfo7H91Fowh49XAkgbmwecqdGa/lyDaWluWn7FKrnR03S+l rAZXqRt+NqHLGwGXclSf+nvrap+aVzS/oiyatKCxpnCeeCWfzCLXZNYbh X-Gm-Gg: ASbGncs7y6gfrqiIailSgFgwTlSVel5z27t/JFG7/34hk1XgUGm0YlewuHhlJPInRlI aCc8O6qpdynuPK9qapIVYfj3X8gmdsU6pX8jWuUYtzi+J9Z+pJ50BOJ1ERwRbeLw4TMxRGhIypz r7V0Rgf1svYnJ8NUo0geZS6a3hzG3Bkf6BnqojsrX6NNUnIwEOozUmWaCDFOJ2XUHoZzRK03x01 yESLpA8Q8vOs4GSWV6sLrHZAywWC+h6VR/5ssJ2HMcTJcltG6nx6cihkoh3a6Nfij10fYOpEEdH GAsdxXG7YO9FaMLxaxMxO//EEkunJU30oXww X-Google-Smtp-Source: AGHT+IHZAAvTLgl+3Qi7veV74NxY0QDU5MHSi/wPOuLHGZxc+zFIDrtHMcFOHWQPcR65Y6VeEuZWrw7CivQ0 X-Received: by 2002:a05:6a21:9104:b0:1ee:ba29:d8fa with SMTP id adf61e73a8af0-2116f3434b1mr482027637.6.1746466247733; Mon, 05 May 2025 10:30:47 -0700 (PDT) Received: from postal.iol.unh.edu (postal.iol.unh.edu. [2606:4100:3880:1234::84]) by smtp-relay.gmail.com with ESMTPS id 41be03b00d2f7-b1fb3b96fe1sm1323259a12.15.2025.05.05.10.30.47 (version=TLS1_2 cipher=ECDHE-ECDSA-AES128-GCM-SHA256 bits=128/128); Mon, 05 May 2025 10:30:47 -0700 (PDT) X-Relaying-Domain: iol.unh.edu Date: Mon, 05 May 2025 10:30:47 -0700 (PDT) Message-ID: <6818f5c7.630a0220.26d2d9.3beeSMTPIN_ADDED_MISSING@mx.google.com> Received: from [172.21.0.6] (unknown [172.18.0.240]) by postal.iol.unh.edu (Postfix) with ESMTP id EC8D56052471; Mon, 5 May 2025 13:30:46 -0400 (EDT) Subject: |SUCCESS| pw153299 [PATCH] net/mlx5: declare size of rte_v128u32_t From: dpdklab@iol.unh.edu To: Test Report Cc: dpdk-test-reports@iol.unh.edu In-Reply-To: <1746457823-11135-1-git-send-email-andremue@linux.microsoft.com> References: <1746457823-11135-1-git-send-email-andremue@linux.microsoft.com> Content-Type: text/plain X-BeenThere: test-report@dpdk.org X-Mailman-Version: 2.1.29 Precedence: list List-Id: automatic DPDK test reports List-Unsubscribe: , List-Archive: List-Post: List-Help: List-Subscribe: , Errors-To: test-report-bounces@dpdk.org Test-Label: iol-compile-amd64-testing Test-Status: SUCCESS http://dpdk.org/patch/153299 _Testing PASS_ Submitter: Andre Muezerie Date: Monday, May 05 2025 15:10:23 DPDK git baseline: Repo:dpdk Branch: master CommitID:edd3f4b1265e6da707c46ca9b6c39d332647baea 153299 --> testing pass Upstream job id: Generic-VM-DPDK-Compile-Meson#35133 Test environment and result as below: +---------------------+--------------------+-------------------+ | Environment | dpdk_meson_compile | dpdk_msvc_compile | +=====================+====================+===================+ | Ubuntu 20.04 | PASS | SKIPPED | +---------------------+--------------------+-------------------+ | FreeBSD 13.5 | PASS | SKIPPED | +---------------------+--------------------+-------------------+ | FreeBSD 14.2 | PASS | SKIPPED | +---------------------+--------------------+-------------------+ | Windows Server 2022 | SKIPPED | PASS | +---------------------+--------------------+-------------------+ Ubuntu 20.04 Kernel: 4.19.325-0419325-generic Compiler: gcc (Ubuntu 9.4.0-1ubuntu1~20.04.2) 9.4.0 FreeBSD 13.5 Kernel: 13.5-RELEASE Compiler: clang 19.1.7 FreeBSD 14.2 Kernel: 14.2-RELEASE Compiler: clang 18.1.6 Windows Server 2022 Kernel: 10.0.20348.2031 Compiler: clang 15.0.7, gcc 14.1.0 (MinGW), and MSVC VS 19.39.33521 To view detailed results, visit: https://lab.dpdk.org/results/dashboard/patchsets/33112/ UNH-IOL DPDK Community Lab To manage your email subscriptions, visit: https://lab.dpdk.org/results/dashboard/preferences/subscriptions/