From mboxrd@z Thu Jan 1 00:00:00 1970 Return-Path: Received: from mails.dpdk.org (mails.dpdk.org [217.70.189.124]) by inbox.dpdk.org (Postfix) with ESMTP id 3FB9C466CE for ; Mon, 5 May 2025 19:31:36 +0200 (CEST) Received: from mails.dpdk.org (localhost [127.0.0.1]) by mails.dpdk.org (Postfix) with ESMTP id 3A1E34025D; Mon, 5 May 2025 19:31:36 +0200 (CEST) Received: from mail-il1-f227.google.com (mail-il1-f227.google.com [209.85.166.227]) by mails.dpdk.org (Postfix) with ESMTP id F378D4003C for ; Mon, 5 May 2025 19:31:34 +0200 (CEST) Received: by mail-il1-f227.google.com with SMTP id e9e14a558f8ab-3d948ce7d9dso16208075ab.2 for ; Mon, 05 May 2025 10:31:34 -0700 (PDT) DKIM-Signature: v=1; a=rsa-sha256; c=relaxed/relaxed; d=iol.unh.edu; s=unh-iol; t=1746466294; x=1747071094; darn=dpdk.org; h=references:in-reply-to:cc:to:from:subject:message-id:date:from:to :cc:subject:date:message-id:reply-to; bh=5nl1CofvkfHnEzjfGmYFk3Czp+ROKUTKCIdMItjnMtc=; b=LJww/rNHHFGIzOECHtOPUmR/+bRYxkiApjKZGxPr6CmJd0qwU6IT21nDk2l6rkKq4b R/KcwVn5d5l+ZXcQE7sOZV42N1+0ga58H5kze38t2xeMwiQDY3LheSf18i2SifEn8ISm neAnHPhHzt604yLskglvF6JnzrlQsgurTLnVM= X-Google-DKIM-Signature: v=1; a=rsa-sha256; c=relaxed/relaxed; d=1e100.net; s=20230601; t=1746466294; x=1747071094; h=references:in-reply-to:cc:to:from:subject:message-id:date :x-gm-message-state:from:to:cc:subject:date:message-id:reply-to; bh=5nl1CofvkfHnEzjfGmYFk3Czp+ROKUTKCIdMItjnMtc=; b=cx+Nk+I62/fQObjAC/yxddY8DPTK8BFHn/Oh0UuzJbaRkAS8vuOUT2lc5PA3TqavVA 6W3UoeIs3pprzxwYVfkGKCHXfIm0zTE6HYU6oHN/gPONDGyAAfsxdganAby/CxGV9JuN o14jUzv4W/fKRAr2m5EZcFj1pLbn2G39hDFZ6LYxbsMXM57QhUNsG/Ptc4UXEuB6Ea8G F18r4ZbsVmnOC06jyRlFJYkccPbfO5rTdMRZiYhUDg12P/NHdDazFB4L63WxSzf/br7/ G05FmcvcIkvdODKR1rzOthqqz87sTWOt7Ni3EZXgqL/ufbneIUEJ1R6mtp8/0Kc9kFOg oEoA== X-Gm-Message-State: AOJu0YwLfxBl54UYSFB4COz+T7i3+9TZm7yjluh4RLFglu/2Xnhonbt3 mTnoaP04MC4DXAIgRUA4aAJ3avx2YK2Ov3nRFFTTEqFdAOvbrMMdT0S0WvkZpWoymphvnLlJYaf 4HIAu6V33rVr9QyjAM5dq2uNzI7U16gfIFfcQTPWu X-Gm-Gg: ASbGnctSBFYq0Z5SJ39/ZTrUZghg+ctkkWgJ/YNeOmosfEm2JIEk2JKKpj7CGSEdguv qaxhjQ6Wn437BWYsFM/jWRyOwGIyVP88S1tOO0nqQwOxvbtOyaORyFeOvPqaDemLRaT0TU/ORlb omUtkW73JzuvszTUwcs2wLnZ0D9N8LKAwICECDVHq0SXSQW+eksT5Ut+TedkZdKIrTFOZU4W338 iSqK+jpAvv9xNZWmD7MaDUulYr972irJNkz1iA+wjkya/oi78fBa4fiV2jzsKFf/QdFPFtpGhOA tg3WkzcDdzUS3OcnKBxbmwXOGjQmwjjWN97aIHZjBs7hVv7Y1HfQNPeCtTQ= X-Google-Smtp-Source: AGHT+IHHihLGogByqz5roms1dYuNf4jwjtceV56BwqbrJJtA9bRdmByY26vjjWiBIIxAdCEJhBONQVKSBmow X-Received: by 2002:a05:6e02:1c2e:b0:3d8:8900:9a30 with SMTP id e9e14a558f8ab-3da5b345840mr88772305ab.20.1746466294339; Mon, 05 May 2025 10:31:34 -0700 (PDT) Received: from postal.iol.unh.edu (postal.iol.unh.edu. [132.177.123.84]) by smtp-relay.gmail.com with ESMTPS id 8926c6da1cb9f-4f88aa620fasm1968916173.57.2025.05.05.10.31.34 (version=TLS1_2 cipher=ECDHE-ECDSA-AES128-GCM-SHA256 bits=128/128); Mon, 05 May 2025 10:31:34 -0700 (PDT) X-Relaying-Domain: iol.unh.edu Date: Mon, 05 May 2025 10:31:34 -0700 (PDT) Message-ID: <6818f5f6.050a0220.1c8596.5467SMTPIN_ADDED_MISSING@mx.google.com> Received: from [172.21.0.5] (unknown [172.18.0.240]) by postal.iol.unh.edu (Postfix) with ESMTP id D1F8B6052471; Mon, 5 May 2025 13:31:33 -0400 (EDT) Subject: |SUCCESS| pw153299 [PATCH] net/mlx5: declare size of rte_v128u32_t From: dpdklab@iol.unh.edu To: Test Report Cc: dpdk-test-reports@iol.unh.edu In-Reply-To: <1746457823-11135-1-git-send-email-andremue@linux.microsoft.com> References: <1746457823-11135-1-git-send-email-andremue@linux.microsoft.com> Content-Type: text/plain X-BeenThere: test-report@dpdk.org X-Mailman-Version: 2.1.29 Precedence: list List-Id: automatic DPDK test reports List-Unsubscribe: , List-Archive: List-Post: List-Help: List-Subscribe: , Errors-To: test-report-bounces@dpdk.org Test-Label: iol-compile-amd64-testing Test-Status: SUCCESS http://dpdk.org/patch/153299 _Testing PASS_ Submitter: Andre Muezerie Date: Monday, May 05 2025 15:10:23 DPDK git baseline: Repo:dpdk Branch: master CommitID:edd3f4b1265e6da707c46ca9b6c39d332647baea 153299 --> testing pass Upstream job id: Windows-Compile-DPDK-VS#5633 Test environment and result as below: +---------------------+--------------------+-------------------+ | Environment | dpdk_meson_compile | dpdk_msvc_compile | +=====================+====================+===================+ | Ubuntu 20.04 | PASS | SKIPPED | +---------------------+--------------------+-------------------+ | FreeBSD 13.5 | PASS | SKIPPED | +---------------------+--------------------+-------------------+ | FreeBSD 14.2 | PASS | SKIPPED | +---------------------+--------------------+-------------------+ | Windows Server 2022 | SKIPPED | PASS | +---------------------+--------------------+-------------------+ Ubuntu 20.04 Kernel: 4.19.325-0419325-generic Compiler: gcc (Ubuntu 9.4.0-1ubuntu1~20.04.2) 9.4.0 FreeBSD 13.5 Kernel: 13.5-RELEASE Compiler: clang 19.1.7 FreeBSD 14.2 Kernel: 14.2-RELEASE Compiler: clang 18.1.6 Windows Server 2022 Kernel: 10.0.20348.2031 Compiler: clang 15.0.7, gcc 14.1.0 (MinGW), and MSVC VS 19.39.33521 To view detailed results, visit: https://lab.dpdk.org/results/dashboard/patchsets/33112/ UNH-IOL DPDK Community Lab To manage your email subscriptions, visit: https://lab.dpdk.org/results/dashboard/preferences/subscriptions/