From mboxrd@z Thu Jan 1 00:00:00 1970 Return-Path: Received: from mails.dpdk.org (mails.dpdk.org [217.70.189.124]) by inbox.dpdk.org (Postfix) with ESMTP id 666F2466CE for ; Mon, 5 May 2025 19:52:17 +0200 (CEST) Received: from mails.dpdk.org (localhost [127.0.0.1]) by mails.dpdk.org (Postfix) with ESMTP id 454EB4025D; Mon, 5 May 2025 19:52:17 +0200 (CEST) Received: from mail-pl1-f228.google.com (mail-pl1-f228.google.com [209.85.214.228]) by mails.dpdk.org (Postfix) with ESMTP id 97C004003C for ; Mon, 5 May 2025 19:52:15 +0200 (CEST) Received: by mail-pl1-f228.google.com with SMTP id d9443c01a7336-22c33e4fdb8so48249055ad.2 for ; Mon, 05 May 2025 10:52:15 -0700 (PDT) DKIM-Signature: v=1; a=rsa-sha256; c=relaxed/relaxed; d=iol.unh.edu; s=unh-iol; t=1746467535; x=1747072335; darn=dpdk.org; h=references:in-reply-to:cc:to:from:subject:message-id:date:from:to :cc:subject:date:message-id:reply-to; bh=ZzH31gQQqgXWdGMcYCaRZxmPQ56T8mOlSdVgV8KIJ5g=; b=Ajf4HrPD1w+8aNJ/6SxaYLSRJhYyDqNhuzJdGBqaamqLrvGcl6NDhlUY+RamYns3dZ 0Uv+N5YbnCP2G3bNdVcH0eBV5bZS2VKORG+3nAQu3MTlDfY6uBCluMpyMAEom9Rx+qAQ ZeocznnQLI7DzDLHI0Pgqk+W12sIDkyLAU4uA= X-Google-DKIM-Signature: v=1; a=rsa-sha256; c=relaxed/relaxed; d=1e100.net; s=20230601; t=1746467535; x=1747072335; h=references:in-reply-to:cc:to:from:subject:message-id:date :x-gm-message-state:from:to:cc:subject:date:message-id:reply-to; bh=ZzH31gQQqgXWdGMcYCaRZxmPQ56T8mOlSdVgV8KIJ5g=; b=RnfiABUj88+OMkGAsm+MgnZnNkmRKi1ObSzrli6Da6dufEIMs/uCOITh8DVwOY4zwB tJcJ0ybxOcvWIvuT42jaREbQJNQ0JShm0x4+cwzE2x57nuHlGrA/mFicOTfQhWmCH3DZ r0Nvbv0vD/d0EEnum4yxmfbSNpinufg7FuaIxZL58j8YcpNSulU8h+HaYUU7bx+5j12y whr7DhOmWnfJLxEw9qFIw2d61Gww2YsMCdNKs8T9A3hOsha7PkfsMibFV1JLkiEuPFyt gDeYsi/H9A5i4NGLwRReFaG64aUbxNV30yFYwbhEsXCu3yU2cjZYfytGlVQK9DC9+uWp /LYQ== X-Gm-Message-State: AOJu0YwToDtZYBKIYzb5GeCzXOEz603vHpvX63yUTEzYkORjNg9KL9cI i0qC3C2j12QcE9+vXQxDqeS1VT9IezO1D1WopT+fbrlqmQiBxtETrEGF+bkzpQJdfLuGLKyzUmr QEkbpOuPCfW0jbxvI23jL9d0hL0zpgTF2XCu/4owsG91zTexXs/WOLl0N X-Gm-Gg: ASbGnctvUm/WPcNVwL+qc+ThE4hgbva6eKivOgxcueCD43RLAPVWKDRlhCvfcBHXnXB VR9DeW2HHso6/zd7JiVypacSlnQgNkkVYlzz0U9ekHrvqqZFMpX8VUbhfsx16lIxh6D+qtEvUUG tEesp21huudjuA66y4C5Ov1FHhrns/LEFzmcS3JfaGzF1eIb/KtmRctuaawQHRaL+ktDedHHpac kusUqlzXxtb+MVDklTGS2Xr3I3NVXJXkmGjmUehiHk1iYtYvoc3615BCOto0ZTuA40/0H1URTtI Dlmqn1r/HGanwjkAjql9ttnsMwqnBQ0ik0ke X-Google-Smtp-Source: AGHT+IEUqW0MHHMNheP63Y97vl08Y00L+fxU87SY4ECETrkG0REli2XHuobVPDFhAQ8x46XH4aUXcmDi0EBU X-Received: by 2002:a17:902:d490:b0:223:fbc7:25f4 with SMTP id d9443c01a7336-22e1e8e8234mr128197185ad.14.1746467534734; Mon, 05 May 2025 10:52:14 -0700 (PDT) Received: from postal.iol.unh.edu (postal.iol.unh.edu. [2606:4100:3880:1234::84]) by smtp-relay.gmail.com with ESMTPS id d9443c01a7336-22e1522b4e6sm16689825ad.78.2025.05.05.10.52.14 (version=TLS1_2 cipher=ECDHE-ECDSA-AES128-GCM-SHA256 bits=128/128); Mon, 05 May 2025 10:52:14 -0700 (PDT) X-Relaying-Domain: iol.unh.edu Date: Mon, 05 May 2025 10:52:14 -0700 (PDT) Message-ID: <6818face.170a0220.1ec5d4.28f4SMTPIN_ADDED_MISSING@mx.google.com> Received: from [172.21.0.5] (unknown [172.18.0.240]) by postal.iol.unh.edu (Postfix) with ESMTP id 33CA16052471; Mon, 5 May 2025 13:52:14 -0400 (EDT) Subject: |SUCCESS| pw153294 [PATCH] [1/1] net/nbl add doc and minimun nbl bui From: dpdklab@iol.unh.edu To: Test Report Cc: dpdk-test-reports@iol.unh.edu In-Reply-To: <20250424114919.10349-1-kyo.liu@nebula-matrix.com> References: <20250424114919.10349-1-kyo.liu@nebula-matrix.com> Content-Type: text/plain X-BeenThere: test-report@dpdk.org X-Mailman-Version: 2.1.29 Precedence: list List-Id: automatic DPDK test reports List-Unsubscribe: , List-Archive: List-Post: List-Help: List-Subscribe: , Errors-To: test-report-bounces@dpdk.org Test-Label: iol-unit-arm64-testing Test-Status: SUCCESS http://dpdk.org/patch/153294 _Testing PASS_ Submitter: Kyo Liu Date: Thursday, April 24 2025 11:49:19 DPDK git baseline: Repo:dpdk Branch: master CommitID:ff05ee3e3f8fb4ce958a2ce6461e8141aea959c6 153294 --> testing pass Upstream job id: Generic-Unit-Test-DPDK#335329 Test environment and result as below: +------------------------+--------------+---------------------------+------------------------------+----------------+ | Environment | lpm_autotest | cryptodev_sw_zuc_autotest | cryptodev_sw_snow3g_autotest | dpdk_unit_test | +========================+==============+===========================+==============================+================+ | Ubuntu 20.04 ARM SVE | PASS | SKIPPED | SKIPPED | SKIPPED | +------------------------+--------------+---------------------------+------------------------------+----------------+ | Debian 12 (arm) | SKIPPED | PASS | PASS | PASS | +------------------------+--------------+---------------------------+------------------------------+----------------+ | CentOS Stream 9 (ARM) | SKIPPED | SKIPPED | SKIPPED | PASS | +------------------------+--------------+---------------------------+------------------------------+----------------+ | CentOS Stream 10 (ARM) | SKIPPED | SKIPPED | SKIPPED | PASS | +------------------------+--------------+---------------------------+------------------------------+----------------+ | Fedora 40 (ARM) | SKIPPED | SKIPPED | SKIPPED | PASS | +------------------------+--------------+---------------------------+------------------------------+----------------+ | Fedora 40 (ARM Clang) | SKIPPED | SKIPPED | SKIPPED | PASS | +------------------------+--------------+---------------------------+------------------------------+----------------+ | Fedora 41 (ARM) | SKIPPED | SKIPPED | SKIPPED | PASS | +------------------------+--------------+---------------------------+------------------------------+----------------+ | RHEL9 (ARM) | SKIPPED | SKIPPED | SKIPPED | PASS | +------------------------+--------------+---------------------------+------------------------------+----------------+ | Fedora 41 (ARM Clang) | SKIPPED | SKIPPED | SKIPPED | PASS | +------------------------+--------------+---------------------------+------------------------------+----------------+ | Ubuntu 22.04 (ARM) | SKIPPED | SKIPPED | SKIPPED | PASS | +------------------------+--------------+---------------------------+------------------------------+----------------+ | Ubuntu 20.04 (ARM) | SKIPPED | SKIPPED | SKIPPED | PASS | +------------------------+--------------+---------------------------+------------------------------+----------------+ | Ubuntu 24.04 (ARM) | SKIPPED | SKIPPED | SKIPPED | PASS | +------------------------+--------------+---------------------------+------------------------------+----------------+ Ubuntu 20.04 ARM SVE Kernel: Depends on container host Compiler: gcc (Ubuntu 10.5.0-1ubuntu1~20.04) 10.5.0 Debian 12 (arm) Kernel: Depends on container host Compiler: gcc (Debian 12.2.0-14) 12.2.0 CentOS Stream 9 (ARM) Kernel: Depends on container host Compiler: gcc 11.5.0 20240719 (Red Hat 11.5.0-2) CentOS Stream 10 (ARM) Kernel: Depends on container host Compiler: gcc 14.2.1 20241104 (Red Hat 14.2.1-6) Fedora 40 (ARM) Kernel: Depends on container host Compiler: gcc 14.2.1 20240912 (Red Hat 14.2.1-3) Fedora 40 (ARM Clang) Kernel: Depends on container host Compiler: clang 18.1.8 (Fedora 18.1.8-1.fc40) Fedora 41 (ARM) Kernel: Depends on container host Compiler: gcc 14.2.1 20240912 (Red Hat 14.2.1-3) RHEL9 (ARM) Kernel: Depends on container host Compiler: gcc 11.5.0 20240719 (Red Hat 11.5.0-2) Fedora 41 (ARM Clang) Kernel: Depends on container host Compiler: clang 19.1.5 (Fedora 19.1.5-1.fc41) Ubuntu 22.04 (ARM) Kernel: Depends on container host Compiler: gcc (Ubuntu 11.4.0-1ubuntu1~22.04) 11.4.0 Ubuntu 20.04 (ARM) Kernel: Depends on container host Compiler: gcc (Ubuntu 9.4.0-1ubuntu1~20.04.2) 9.4.0 Ubuntu 24.04 (ARM) Kernel: Depends on container host Compiler: gcc (Ubuntu 13.3.0-6ubuntu2~24.04) 13.3.0 To view detailed results, visit: https://lab.dpdk.org/results/dashboard/patchsets/33107/ UNH-IOL DPDK Community Lab To manage your email subscriptions, visit: https://lab.dpdk.org/results/dashboard/preferences/subscriptions/