From mboxrd@z Thu Jan 1 00:00:00 1970 Return-Path: Received: from mails.dpdk.org (mails.dpdk.org [217.70.189.124]) by inbox.dpdk.org (Postfix) with ESMTP id 742A6466CF for ; Mon, 5 May 2025 20:14:18 +0200 (CEST) Received: from mails.dpdk.org (localhost [127.0.0.1]) by mails.dpdk.org (Postfix) with ESMTP id 4E2134025D; Mon, 5 May 2025 20:14:18 +0200 (CEST) Received: from mail-pl1-f227.google.com (mail-pl1-f227.google.com [209.85.214.227]) by mails.dpdk.org (Postfix) with ESMTP id 7F6384003C for ; Mon, 5 May 2025 20:14:16 +0200 (CEST) Received: by mail-pl1-f227.google.com with SMTP id d9443c01a7336-2243803b776so23338965ad.0 for ; Mon, 05 May 2025 11:14:16 -0700 (PDT) DKIM-Signature: v=1; a=rsa-sha256; c=relaxed/relaxed; d=iol.unh.edu; s=unh-iol; t=1746468855; x=1747073655; darn=dpdk.org; h=references:in-reply-to:cc:to:from:subject:message-id:date:from:to :cc:subject:date:message-id:reply-to; bh=1iNb4NP7yclM7oCrY+SZIgIrsQUrJz7W/Q784nb/t9g=; b=RSwP01ZhlacCwpfGekLXsy3RG5Fyg0vS8w8u6F41rZbkZRwN8kv5ay572vv6YHSYUN Y0pNV/aOsDYbz83bRiVWa6ZWO/XKZMUmZLLvWxRUxk02DyVD9iTYFgmxPfXCKJvhfVuj pzH0S05PUKPTNziNihpNp/rh0jQKZL6Bvprrs= X-Google-DKIM-Signature: v=1; a=rsa-sha256; c=relaxed/relaxed; d=1e100.net; s=20230601; t=1746468855; x=1747073655; h=references:in-reply-to:cc:to:from:subject:message-id:date :x-gm-message-state:from:to:cc:subject:date:message-id:reply-to; bh=1iNb4NP7yclM7oCrY+SZIgIrsQUrJz7W/Q784nb/t9g=; b=nI/8z0ja1oxVEp9hYKBHZ+P6xXezd1xY0sNdXOPQXFlV3W9dvaRAMzMX7pE5snfpz3 Zf7dEZlTqlm0DX8u+tONq5H7tdS3bPuwsoIJcmlaqMF0OwuqOK4vulOCEIOuzR8JQFux lZMbSZlWt5zF3X4RBEjAFz11XAgwGhebx/HSJrGyXgxjZAKY9w+sZosaK85fupD2CDYe 4pY/rQVlUvpTvWOITwRm6AwkA+Md9QMIN4I7D0kW3JJ1ivzSLSwWqq43cXK9fSdtN0Nd 1I04HHfRGi8y2fFnA+KJQZaWcmnXMoumkjAnIWPYx5IyxMoyd57IescaXGk+AsqkrUe1 RBiA== X-Gm-Message-State: AOJu0YzjtMDNIua1hfkmB6iCshwhgIRZvLje0ssTA42fGW0nMWBJmdk1 eyp0rRaQj/BVeiYYAFEUknW87Wqnw1p6fBLhYAaeanbBMNdbv0woojUkF/vcHMj0csb0p9Mf/vV BT4tMdqjzVpaoodwdPfe/SIwAf7WjwG18mMWcKJE+NMQ+yhUgiIQc0QBn X-Gm-Gg: ASbGncuvBdUh182B+iKJOn8R09Nx/wb+Jb49Bsy/viK/igg+ndlpoZ27ChVkzj+tpVq p9KZKRhvsL5OshqjOQWruOj1Qf6FDTRXqdXMsE7nyIPSZ8VZj0jReQgy5OpVKLCzr2xVJVAbs3S 1oH6Cv0Gy2/KE5vOmxd+zUb+i3MxGZUcH5jBd5YgE/NUjSZzsHAfESNBA5oTcFDRGOaNf9XhVOO fLcGTQLgKDBp8RBvPcqpuibCM9QJRyyXU1eJ7psDfXswuBe8ZF2q14IgIiejsmneqMVdYzDP0ua 6pvxmYeaU1pNC6Ff+R328rf94sWxQVWz95vp X-Google-Smtp-Source: AGHT+IGE74JlN+CyB8LIV7KTVcRvKUbOflnO5A0VitVS5HH2Wrq/gLuiKn7leu7WXeRR1K10QnrVtN1MWPvR X-Received: by 2002:a17:903:1788:b0:224:76f:9e44 with SMTP id d9443c01a7336-22e35faab37mr590925ad.8.1746468855546; Mon, 05 May 2025 11:14:15 -0700 (PDT) Received: from postal.iol.unh.edu (postal.iol.unh.edu. [2606:4100:3880:1234::84]) by smtp-relay.gmail.com with ESMTPS id d9443c01a7336-22e150eb2e0sm17183925ad.3.2025.05.05.11.14.15 (version=TLS1_2 cipher=ECDHE-ECDSA-AES128-GCM-SHA256 bits=128/128); Mon, 05 May 2025 11:14:15 -0700 (PDT) X-Relaying-Domain: iol.unh.edu Date: Mon, 05 May 2025 11:14:15 -0700 (PDT) Message-ID: <6818fff7.170a0220.cd379.33c1SMTPIN_ADDED_MISSING@mx.google.com> Received: from [172.21.0.5] (unknown [172.18.0.240]) by postal.iol.unh.edu (Postfix) with ESMTP id 062FB6052471; Mon, 5 May 2025 14:14:15 -0400 (EDT) Subject: |SUCCESS| pw153232-153233 [PATCH] [v6,2/2] drivers: add support for From: dpdklab@iol.unh.edu To: Test Report Cc: dpdk-test-reports@iol.unh.edu In-Reply-To: <20250505055717.3697335-2-kirankumark@marvell.com> References: <20250505055717.3697335-2-kirankumark@marvell.com> Content-Type: text/plain X-BeenThere: test-report@dpdk.org X-Mailman-Version: 2.1.29 Precedence: list List-Id: automatic DPDK test reports List-Unsubscribe: , List-Archive: List-Post: List-Help: List-Subscribe: , Errors-To: test-report-bounces@dpdk.org Test-Label: iol-unit-amd64-testing Test-Status: SUCCESS http://dpdk.org/patch/153233 _Testing PASS_ Submitter: Kiran Kumar Kokkilagadda Date: Monday, May 05 2025 05:57:16 DPDK git baseline: Repo:dpdk Branch: master CommitID:ca1690ebd224f148268285b15b97441ccdbdd07e 153232-153233 --> testing pass Upstream job id: Generic-VM-Unit-Test-DPDK#28322 Test environment and result as below: +---------------------+----------------+ | Environment | dpdk_unit_test | +=====================+================+ | CentOS Stream 9 | PASS | +---------------------+----------------+ | Fedora 40 | PASS | +---------------------+----------------+ | CentOS Stream 10 | PASS | +---------------------+----------------+ | Debian 12 | PASS | +---------------------+----------------+ | Fedora 40 (Clang) | PASS | +---------------------+----------------+ | RHEL8 | PASS | +---------------------+----------------+ | Fedora 41 | PASS | +---------------------+----------------+ | Fedora 41 (Clang) | PASS | +---------------------+----------------+ | Ubuntu 20.04 | PASS | +---------------------+----------------+ | Ubuntu 22.04 | PASS | +---------------------+----------------+ | Ubuntu 24.04 | PASS | +---------------------+----------------+ | RHEL9 | PASS | +---------------------+----------------+ | Windows Server 2022 | PASS | +---------------------+----------------+ CentOS Stream 9 Kernel: Depends on container host Compiler: gcc 11.5.0 20240719 (Red Hat 11.5.0-2) Fedora 40 Kernel: Depends on container host Compiler: gcc 14.2.1 20240912 (Red Hat 14.2.1-3) CentOS Stream 10 Kernel: Depends on container host Compiler: gcc 14.2.1 20241104 (Red Hat 14.2.1-6) Debian 12 Kernel: Depends on container host Compiler: gcc (Debian 12.2.0-14) 12.2.0 Fedora 40 (Clang) Kernel: Depends on container host Compiler: clang 18.1.8 (Fedora 18.1.8-1.fc40) RHEL8 Kernel: Depends on container host Compiler: gcc 8.5.0 20210514 (Red Hat 8.5.0-22) Fedora 41 Kernel: Depends on container host Compiler: gcc 14.2.1 20240912 (Red Hat 14.2.1-3) Fedora 41 (Clang) Kernel: Depends on container host Compiler: clang 19.1.5 (Fedora 19.1.5-1.fc41) Ubuntu 20.04 Kernel: Depends on container host Compiler: gcc (Ubuntu 9.4.0-1ubuntu1~20.04.2) 9.4.0 Ubuntu 22.04 Kernel: Depends on container host Compiler: gcc (Ubuntu 11.4.0-1ubuntu1~22.04) 11.4.0 Ubuntu 24.04 Kernel: Depends on container host Compiler: gcc (Ubuntu 13.3.0-6ubuntu2~24.04) 13.3.0 RHEL9 Kernel: Depends on container host Compiler: gcc 11.5.0 20240719 (Red Hat 11.5.0-2) Windows Server 2022 Kernel: 10.0.20348.2031 Compiler: clang 15.0.7, gcc 14.1.0 (MinGW), and MSVC VS 19.39.33521 To view detailed results, visit: https://lab.dpdk.org/results/dashboard/patchsets/33101/ UNH-IOL DPDK Community Lab To manage your email subscriptions, visit: https://lab.dpdk.org/results/dashboard/preferences/subscriptions/