From mboxrd@z Thu Jan 1 00:00:00 1970 Return-Path: Received: from mails.dpdk.org (mails.dpdk.org [217.70.189.124]) by inbox.dpdk.org (Postfix) with ESMTP id 7FB0B466CF for ; Mon, 5 May 2025 20:15:49 +0200 (CEST) Received: from mails.dpdk.org (localhost [127.0.0.1]) by mails.dpdk.org (Postfix) with ESMTP id 78CAC4025D; Mon, 5 May 2025 20:15:49 +0200 (CEST) Received: from mail-qv1-f97.google.com (mail-qv1-f97.google.com [209.85.219.97]) by mails.dpdk.org (Postfix) with ESMTP id 1F1744003C for ; Mon, 5 May 2025 20:15:48 +0200 (CEST) Received: by mail-qv1-f97.google.com with SMTP id 6a1803df08f44-6ed16ce246bso29403246d6.3 for ; Mon, 05 May 2025 11:15:48 -0700 (PDT) DKIM-Signature: v=1; a=rsa-sha256; c=relaxed/relaxed; d=iol.unh.edu; s=unh-iol; t=1746468947; x=1747073747; darn=dpdk.org; h=references:in-reply-to:cc:to:from:subject:message-id:date:from:to :cc:subject:date:message-id:reply-to; bh=RhLnZCGFyG9q8g5kL8nwWTFV0CKF05zQuOxOuySqTpg=; b=BcqWSutSdryvLoNY+Mlf0M2nSGRuSN9aIGe5FQfttYiyeospfApPTHhn0KxpR+twLY YqKNki/ScOGSYxPiDPED5ZYwom1v3xTV7/yeGbyY+JZamFpzx7QGfCxrPavEjb7Y6zTe 8l6Gn/NnBjw8lpBZC9RiH33RAI/oqwE2OQ9a0= X-Google-DKIM-Signature: v=1; a=rsa-sha256; c=relaxed/relaxed; d=1e100.net; s=20230601; t=1746468947; x=1747073747; h=references:in-reply-to:cc:to:from:subject:message-id:date :x-gm-message-state:from:to:cc:subject:date:message-id:reply-to; bh=RhLnZCGFyG9q8g5kL8nwWTFV0CKF05zQuOxOuySqTpg=; b=qy1G7EpvTVyOFDEPupFfGkwW44enzJVwcdRDWc2iba89B5MG/71mqA8ADcssq2EfBR yY23uETNavL5JKPL1aeVOixu3MhBmpLQ2NVfuuy3p+RL7Uvs3uXE0yxQIL8cjIwJqzCY E20qUSmRf8JJWz64hZnLmWBzOvYiOWj1bG5652jB/XPonDfZt5WJ5ym3TZifum70Vyiu 9MhV/jZjSQqb+doyrcV3WTuTUQPlfzr5eCDi2AJ28viHaSFgke4/uJcWZBdym94aeIfc mUF+uYesXKCWnmDm0B6MoMUIMdA73eBqo2oqo0KfAflhsH5ieCULou6X25I/Hf8NXIcy Ec5Q== X-Gm-Message-State: AOJu0Yz3hLgYgHEwSduVSfpeJXLb1XanrNLS1H5MGzh+LBq5LiIYbSCD oXgmfAvrYJGfJrwMslXsuZOlVLCVH9j+HFcgq+xBHx5HQwbiz6j7/KV6Z7Ts7JSwf/8BeJXyCVB Xp6BK25RzkdfpyhEvDLUfkCFQGkgHVpe1ecoiQgdyZpNBQoe2K4erJIc/ X-Gm-Gg: ASbGncs/Dh7nafPwMfN/EDWVTELLtj5oBZCNjjifM1MLSFS/ZQAXblveVJFnPHmtA// shfQuU+Cw/W31/mnNIrUhNhx16B00evwBmuBRJo2qeqCWz4+rdew049W/CwJH4XYr8lf8jnVIPI TWSLY5Nsin6aQo4ouaAErjw2gKcb/cqNgpVgeoO43yR0ogjDjE93jDlbfI2KsfplNRXOWQ8T6NQ mpvv39pLJwI2pruzxtBQoT0ZjBUL6aDp2GCQbUj8M2A+5phjfC1WdvTX4P88C9v9WVMX3dLxJ7i J2u5rTr+HoreB/RrcbSDJeGKQUbQUUEUI77v X-Google-Smtp-Source: AGHT+IHp5hwET/b1ehQGZP1/x7ZpqbTXltq5jaWK/Ryw48D+1bIz1KHPu+/UUwOclv7M9yXquLmB760G994l X-Received: by 2002:ad4:5d4a:0:b0:6e8:fe16:4d4f with SMTP id 6a1803df08f44-6f528c9a8abmr108627246d6.26.1746468947418; Mon, 05 May 2025 11:15:47 -0700 (PDT) Received: from postal.iol.unh.edu (postal.iol.unh.edu. [2606:4100:3880:1234::84]) by smtp-relay.gmail.com with ESMTPS id 6a1803df08f44-6f50f3d02ffsm22482446d6.30.2025.05.05.11.15.47 (version=TLS1_2 cipher=ECDHE-ECDSA-AES128-GCM-SHA256 bits=128/128); Mon, 05 May 2025 11:15:47 -0700 (PDT) X-Relaying-Domain: iol.unh.edu Date: Mon, 05 May 2025 11:15:47 -0700 (PDT) Message-ID: <68190053.050a0220.16cac8.6f26SMTPIN_ADDED_MISSING@mx.google.com> Received: from [172.21.0.6] (unknown [172.18.0.240]) by postal.iol.unh.edu (Postfix) with ESMTP id 2F3856052471; Mon, 5 May 2025 14:15:47 -0400 (EDT) Subject: |SUCCESS| pw153294 [PATCH] [1/1] net/nbl add doc and minimun nbl bui From: dpdklab@iol.unh.edu To: Test Report Cc: dpdk-test-reports@iol.unh.edu In-Reply-To: <20250424114919.10349-1-kyo.liu@nebula-matrix.com> References: <20250424114919.10349-1-kyo.liu@nebula-matrix.com> Content-Type: text/plain X-BeenThere: test-report@dpdk.org X-Mailman-Version: 2.1.29 Precedence: list List-Id: automatic DPDK test reports List-Unsubscribe: , List-Archive: List-Post: List-Help: List-Subscribe: , Errors-To: test-report-bounces@dpdk.org Test-Label: iol-unit-amd64-testing Test-Status: SUCCESS http://dpdk.org/patch/153294 _Testing PASS_ Submitter: Kyo Liu Date: Thursday, April 24 2025 11:49:19 DPDK git baseline: Repo:dpdk Branch: master CommitID:ff05ee3e3f8fb4ce958a2ce6461e8141aea959c6 153294 --> testing pass Upstream job id: Generic-Unit-Test-DPDK#335313 Test environment and result as below: +-------------------+----------------+ | Environment | dpdk_unit_test | +===================+================+ | CentOS Stream 9 | PASS | +-------------------+----------------+ | CentOS Stream 10 | PASS | +-------------------+----------------+ | Fedora 40 | PASS | +-------------------+----------------+ | Debian 12 | PASS | +-------------------+----------------+ | Fedora 40 (Clang) | PASS | +-------------------+----------------+ | Fedora 41 (Clang) | PASS | +-------------------+----------------+ | RHEL8 | PASS | +-------------------+----------------+ | Fedora 41 | PASS | +-------------------+----------------+ | Ubuntu 20.04 | PASS | +-------------------+----------------+ | Ubuntu 22.04 | PASS | +-------------------+----------------+ | RHEL9 | PASS | +-------------------+----------------+ | Ubuntu 24.04 | PASS | +-------------------+----------------+ CentOS Stream 9 Kernel: Depends on container host Compiler: gcc 11.5.0 20240719 (Red Hat 11.5.0-2) CentOS Stream 10 Kernel: Depends on container host Compiler: gcc 14.2.1 20241104 (Red Hat 14.2.1-6) Fedora 40 Kernel: Depends on container host Compiler: gcc 14.2.1 20240912 (Red Hat 14.2.1-3) Debian 12 Kernel: Depends on container host Compiler: gcc (Debian 12.2.0-14) 12.2.0 Fedora 40 (Clang) Kernel: Depends on container host Compiler: clang 18.1.8 (Fedora 18.1.8-1.fc40) Fedora 41 (Clang) Kernel: Depends on container host Compiler: clang 19.1.5 (Fedora 19.1.5-1.fc41) RHEL8 Kernel: Depends on container host Compiler: gcc 8.5.0 20210514 (Red Hat 8.5.0-22) Fedora 41 Kernel: Depends on container host Compiler: gcc 14.2.1 20240912 (Red Hat 14.2.1-3) Ubuntu 20.04 Kernel: Depends on container host Compiler: gcc (Ubuntu 9.4.0-1ubuntu1~20.04.2) 9.4.0 Ubuntu 22.04 Kernel: Depends on container host Compiler: gcc (Ubuntu 11.4.0-1ubuntu1~22.04) 11.4.0 RHEL9 Kernel: Depends on container host Compiler: gcc 11.5.0 20240719 (Red Hat 11.5.0-2) Ubuntu 24.04 Kernel: Depends on container host Compiler: gcc (Ubuntu 13.3.0-6ubuntu2~24.04) 13.3.0 To view detailed results, visit: https://lab.dpdk.org/results/dashboard/patchsets/33107/ UNH-IOL DPDK Community Lab To manage your email subscriptions, visit: https://lab.dpdk.org/results/dashboard/preferences/subscriptions/